Workbook
Name _80c: [1]Pro!$E$500:INDEX([1]Pro!$E$500:$E$522,COUNTIF([1]Pro!$E$500:$E$522,"?*"))
Name _80c: Sections!$F$7:$F$25
Name _Allowances: DATA!$CJ$11:$CJ$16
Name _BP: DATA!$CP$4:$CP$92
Name _MONTHS: DATA!$CH$11:$CH$22
Name _othersections: [1]Pro!$AB$501:INDEX([1]Pro!$AB$501:$AB$523,COUNTIF([1]Pro!$AB$501:$AB$523,"?*"))
Name _Othersections: Sections!$P$7:$P$28
Name _TEXTMONTHS: DATA!$EJ$3:INDEX(DATA!$EJ$3:$EJ$55,COUNTIF(DATA!$EJ$3:$EJ$55,"?*"))
Name AGE: ANNEXURE!$AL$48:$AL$50
Name FYMONTH: DATA!$CH$11:$CH$22
Name HOUSELOAN: Sections!$P$47:$P$50
Name HouseType: DATA!$BF$13:$BF$14
Name instals: Table!$E$7:$E$34
Name LEAVEMONTHS: DATA!$DW$4:INDEX(DATA!$DW$4:$DW$55,COUNTIF(DATA!$DW$4:$DW$55,"?*"))
Name LTYPE: DATA!$CH$7:$CH$9
Name PFTYPE: DATA!$CS$11:$CS$16
Name taxtype: DATA!$BF$4:$BF$5

Sheet DATA
A1: ="AP INCOME TAX SOFTWARE FOR FY "&CH4&" (AY"&CI4&") TRAIL>>WWW.MEDAKBADI.IN <<< (A4 Size Prints)" -> AP INCOME TAX SOFTWARE FOR FY 2025-2026 (AY2026-2027) TRAIL>>WWW.MEDAKBADI.IN <<< (A4 Size Prints) | Q1: Prepared by (WWW.MEDAKBADI.IN) KOTA VIJAYAKUMAR, GHM Gr-II, ZPHS KOTHLAPUR, MDL&DIST:SANGAREDDY | BK1: 44651 | CH1: FY | CI1: AY | CJ1: UP TO | CT1: DA date wef | CU1: 1 | CV1: 3 | CW1: 2025 | CX1: =TEXT(CW4,"mmm-yyyy") -> Mar-2025 | DM1: without MIN AAS PRO | DN1: =SUMIF($DK$4:$DK$55,"<="&$DT$2,$DM$4:$DM$55) -> 1 | DQ1: AAS | DR1: PRO | DT1: total upto above | DU1: =SUMIF($DK$4:$DK$55,"<="&$DT$2,$DS$4:$DS$55) -> 1 | EG1: =EG5*EH5 -> 900 | EJ1: 1 ST DA | EK1: DA from | EL1: 1 | EM1: 2024 | EN1: =DATE(EM1,EL1,1) -> 45292 | EP1: =EN1 -> 45292 | EQ1: 45930 | ER1: =EOMONTH(EN3,0) -> 45930 | EU1: =EDATE(EP1,6) -> 45474 | EV1: 45808 | EZ1: =EDATE(EU1,6) -> 45658 | FA1: =EOMONTH(EZ1,6) -> 45869 | FE1: =EDATE(EZ1,6) -> 45839 | FF1: =EOMONTH(FE1,6) -> 46053 | FJ1: =EDATE(FE1,6) -> 46023 | FK1: =EOMONTH(FJ1,6) -> 46234
A2: Prepared by WWW.MEDAKBADI.IN (VIJAYA KUMAR KOTA GHM Gr-II, ZPHS KOTHLAPUR, MDL&DIST:SANGAREDDY,TS | X2: IT IS REFERENCE PURPOSE | CH2: 2025 | CI2: =CH3 -> 2026 | CJ2: =EOMONTH(DATE(CH3,2,1),0)+0.002 -> 46081.002 | CP2: =MAX($CP$4:$CP$92) -> 200050 | CV2: Text | DM2: =IFERROR(MATCH(M6,$CU$4:$CU$15,0),"") -> 5 | DR2: =IF(O10=$CS$6,O11,"") | DS2: B.PAY AS ON | DT2: =IFERROR(INDEX($CW$4:$CW$48,MATCH(M4,$CV$4:$CV$48,0),1),CX1) -> 46023 | DU2: =M5 -> 74770 | EK2: to GPF | EL2: 9 | EM2: 2025 | EN2: =DATE(EM2,EL2,1) -> 45901 | EP2: 33.67 | EQ2: 37.31 | ER2: =EQ2-EP2 -> 3.64 | ET2: =EV2-EU2 -> 3.64 | EU2: 30.03 | EV2: 33.67 | EY2: =FA2-EZ2 -> 3.64 | EZ2: 30.03 | FA2: 33.67 | FE2: 33.67 | FF2: 33.67 | FJ2: 33.67 | FK2: 37.31 | FY2: DA Cash wef | FZ2: DA Rates | GA2: PF | GF2: DA from | GG2: DA to | GH2: Diff | GI2: D.A from | GJ2: To GPF | GK2: Cash from | GL2: no of instals of 90% | GM2: 90% Instals Wef
A3: Category (Age): | E3: General (less than 60 years) | H3: To find type ,Enter D.O.B | K3: PAY PARTICULARS | X3: >>> DA ARREARS >>> | AB3: ="DA-"&EQ2 -> DA-37.31 | BQ3: text | BS3: EOL | BW3: final AGI | BX3: EOL | BY3: Final AGI after EOL | CH3: =CH2+1 -> 2026 | CI3: =CI2+1 -> 2027 | CN3: NA | CP3: Pays | CQ3: Scale of Pay | CR3: Min of the scale | CS3: =MATCH(O10,CS4:CS6,0) -> 2 | CU3: NA | CV3: NA | CW3: FROM | CX3: TO | DI3: Two incre on incr date | DK3: FROM | DL3: TO | DM3: Min pay fixation | DQ3: =IFERROR(IF(AND(O6=$CS$8,NOT(O7="")),O7,""),"") | DR3: =IFERROR(DR2,"") | DV3: For dedu on HRA Month | EA3: =EH3 -> W.Days | EE3: HPLS | EF3: Final B,pay | EG3: T.days | EH3: W.Days | EJ3: NA | EK3: bill period | EL3: 9 | EM3: 2025 | EN3: =DATE(EM3,EL3,1) -> 45901 | EP3: PF1 | EQ3: CPS -1 | EU3: PF2 | EV3: CPS-2 | EZ3: PF-3 | FA3: CPS-3 | FE3: PF-4 | FF3: CPS-4 | FJ3: PF-5 | FK3: CPS-5 | FY3: =EN1 -> 45292 | FZ3: 33.67 | GA3: 0 | GF3: 17.29 | GG3: 20.02 | GH3: =IF(GG3="",0,GG3-GF3) -> 2.73 | GI3: 44378 | GJ3: 44926 | GK3: 44562 | GL3: 8 | GM3: 44958
A4: ="If appoint after 1-"&CM17&"-"&CW1&",Date" -> If appoint after 1-Mar-2025,Date | E4: NA | H4: =IFERROR(IF(NOT(I3=""),BF11&"(Age."&BF10&")as on "&TEXT(BF7,"MMM/YY"),""),"") | K4: Select Basic Pay as on | M4: Jan-2026 | N4: If AAS Taken ? | O4: No | X4: Date | Z4: Due to | AA4: Total>>>> | AB4: =SUM(AB6:AB55) -> 0 | AC4: =SUM(AC6:AC55) -> 0 | AD4: =SUM(AD6:AD55) -> 0 | BF4: Old Tax Regime | BJ4: 1 | BK4: =INDEX($C$51:$O$54,1,BJ4) -> HPL's | BL4: =INDEX($C$51:$O$54,2,BJ4) -> 01-03-2025 | BM4: =IF(OR(BK4=0,BK4="NA"),0,INDEX($C$51:$O$54,4,BJ4)) -> 0 | BN4: =SUMIF($BL$4:$BL$15,BL4,$BO$4:$BO4) -> 0 | BO4: =IF(BK4=$CH$8,-BM4*0.5,-BM4) -> 0 | BP4: =IFERROR(INDEX($DF$4:$DF$58,MATCH(BL4,$DW$4:$DW$55,0),1),"") -> 45717 | BQ4: =IFERROR(IF(OR(BL4="",BL4=0),"",TEXT(EOMONTH(BP4,0),"dd-mm-yyyy")),"") -> 31-03-2025 | BS4: =IF(BM4=0,"",IF(BK4=$CH$9,BP4,"")) | BT4: =IFERROR(SMALL($BS$4:$BS$17,CN4),"") | BU4: =IFERROR(IF(COUNTIF($BT$4:BT4,BT4)>1,0,INDEX($BM$4:$BM$17,MATCH(BT4,$BP$4:$BP$17,0),1)),0) -> 0 | BW4: =DC23 -> 45047 | BX4: =SUMIFS($BU$4:$BU$15,$BT$4:$BT$15,"=<"&BW4) -> 0 | BY4: =IFERROR(IF(BW4="","",SUM(BW4+BX4)),"") -> 45047 | CH4: =CH2&"-"&CH3 -> 2025-2026 | CI4: =CI2&"-"&CI3 -> 2026-2027 | CN4: 1 | CP4: 20000 | CQ4: 19000-58850 | CR4: 19000 | CS4: Pro.date | CU4: Jan | CV4: =TEXT(CW4,"mmm-yyyy") -> Mar-2025 | CW4: =IFERROR(IF(CM18="",DATE(CW1,CV1,CU1),CM18),DATE(CW1,CV1,CU1)) -> 45717 | CX4: =EOMONTH(CW4,0) -> 45747 | DB4: MIN | DC4: PRO DATE | DE4: =IFERROR(MATCH(DF4,$DB$23:$DB$37,0),"") | DF4: =CW4 -> 45717 | DG4: =IF(OR($CU$3=$M$6,DE4=""),"","AGI") | DH4: =IFERROR(EOMONTH(DF4,0),"") -> 45747 | DI4: =IFERROR(IF(AND($CS$3=2,DJ4="AGI",INDEX($DJ$4:$DJ$56,MATCH($DR$1,$DJ$4:DJ4,0),1)=$DR$1),2,0),0) -> 0 | DJ4: =IFERROR(IF(AND(NOT($DE$51=""),DK4=$DE$51),$DG$51,IF(AND(NOT($DE$53=""),DK4=$DE$53),$DG$53,INDEX($DG$4:$DG$58,MATCH(DK4,$DF$4:$DF$58,0),1))),"") | DK4: =IFERROR(IF(SMALL($DF$4:$DF$58,CN4)>$CJ$2,"",SMALL($DF$4:$DF$58,CN4)),"") -> 45717 | DL4: =IF(AND(NOT($DE$51=""),DK4=$DE$51),$DH$51,IF(AND(NOT($DE$53=""),DK4=$DE$53),$DH$53,INDEX($DH$4:$DH$58,MATCH(DK4,$DF$4:$DF$58,0),1))) -> 45747 | DM4: =IFERROR(IF($CV$1=$DM$2,0,IF(DI4>0,DI4,IF(OR(AND($CS$3=2,DJ4="PRO"),OR(DJ4="AGI",LEFT(DJ4,3)="AGI",DJ4="AAS")),1,IF(AND($CS$3=1,DJ4="PRO"),2,0)))),0) -> 0 | DN4: =IF(DN1=0,$DU$2,IF(DK4>=$DT$2,MAX($DU$2,INDEX($CP$4:$CP$89,MATCH($DU$2,$CP$4:$CP$89,1)-DN1)),INDEX($CP$4:$CP$89,MATCH($DU$2,$CP$4:$CP$89,1)-DN1))) -> 72810 | DO4: =IFERROR(INDEX($DQ$3:$DR$3,1,MATCH(DJ4,$DQ$1:$DR$1,0)),"") | DP4: =MAX(DN4:DO4) -> 72810 | DQ4: =IFERROR(IF(DO4="","",IF(SUM(MATCH(DP4,$CP$4:$CP$89,0)-MATCH(DP3,$CP$4:$CP$89,0))<=0,"",SUM(MATCH(DP4,$CP$4:$CP$89,0)-MATCH(DP3,$CP$4:$CP$89,0)))),"") | DS4: =IF(DQ4="",DM4,DQ4) -> 0 | DT4: =IF(DU1=0,$DU$2,IF(DK4>=$DT$2,MAX($DU$2,INDEX($CP$4:$CP$89,MATCH($DU$2,$CP$4:$CP$89,1)-DU1)),INDEX($CP$4:$CP$89,MATCH($DU$2,$CP$4:$CP$89,1)-DU1))) -> 72810 | DV4: =IF($N$13="","",IF(AND(NOT($DF$59=""),MATCH($DG$52,$DJ$4:$DJ$55,0)>0,DK4=$DE$51),"HRA-1",IF(AND(NOT($DG$52=""),DJ4=$DG$52),"HRA-2",IF(AND(NOT($DG$54=""),DJ4=$DG$54),"HRA-3","")))) | DW4: =IF(DK4="","",TEXT(DK4,"Dd-MM-YYYY")) -> 01-03-2025 | DX4: =IF(DL4="","",TEXT(DL4,"Dd-MM-YYYY")) -> 31-03-2025 | DY4: =IF(DW4="","",DATE(YEAR(DK4),MONTH(DK4),DAY(DK4))) -> 45717 | DZ4: =IF(DX4="","",DATE(YEAR(DL4),MONTH(DL4),DAY(DL4))) -> 45747 | EA4: =IFERROR(SUM(DZ4-DY4,0)+1,"") -> 31 | EB4: =IFERROR(INDEX($BN$4:$BN$17,MATCH(DW4,$BL$4:$BL$17,0),1),0) -> 0 | EC4: =IFERROR(IF(EB4=0,EA4,MAX(IF(EB4=0.5,EA4/2,EA4+EB4),0)),"") -> 31 | ED4: =IFERROR(INDEX($BK$4:$BK$17,MATCH(DW4,$BL$4:$BL$17,0),1),0) -> HPL's | EE4: =IFERROR(IF(NOT(ED4=$CH$8),0,INDEX($BO$4:$BO$17,MATCH(DW4,$BL$4:$BL$17,0),1)),0) -> 0 | EF4: =IFERROR(IF(AND(LEFT(DJ4,3)="S/L",EH4=15),ROUND(DT4*0.5,0),IF(DJ4=$DJ$59,$DL$61,IF(DJ4=$DJ$64,$DL$66,ROUND(SUM(EH4/EG4)*DT4,0)))),"") -> 72810 | EG4: =IFERROR(DAY(EOMONTH(DK4,0)),"") -> 31 | EH4: =EC4 -> 31 | EJ4: =IF(DK4="","",TEXT(DK4,"MMM-YYYY")) -> Mar-2025 | EP4: =IF($K$40=$EO$57,0,IF(AND(DK4>=EP$1,$DK4<=EQ$1),SUM(ROUND(EF4*$EQ$2%,0)-ROUND(EF4*$EP$2%,0)),0)) -> 0 | EQ4: =IF($K$40=$EO$57,0,IF(AND(DK4>=EP$1,$DK4<=EQ$1),ROUND(EP4*10%,0),0)) -> 0 | EU4: =IF($AR$44=$EO$57,0,IF(AND(DK4>=$EU$1,$DK4<=$EV$1),SUM(ROUND(EF4*$EV$2%,0)-ROUND(EF4*$EU$2%,0)),0)) -> 0 | EV4: =IF($AR$44=$EO$57,0,IF(AND(DK4>=$EU$1,$DK4<=$EV$1),ROUND(EU4*10%,0),0)) -> 0 | EZ4: =IF(AND(DK4>=$EZ$1,$DK4<=$FA$1),ROUND(EF4*$EY$2%,0),0) -> 2650 | FA4: =IF(AND(DK4>=$EZ$1,$DK4<=$FA$1),ROUND(EF4*$FA$2%*10%,0)-(ROUND(EF4*$EZ$2%*10%,0)),0) -> 266 | FY4: 45931 | FZ4: =EQ2 -> 37.31 | GA4: =FZ4-FZ3 -> 3.64 | GF4: 20.02 | GG4: 22.75 | GH4: =IF(GG4="",0,GG4-GF4) -> 2.73 | GI4: 44562 | GJ4: 45077 | GK4: 45078 | GL4: 0
A5: EMPLOYEE DETAILS | B5: Employee Name | D5: Sri/Smt | E5: xyz | K5: ="Basic Pay as on "&M4 -> Basic Pay as on Jan-2026 | M5: 74770 | N5: If yes ,Date | O5: 24.10.2025 | X5: From | Y5: To | AA5: Basic pay | AB5: ="Diff-"&ER2 -> Diff-3.64 | AC5: if CPS 10% | AD5: if CPS 90% | AK5: conditional Just for hide in trail after delete | BF5: New Tax Regime | BJ5: 2 | BK5: =INDEX($C$51:$O$54,1,BJ5) -> 0 | BL5: =INDEX($C$51:$O$54,2,BJ5) -> 0 | BM5: =IF(OR(BK5=0,BK5="NA"),0,INDEX($C$51:$O$54,4,BJ5)) -> 0 | BN5: =SUMIF($BL$4:$BL$15,BL5,$BO$4:$BO5) -> 0 | BO5: =IF(BK5=$CH$8,-BM5*0.5,-BM5) -> 0 | BP5: =IFERROR(INDEX($DF$4:$DF$58,MATCH(BL5,$DW$4:$DW$55,0),1),"") | BQ5: =IFERROR(IF(OR(BL5="",BL5=0),"",TEXT(EOMONTH(BP5,0),"dd-mm-yyyy")),"") | BS5: =IF(BM5=0,"",IF(BK5=$CH$9,BP5,"")) | BT5: =IFERROR(SMALL($BS$4:$BS$17,CN5),"") | BU5: =IFERROR(IF(COUNTIF($BT$4:BT5,BT5)>1,0,INDEX($BM$4:$BM$17,MATCH(BT5,$BP$4:$BP$17,0),1)),0) -> 0 | BW5: =DC24 -> 45413 | BX5: =SUMIFS($BU$4:$BU$15,$BT$4:$BT$15,">="&BY4,$BT$4:$BT$15,"<="&EDATE(BY4,12)) -> 0 | BY5: =IFERROR(IF(BW5="","",EDATE(BY4,12)+BX5),"") -> 45413 | CH5: =TEXT(DATE(CH2,3,1),"DD.MM.YYYY") -> 01.03.2025 | CN5: 2 | CP5: 20600 | CQ5: 19640-60480 | CR5: 19640 | CS5: Increment date | CU5: Feb | CV5: =TEXT(CW5,"mmm-yyyy") -> Apr-2025 | CW5: =IFERROR(EDATE(CW4,1)-DAY(EDATE(CW4,1))+1,"") -> 45748 | CX5: =EOMONTH(CW5,0) -> 45777 | DB5: =IF(O6=$CS$8,1,2) -> 2 | DC5: =IF(CS9=O8,1,IF(OR(CS3=1,CS3=3),2,1)) -> 1 | DE5: =IFERROR(MATCH(DF5,$DB$23:$DB$37,0),"") | DF5: =CW5 -> 45748 | DG5: =IF(OR($CU$3=$M$6,DE5=""),"","AGI") | DH5: =IFERROR(EOMONTH(DF5,0),"") -> 45777 | DI5: =IFERROR(IF(AND($CS$3=2,DJ5="AGI",INDEX($DJ$4:$DJ$56,MATCH($DR$1,$DJ$4:DJ5,0),1)=$DR$1),2,0),0) -> 0 | DJ5: =IFERROR(IF(AND(NOT($DE$51=""),DK5=$DE$51),$DG$51,IF(AND(NOT($DE$53=""),DK5=$DE$53),$DG$53,INDEX($DG$4:$DG$58,MATCH(DK5,$DF$4:$DF$58,0),1))),"") | DK5: =IFERROR(IF(SMALL($DF$4:$DF$58,CN5)>$CJ$2,"",SMALL($DF$4:$DF$58,CN5)),"") -> 45748 | DL5: =IF(AND(NOT($DE$51=""),DK5=$DE$51),$DH$51,IF(AND(NOT($DE$53=""),DK5=$DE$53),$DH$53,INDEX($DH$4:$DH$58,MATCH(DK5,$DF$4:$DF$58,0),1))) -> 45777 | DM5: =IF(DI5>0,DI5,IF(OR(AND($CS$3=2,DJ5="PRO"),OR(DJ5="AGI",LEFT(DJ5,3)="AGI",DJ5="AAS")),1,IF(AND($CS$3=1,DJ5="PRO"),2,0))) -> 0 | DN5: =IF(DN4=$CP$2,$CP$2,IF(DK5>=$DT$2,MAX($DU$2,INDEX($CP$4:$CP$89,MATCH(DN4,$CP$4:$CP$89,1)+DM5)),INDEX($CP$4:$CP$89,MATCH(DN4,$CP$4:$CP$89,1)+DM5))) -> 72810 | DO5: =IFERROR(INDEX($DQ$3:$DR$3,1,MATCH(DJ5,$DQ$1:$DR$1,0)),"") | DP5: =MAX(DP4,DN5:DO5) -> 72810 | DQ5: =IFERROR(IF(DO5="","",IF(SUM(MATCH(DP5,$CP$4:$CP$89,0)-MATCH(DP4,$CP$4:$CP$89,0))<=0,"",SUM(MATCH(DP5,$CP$4:$CP$89,0)-MATCH(DP4,$CP$4:$CP$89,0)))),"") | DS5: =IF(DQ5="",DM5,DQ5) -> 0 | DT5: =IF(DN4=$CP$2,$CP$2,IF(DK5>=$DT$2,MAX($DU$2,INDEX($CP$4:$CP$89,MATCH(DT4,$CP$4:$CP$89,1)+DS5)),INDEX($CP$4:$CP$89,MATCH(DT4,$CP$4:$CP$89,1)+DS5))) -> 72810 | DV5: =IF($N$13="","",IF(AND(NOT($DF$59=""),MATCH($DG$52,$DJ$4:$DJ$55,0)>0,DK5=$DE$51),"HRA-1",IF(AND(NOT($DG$52=""),DJ5=$DG$52),"HRA-2",IF(AND(NOT($DG$54=""),DJ5=$DG$54),"HRA-3","")))) | DW5: =IF(DK5="","",TEXT(DK5,"Dd-MM-YYYY")) -> 01-04-2025 | DX5: =IF(DL5="","",TEXT(DL5,"Dd-MM-YYYY")) -> 30-04-2025 | DY5: =IF(DW5="","",DATE(YEAR(DK5),MONTH(DK5),DAY(DK5))) -> 45748 | DZ5: =IF(DX5="","",DATE(YEAR(DL5),MONTH(DL5),DAY(DL5))) -> 45777 | EA5: =IFERROR(SUM(DZ5-DY5,0)+1,"") -> 30 | EB5: =IFERROR(INDEX($BN$4:$BN$17,MATCH(DW5,$BL$4:$BL$17,0),1),0) -> 0 | EC5: =IFERROR(IF(EB5=0,EA5,MAX(IF(EB5=0.5,EA5/2,EA5+EB5),0)),"") -> 30 | ED5: =IFERROR(INDEX($BK$4:$BK$17,MATCH(DW5,$BL$4:$BL$17,0),1),0) -> 0 | EE5: =IFERROR(IF(NOT(ED5=$CH$8),0,INDEX($BO$4:$BO$17,MATCH(DW5,$BL$4:$BL$17,0),1)),0) -> 0 | EF5: =IFERROR(IF(AND(LEFT(DJ5,3)="S/L",EH5=15),ROUND(DT5*0.5,0),IF(DJ5=$DJ$59,$DL$61,IF(DJ5=$DJ$64,$DL$66,ROUND(SUM(EH5/EG5)*DT5,0)))),"") -> 72810 | EG5: =IFERROR(DAY(EOMONTH(DK5,0)),"") -> 30 | EH5: =EC5 -> 30 | EJ5: =IF(DK5="","",TEXT(DK5,"MMM-YYYY")) -> Apr-2025 | EP5: =IF($K$40=$EO$57,0,IF(AND(DK5>=EP$1,$DK5<=EQ$1),SUM(ROUND(EF5*$EQ$2%,0)-ROUND(EF5*$EP$2%,0)),0)) -> 0 | EQ5: =IF($K$40=$EO$57,0,IF(AND(DK5>=EP$1,$DK5<=EQ$1),ROUND(EP5*10%,0),0)) -> 0 | EU5: =IF($AR$44=$EO$57,0,IF(AND(DK5>=$EU$1,$DK5<=$EV$1),SUM(ROUND(EF5*$EV$2%,0)-ROUND(EF5*$EU$2%,0)),0)) -> 0 | EV5: =IF($AR$44=$EO$57,0,IF(AND(DK5>=$EU$1,$DK5<=$EV$1),ROUND(EU5*10%,0),0)) -> 0 | EZ5: =IF(AND(DK5>=$EZ$1,$DK5<=$FA$1),ROUND(EF5*$EY$2%,0),0) -> 2650 | FA5: =IF(AND(DK5>=$EZ$1,$DK5<=$FA$1),ROUND(EF5*$FA$2%*10%,0)-(ROUND(EF5*$EZ$2%*10%,0)),0) -> 266 | FZ5: =IF($AR$44="N.A",FZ4,EV2) -> 37.31 | GA5: =FZ5-FZ4 -> 0 | GF5: 22.75 | GG5: 26.39 | GH5: =IF(GG5="",0,GG5-GF5) -> 3.64 | GI5: 44743 | GJ5: 45596 | GK5: 45597 | GL5: 17 | GM5: 45292
B6: Employee Designation | E6: SA Maths | K6: Select Increment Month | M6: May | N6: if Basic pay's >1 Incre? | O6: No | X6: =DK4 -> 45717 | Y6: =DL4 -> 45747 | Z6: =DJ4 | AA6: =EF4 -> 72810 | AB6: =EP4 -> 0 | AC6: =EQ4 -> 0 | AD6: =AB6-AC6 -> 0 | BJ6: 3 | BK6: =INDEX($C$51:$O$54,1,BJ6) -> 0 | BL6: =INDEX($C$51:$O$54,2,BJ6) -> 0 | BM6: =IF(OR(BK6=0,BK6="NA"),0,INDEX($C$51:$O$54,4,BJ6)) -> 0 | BN6: =SUMIF($BL$4:$BL$15,BL6,$BO$4:$BO6) -> 0 | BO6: =IF(BK6=$CH$8,-BM6*0.5,-BM6) -> 0 | BP6: =IFERROR(INDEX($DF$4:$DF$58,MATCH(BL6,$DW$4:$DW$55,0),1),"") | BQ6: =IFERROR(IF(OR(BL6="",BL6=0),"",TEXT(EOMONTH(BP6,0),"dd-mm-yyyy")),"") | BS6: =IF(BM6=0,"",IF(BK6=$CH$9,BP6,"")) | BT6: =IFERROR(SMALL($BS$4:$BS$17,CN6),"") | BU6: =IFERROR(IF(COUNTIF($BT$4:BT6,BT6)>1,0,INDEX($BM$4:$BM$17,MATCH(BT6,$BP$4:$BP$17,0),1)),0) -> 0 | BW6: =DC25 -> 45778 | BX6: =SUMIFS($BU$4:$BU$15,$BT$4:$BT$15,">="&BY5,$BT$4:$BT$15,"<="&EDATE(BY5,12)) -> 0 | BY6: =IFERROR(IF(BW6="","",EDATE(BY5,12)+BX6),"") -> 45778 | CK6: NA | CL6: NA | CN6: 3 | CP6: 21200 | CQ6: 20280-62110 | CR6: 20280 | CS6: Intial Fixation | CU6: Mar | CV6: =TEXT(CW6,"mmm-yyyy") -> May-2025 | CW6: =EDATE(CW5,1) -> 45778 | CX6: =EOMONTH(CW6,0) -> 45808 | DA6: INCR | DB6: AAS | DC6: PRO | DE6: =IFERROR(MATCH(DF6,$DB$23:$DB$37,0),"") -> 3 | DF6: =CW6 -> 45778 | DG6: =IF(OR($CU$3=$M$6,DE6=""),"","AGI") -> AGI | DH6: =IFERROR(EOMONTH(DF6,0),"") -> 45808 | DI6: =IFERROR(IF(AND($CS$3=2,DJ6="AGI",INDEX($DJ$4:$DJ$56,MATCH($DR$1,$DJ$4:DJ6,0),1)=$DR$1),2,0),0) -> 0 | DJ6: =IFERROR(IF(AND(NOT($DE$51=""),DK6=$DE$51),$DG$51,IF(AND(NOT($DE$53=""),DK6=$DE$53),$DG$53,INDEX($DG$4:$DG$58,MATCH(DK6,$DF$4:$DF$58,0),1))),"") -> AGI | DK6: =IFERROR(IF(SMALL($DF$4:$DF$58,CN6)>$CJ$2,"",SMALL($DF$4:$DF$58,CN6)),"") -> 45778 | DL6: =IF(AND(NOT($DE$51=""),DK6=$DE$51),$DH$51,IF(AND(NOT($DE$53=""),DK6=$DE$53),$DH$53,INDEX($DH$4:$DH$58,MATCH(DK6,$DF$4:$DF$58,0),1))) -> 45808 | DM6: =IF(DI6>0,DI6,IF(OR(AND($CS$3=2,DJ6="PRO"),OR(DJ6="AGI",LEFT(DJ6,3)="AGI",DJ6="AAS")),1,IF(AND($CS$3=1,DJ6="PRO"),2,0))) -> 1 | DN6: =IF(DN5=$CP$2,$CP$2,IF(DK6>=$DT$2,MAX($DU$2,INDEX($CP$4:$CP$89,MATCH(DN5,$CP$4:$CP$89,1)+DM6)),INDEX($CP$4:$CP$89,MATCH(DN5,$CP$4:$CP$89,1)+DM6))) -> 74770 | DO6: =IFERROR(INDEX($DQ$3:$DR$3,1,MATCH(DJ6,$DQ$1:$DR$1,0)),"") | DP6: =MAX(DP5,DN6:DO6) -> 74770 | DQ6: =IFERROR(IF(DO6="","",IF(SUM(MATCH(DP6,$CP$4:$CP$89,0)-MATCH(DP5,$CP$4:$CP$89,0))<=0,"",SUM(MATCH(DP6,$CP$4:$CP$89,0)-MATCH(DP5,$CP$4:$CP$89,0)))),"") | DS6: =IF(DQ6="",DM6,DQ6) -> 1 | DT6: =IF(DN5=$CP$2,$CP$2,IF(DK6>=$DT$2,MAX($DU$2,INDEX($CP$4:$CP$89,MATCH(DT5,$CP$4:$CP$89,1)+DS6)),INDEX($CP$4:$CP$89,MATCH(DT5,$CP$4:$CP$89,1)+DS6))) -> 74770 | DV6: =IF($N$13="","",IF(AND(NOT($DF$59=""),MATCH($DG$52,$DJ$4:$DJ$55,0)>0,DK6=$DE$51),"HRA-1",IF(AND(NOT($DG$52=""),DJ6=$DG$52),"HRA-2",IF(AND(NOT($DG$54=""),DJ6=$DG$54),"HRA-3","")))) | DW6: =IF(DK6="","",TEXT(DK6,"Dd-MM-YYYY")) -> 01-05-2025 | DX6: =IF(DL6="","",TEXT(DL6,"Dd-MM-YYYY")) -> 31-05-2025 | DY6: =IF(DW6="","",DATE(YEAR(DK6),MONTH(DK6),DAY(DK6))) -> 45778 | DZ6: =IF(DX6="","",DATE(YEAR(DL6),MONTH(DL6),DAY(DL6))) -> 45808 | EA6: =IFERROR(SUM(DZ6-DY6,0)+1,"") -> 31 | EB6: =IFERROR(INDEX($BN$4:$BN$17,MATCH(DW6,$BL$4:$BL$17,0),1),0) -> 0 | EC6: =IFERROR(IF(EB6=0,EA6,MAX(IF(EB6=0.5,EA6/2,EA6+EB6),0)),"") -> 31 | ED6: =IFERROR(INDEX($BK$4:$BK$17,MATCH(DW6,$BL$4:$BL$17,0),1),0) -> 0 | EE6: =IFERROR(IF(NOT(ED6=$CH$8),0,INDEX($BO$4:$BO$17,MATCH(DW6,$BL$4:$BL$17,0),1)),0) -> 0 | EF6: =IFERROR(IF(AND(LEFT(DJ6,3)="S/L",EH6=15),ROUND(DT6*0.5,0),IF(DJ6=$DJ$59,$DL$61,IF(DJ6=$DJ$64,$DL$66,ROUND(SUM(EH6/EG6)*DT6,0)))),"") -> 74770 | EG6: =IFERROR(DAY(EOMONTH(DK6,0)),"") -> 31 | EH6: =EC6 -> 31 | EJ6: =IF(DK6="","",TEXT(DK6,"MMM-YYYY")) -> May-2025 | EP6: =IF($K$40=$EO$57,0,IF(AND(DK6>=EP$1,$DK6<=EQ$1),SUM(ROUND(EF6*$EQ$2%,0)-ROUND(EF6*$EP$2%,0)),0)) -> 0 | EQ6: =IF($K$40=$EO$57,0,IF(AND(DK6>=EP$1,$DK6<=EQ$1),ROUND(EP6*10%,0),0)) -> 0 | EU6: =IF($AR$44=$EO$57,0,IF(AND(DK6>=$EU$1,$DK6<=$EV$1),SUM(ROUND(EF6*$EV$2%,0)-ROUND(EF6*$EU$2%,0)),0)) -> 0 | EV6: =IF($AR$44=$EO$57,0,IF(AND(DK6>=$EU$1,$DK6<=$EV$1),ROUND(EU6*10%,0),0)) -> 0 | EZ6: =IF(AND(DK6>=$EZ$1,$DK6<=$FA$1),ROUND(EF6*$EY$2%,0),0) -> 2722 | FA6: =IF(AND(DK6>=$EZ$1,$DK6<=$FA$1),ROUND(EF6*$FA$2%*10%,0)-(ROUND(EF6*$EZ$2%*10%,0)),0) -> 273 | GF6: =GG5 -> 26.39 | GG6: 30.03 | GH6: =IF(GG6="",0,GG6-GF6) -> 3.64 | GI6: 44927 | GJ6: 45808 | GK6: 45809 | GL6: 28 | GM6: 45839
B7: Working Office/School | E7: ZPHS Marepally | K7: Select P.F Type | M7: CPS | N7: If Yes,Select Basic Pay | O7: 87510 | X7: =DK5 -> 45748 | Y7: =DL5 -> 45777 | Z7: =DJ5 | AA7: =EF5 -> 72810 | AB7: =EP5 -> 0 | AC7: =EQ5 -> 0 | AD7: =AB7-AC7 -> 0 | BF7: =EOMONTH(DATE(CH3,3,1),0) -> 46112 | BJ7: 4 | BK7: =INDEX($C$51:$O$54,1,BJ7) -> 0 | BL7: =INDEX($C$51:$O$54,2,BJ7) -> 0 | BM7: =IF(OR(BK7=0,BK7="NA"),0,INDEX($C$51:$O$54,4,BJ7)) -> 0 | BN7: =SUMIF($BL$4:$BL$15,BL7,$BO$4:$BO7) -> 0 | BO7: =IF(BK7=$CH$8,-BM7*0.5,-BM7) -> 0 | BP7: =IFERROR(INDEX($DF$4:$DF$58,MATCH(BL7,$DW$4:$DW$55,0),1),"") | BQ7: =IFERROR(IF(OR(BL7="",BL7=0),"",TEXT(EOMONTH(BP7,0),"dd-mm-yyyy")),"") | BS7: =IF(BM7=0,"",IF(BK7=$CH$9,BP7,"")) | BT7: =IFERROR(SMALL($BS$4:$BS$17,CN7),"") | BU7: =IFERROR(IF(COUNTIF($BT$4:BT7,BT7)>1,0,INDEX($BM$4:$BM$17,MATCH(BT7,$BP$4:$BP$17,0),1)),0) -> 0 | BW7: =DC26 -> 46143 | BX7: =SUMIFS($BU$4:$BU$15,$BT$4:$BT$15,">="&BY6,$BT$4:$BT$15,"<="&EDATE(BY6,12)) -> 0 | BY7: =IFERROR(IF(BW7="","",EDATE(BY6,12)+BX7),"") -> 46143 | CD7: =Table!BD1 -> 100 | CE7: =Table!BE1 | CF7: =DATE(YEAR(CE7),MONTH(CE7),1) -> #VALUE! | CH7: NA | CK7: SELF | CL7: >=40% | CN7: 4 | CP7: 21800 | CQ7: 21580-65570 | CR7: 21580 | CU7: Apr | CV7: =TEXT(CW7,"mmm-yyyy") -> Jun-2025 | CW7: =EDATE(CW6,1) -> 45809 | CX7: =EOMONTH(CW7,0) -> 45838 | DA7: =CW53 -> 45047 | DB7: =IF(CW49="","",EDATE(CW49,12)-DAY(EDATE(CW49,12))+1) | DC7: =IF(CW50="","",EDATE(CW50,12)-DAY(EDATE(CW50,12))+1) | DE7: =IFERROR(MATCH(DF7,$DB$23:$DB$37,0),"") | DF7: =CW7 -> 45809 | DG7: =IF(OR($CU$3=$M$6,DE7=""),"","AGI") | DH7: =IFERROR(EOMONTH(DF7,0),"") -> 45838 | DI7: =IFERROR(IF(AND($CS$3=2,DJ7="AGI",INDEX($DJ$4:$DJ$56,MATCH($DR$1,$DJ$4:DJ7,0),1)=$DR$1),2,0),0) -> 0 | DJ7: =IFERROR(IF(AND(NOT($DE$51=""),DK7=$DE$51),$DG$51,IF(AND(NOT($DE$53=""),DK7=$DE$53),$DG$53,INDEX($DG$4:$DG$58,MATCH(DK7,$DF$4:$DF$58,0),1))),"") | DK7: =IFERROR(IF(SMALL($DF$4:$DF$58,CN7)>$CJ$2,"",SMALL($DF$4:$DF$58,CN7)),"") -> 45809 | DL7: =IF(AND(NOT($DE$51=""),DK7=$DE$51),$DH$51,IF(AND(NOT($DE$53=""),DK7=$DE$53),$DH$53,INDEX($DH$4:$DH$58,MATCH(DK7,$DF$4:$DF$58,0),1))) -> 45838 | DM7: =IF(DI7>0,DI7,IF(OR(AND($CS$3=2,DJ7="PRO"),OR(DJ7="AGI",LEFT(DJ7,3)="AGI",DJ7="AAS")),1,IF(AND($CS$3=1,DJ7="PRO"),2,0))) -> 0 | DN7: =IF(DN6=$CP$2,$CP$2,IF(DK7>=$DT$2,MAX($DU$2,INDEX($CP$4:$CP$89,MATCH(DN6,$CP$4:$CP$89,1)+DM7)),INDEX($CP$4:$CP$89,MATCH(DN6,$CP$4:$CP$89,1)+DM7))) -> 74770 | DO7: =IFERROR(INDEX($DQ$3:$DR$3,1,MATCH(DJ7,$DQ$1:$DR$1,0)),"") | DP7: =MAX(DP6,DN7:DO7) -> 74770 | DQ7: =IFERROR(IF(DO7="","",IF(SUM(MATCH(DP7,$CP$4:$CP$89,0)-MATCH(DP6,$CP$4:$CP$89,0))<=0,"",SUM(MATCH(DP7,$CP$4:$CP$89,0)-MATCH(DP6,$CP$4:$CP$89,0)))),"") | DS7: =IF(DQ7="",DM7,DQ7) -> 0 | DT7: =IF(DN6=$CP$2,$CP$2,IF(DK7>=$DT$2,MAX($DU$2,INDEX($CP$4:$CP$89,MATCH(DT6,$CP$4:$CP$89,1)+DS7)),INDEX($CP$4:$CP$89,MATCH(DT6,$CP$4:$CP$89,1)+DS7))) -> 74770 | DV7: =IF($N$13="","",IF(AND(NOT($DF$59=""),MATCH($DG$52,$DJ$4:$DJ$55,0)>0,DK7=$DE$51),"HRA-1",IF(AND(NOT($DG$52=""),DJ7=$DG$52),"HRA-2",IF(AND(NOT($DG$54=""),DJ7=$DG$54),"HRA-3","")))) | DW7: =IF(DK7="","",TEXT(DK7,"Dd-MM-YYYY")) -> 01-06-2025 | DX7: =IF(DL7="","",TEXT(DL7,"Dd-MM-YYYY")) -> 30-06-2025 | DY7: =IF(DW7="","",DATE(YEAR(DK7),MONTH(DK7),DAY(DK7))) -> 45809 | DZ7: =IF(DX7="","",DATE(YEAR(DL7),MONTH(DL7),DAY(DL7))) -> 45838 | EA7: =IFERROR(SUM(DZ7-DY7,0)+1,"") -> 30 | EB7: =IFERROR(INDEX($BN$4:$BN$17,MATCH(DW7,$BL$4:$BL$17,0),1),0) -> 0 | EC7: =IFERROR(IF(EB7=0,EA7,MAX(IF(EB7=0.5,EA7/2,EA7+EB7),0)),"") -> 30 | ED7: =IFERROR(INDEX($BK$4:$BK$17,MATCH(DW7,$BL$4:$BL$17,0),1),0) -> 0 | EE7: =IFERROR(IF(NOT(ED7=$CH$8),0,INDEX($BO$4:$BO$17,MATCH(DW7,$BL$4:$BL$17,0),1)),0) -> 0 | EF7: =IFERROR(IF(AND(LEFT(DJ7,3)="S/L",EH7=15),ROUND(DT7*0.5,0),IF(DJ7=$DJ$59,$DL$61,IF(DJ7=$DJ$64,$DL$66,ROUND(SUM(EH7/EG7)*DT7,0)))),"") -> 74770 | EG7: =IFERROR(DAY(EOMONTH(DK7,0)),"") -> 30 | EH7: =EC7 -> 30 | EJ7: =IF(DK7="","",TEXT(DK7,"MMM-YYYY")) -> Jun-2025 | EP7: =IF($K$40=$EO$57,0,IF(AND(DK7>=EP$1,$DK7<=EQ$1),SUM(ROUND(EF7*$EQ$2%,0)-ROUND(EF7*$EP$2%,0)),0)) -> 0 | EQ7: =IF($K$40=$EO$57,0,IF(AND(DK7>=EP$1,$DK7<=EQ$1),ROUND(EP7*10%,0),0)) -> 0 | EU7: =IF($AR$44=$EO$57,0,IF(AND(DK7>=$EU$1,$DK7<=$EV$1),SUM(ROUND(EF7*$EV$2%,0)-ROUND(EF7*$EU$2%,0)),0)) -> 0 | EV7: =IF($AR$44=$EO$57,0,IF(AND(DK7>=$EU$1,$DK7<=$EV$1),ROUND(EU7*10%,0),0)) -> 0 | EZ7: =IF(AND(DK7>=$EZ$1,$DK7<=$FA$1),ROUND(EF7*$EY$2%,0),0) -> 2722 | FA7: =IF(AND(DK7>=$EZ$1,$DK7<=$FA$1),ROUND(EF7*$FA$2%*10%,0)-(ROUND(EF7*$EZ$2%*10%,0)),0) -> 273 | GF7: =GG6 -> 30.03 | GG7: 33.67 | GH7: =IF(GG7="",0,GG7-GF7) -> 3.64 | GI7: 45108
B8: Employee PAN NO | E8: XXX | K8: Addl Incre | N8: Promotion Taken? | O8: No | X8: =DK6 -> 45778 | Y8: =DL6 -> 45808 | Z8: =DJ6 -> AGI | AA8: =EF6 -> 74770 | AB8: =EP6 -> 0 | AC8: =EQ6 -> 0 | AD8: =AB8-AC8 -> 0 | BE8: =DATE(BE12,BE11,BE10) -> #VALUE! | BF8: =DATE(CH3,4,1) -> 46113 | BJ8: 5 | BK8: =INDEX($C$51:$O$54,1,BJ8) -> 0 | BL8: =INDEX($C$51:$O$54,2,BJ8) -> 0 | BM8: =IF(OR(BK8=0,BK8="NA"),0,INDEX($C$51:$O$54,4,BJ8)) -> 0 | BN8: =SUMIF($BL$4:$BL$15,BL8,$BO$4:$BO8) -> 0 | BO8: =IF(BK8=$CH$8,-BM8*0.5,-BM8) -> 0 | BP8: =IFERROR(INDEX($DF$4:$DF$58,MATCH(BL8,$DW$4:$DW$55,0),1),"") | BQ8: =IFERROR(IF(OR(BL8="",BL8=0),"",TEXT(EOMONTH(BP8,0),"dd-mm-yyyy")),"") | BS8: =IF(BM8=0,"",IF(BK8=$CH$9,BP8,"")) | BT8: =IFERROR(SMALL($BS$4:$BS$17,CN8),"") | BU8: =IFERROR(IF(COUNTIF($BT$4:BT8,BT8)>1,0,INDEX($BM$4:$BM$17,MATCH(BT8,$BP$4:$BP$17,0),1)),0) -> 0 | BW8: =DC27 | BX8: =SUMIFS($BU$4:$BU$15,$BT$4:$BT$15,">="&BY7,$BT$4:$BT$15,"<="&EDATE(BY7,12)) -> 0 | BY8: =IFERROR(IF(BW8="","",EDATE(BY7,12)+BX8),"") | CD8: =Table!BD2 -> 100 | CE8: =Table!BE2 | CF8: =IFERROR(DATE(YEAR(CE8),MONTH(CE8),1),"") | CH8: HPL's | CL8: >=80% | CN8: 5 | CP8: 22460 | CQ8: 22240-67300 | CR8: 22240 | CS8: Yes | CU8: May | CV8: =TEXT(CW8,"mmm-yyyy") -> Jul-2025 | CW8: =EDATE(CW7,1) -> 45839 | CX8: =EOMONTH(CW8,0) -> 45869 | DA8: =CW54 -> 45413 | DB8: =IFERROR(EDATE(DB7,12),"") | DC8: =IFERROR(EDATE(DC7,12),"") | DE8: =IFERROR(MATCH(DF8,$DB$23:$DB$37,0),"") | DF8: =CW8 -> 45839 | DG8: =IF(OR($CU$3=$M$6,DE8=""),"","AGI") | DH8: =IFERROR(EOMONTH(DF8,0),"") -> 45869 | DI8: =IFERROR(IF(AND($CS$3=2,DJ8="AGI",INDEX($DJ$4:$DJ$56,MATCH($DR$1,$DJ$4:DJ8,0),1)=$DR$1),2,0),0) -> 0 | DJ8: =IFERROR(IF(AND(NOT($DE$51=""),DK8=$DE$51),$DG$51,IF(AND(NOT($DE$53=""),DK8=$DE$53),$DG$53,INDEX($DG$4:$DG$58,MATCH(DK8,$DF$4:$DF$58,0),1))),"") | DK8: =IFERROR(IF(SMALL($DF$4:$DF$58,CN8)>$CJ$2,"",SMALL($DF$4:$DF$58,CN8)),"") -> 45839 | DL8: =IF(AND(NOT($DE$51=""),DK8=$DE$51),$DH$51,IF(AND(NOT($DE$53=""),DK8=$DE$53),$DH$53,INDEX($DH$4:$DH$58,MATCH(DK8,$DF$4:$DF$58,0),1))) -> 45869 | DM8: =IF(DI8>0,DI8,IF(OR(AND($CS$3=2,DJ8="PRO"),OR(DJ8="AGI",LEFT(DJ8,3)="AGI",DJ8="AAS")),1,IF(AND($CS$3=1,DJ8="PRO"),2,0))) -> 0 | DN8: =IF(DN7=$CP$2,$CP$2,IF(DK8>=$DT$2,MAX($DU$2,INDEX($CP$4:$CP$89,MATCH(DN7,$CP$4:$CP$89,1)+DM8)),INDEX($CP$4:$CP$89,MATCH(DN7,$CP$4:$CP$89,1)+DM8))) -> 74770 | DO8: =IFERROR(INDEX($DQ$3:$DR$3,1,MATCH(DJ8,$DQ$1:$DR$1,0)),"") | DP8: =MAX(DP7,DN8:DO8) -> 74770 | DQ8: =IFERROR(IF(DO8="","",IF(SUM(MATCH(DP8,$CP$4:$CP$89,0)-MATCH(DP7,$CP$4:$CP$89,0))<=0,"",SUM(MATCH(DP8,$CP$4:$CP$89,0)-MATCH(DP7,$CP$4:$CP$89,0)))),"") | DS8: =IF(DQ8="",DM8,DQ8) -> 0 | DT8: =IF(DN7=$CP$2,$CP$2,IF(DK8>=$DT$2,MAX($DU$2,INDEX($CP$4:$CP$89,MATCH(DT7,$CP$4:$CP$89,1)+DS8)),INDEX($CP$4:$CP$89,MATCH(DT7,$CP$4:$CP$89,1)+DS8))) -> 74770 | DV8: =IF($N$13="","",IF(AND(NOT($DF$59=""),MATCH($DG$52,$DJ$4:$DJ$55,0)>0,DK8=$DE$51),"HRA-1",IF(AND(NOT($DG$52=""),DJ8=$DG$52),"HRA-2",IF(AND(NOT($DG$54=""),DJ8=$DG$54),"HRA-3","")))) | DW8: =IF(DK8="","",TEXT(DK8,"Dd-MM-YYYY")) -> 01-07-2025 | DX8: =IF(DL8="","",TEXT(DL8,"Dd-MM-YYYY")) -> 31-07-2025 | DY8: =IF(DW8="","",DATE(YEAR(DK8),MONTH(DK8),DAY(DK8))) -> 45839 | DZ8: =IF(DX8="","",DATE(YEAR(DL8),MONTH(DL8),DAY(DL8))) -> 45869 | EA8: =IFERROR(SUM(DZ8-DY8,0)+1,"") -> 31 | EB8: =IFERROR(INDEX($BN$4:$BN$17,MATCH(DW8,$BL$4:$BL$17,0),1),0) -> 0 | EC8: =IFERROR(IF(EB8=0,EA8,MAX(IF(EB8=0.5,EA8/2,EA8+EB8),0)),"") -> 31 | ED8: =IFERROR(INDEX($BK$4:$BK$17,MATCH(DW8,$BL$4:$BL$17,0),1),0) -> 0 | EE8: =IFERROR(IF(NOT(ED8=$CH$8),0,INDEX($BO$4:$BO$17,MATCH(DW8,$BL$4:$BL$17,0),1)),0) -> 0 | EF8: =IFERROR(IF(AND(LEFT(DJ8,3)="S/L",EH8=15),ROUND(DT8*0.5,0),IF(DJ8=$DJ$59,$DL$61,IF(DJ8=$DJ$64,$DL$66,ROUND(SUM(EH8/EG8)*DT8,0)))),"") -> 74770 | EG8: =IFERROR(DAY(EOMONTH(DK8,0)),"") -> 31 | EH8: =EC8 -> 31 | EJ8: =IF(DK8="","",TEXT(DK8,"MMM-YYYY")) -> Jul-2025 | EP8: =IF($K$40=$EO$57,0,IF(AND(DK8>=EP$1,$DK8<=EQ$1),SUM(ROUND(EF8*$EQ$2%,0)-ROUND(EF8*$EP$2%,0)),0)) -> 0 | EQ8: =IF($K$40=$EO$57,0,IF(AND(DK8>=EP$1,$DK8<=EQ$1),ROUND(EP8*10%,0),0)) -> 0 | EU8: =IF($AR$44=$EO$57,0,IF(AND(DK8>=$EU$1,$DK8<=$EV$1),SUM(ROUND(EF8*$EV$2%,0)-ROUND(EF8*$EU$2%,0)),0)) -> 0 | EV8: =IF($AR$44=$EO$57,0,IF(AND(DK8>=$EU$1,$DK8<=$EV$1),ROUND(EU8*10%,0),0)) -> 0 | EZ8: =IF(AND(DK8>=$EZ$1,$DK8<=$FA$1),ROUND(EF8*$EY$2%,0),0) -> 2722 | FA8: =IF(AND(DK8>=$EZ$1,$DK8<=$FA$1),ROUND(EF8*$FA$2%*10%,0)-(ROUND(EF8*$EZ$2%*10%,0)),0) -> 273 | GF8: =GG7 -> 33.67 | GG8: 37.31 | GH8: =IF(GG8="",0,GG8-GF8) -> 3.64 | GI8: 45292
B9: Treasury ID No | E9: XXX | K9: FPI+PP | N9: If yes ,Date | O9: 24.06.2025 | X9: =DK7 -> 45809 | Y9: =DL7 -> 45838 | Z9: =DJ7 | AA9: =EF7 -> 74770 | AB9: =EP7 -> 0 | AC9: =EQ7 -> 0 | AD9: =AB9-AC9 -> 0 | BE9: DOB | BF9: =I3 -> 0 | BJ9: 6 | BK9: =INDEX($C$51:$O$54,1,BJ9) -> 0 | BL9: =INDEX($C$51:$O$54,2,BJ9) -> 0 | BM9: =IF(OR(BK9=0,BK9="NA"),0,INDEX($C$51:$O$54,4,BJ9)) -> 0 | BN9: =SUMIF($BL$4:$BL$15,BL9,$BO$4:$BO9) -> 0 | BO9: =IF(BK9=$CH$8,-BM9*0.5,-BM9) -> 0 | BP9: =IFERROR(INDEX($DF$4:$DF$58,MATCH(BL9,$DW$4:$DW$55,0),1),"") | BQ9: =IFERROR(IF(OR(BL9="",BL9=0),"",TEXT(EOMONTH(BP9,0),"dd-mm-yyyy")),"") | BS9: =IF(BM9=0,"",IF(BK9=$CH$9,BP9,"")) | BT9: =IFERROR(SMALL($BS$4:$BS$17,CN9),"") | BU9: =IFERROR(IF(COUNTIF($BT$4:BT9,BT9)>1,0,INDEX($BM$4:$BM$17,MATCH(BT9,$BP$4:$BP$17,0),1)),0) -> 0 | BW9: =DC28 | BX9: =SUMIFS($BU$4:$BU$15,$BT$4:$BT$15,">="&BY8,$BT$4:$BT$15,"<="&EDATE(BY8,12)) -> 0 | BY9: =IFERROR(IF(BW9="","",EDATE(BY8,12)+BX9),"") | CH9: EOL's | CN9: 6 | CP9: 23120 | CQ9: 22900-69150 | CR9: 22900 | CS9: No | CU9: Jun | CV9: =TEXT(CW9,"mmm-yyyy") -> Aug-2025 | CW9: =EDATE(CW8,1) -> 45870 | CX9: =EOMONTH(CW9,0) -> 45900 | DA9: =CW55 -> 45778 | DB9: =IFERROR(EDATE(DB8,12),"") | DC9: =IFERROR(EDATE(DC8,12),"") | DE9: =IFERROR(MATCH(DF9,$DB$23:$DB$37,0),"") | DF9: =CW9 -> 45870 | DG9: =IF(OR($CU$3=$M$6,DE9=""),"","AGI") | DH9: =IFERROR(EOMONTH(DF9,0),"") -> 45900 | DI9: =IFERROR(IF(AND($CS$3=2,DJ9="AGI",INDEX($DJ$4:$DJ$56,MATCH($DR$1,$DJ$4:DJ9,0),1)=$DR$1),2,0),0) -> 0 | DJ9: =IFERROR(IF(AND(NOT($DE$51=""),DK9=$DE$51),$DG$51,IF(AND(NOT($DE$53=""),DK9=$DE$53),$DG$53,INDEX($DG$4:$DG$58,MATCH(DK9,$DF$4:$DF$58,0),1))),"") | DK9: =IFERROR(IF(SMALL($DF$4:$DF$58,CN9)>$CJ$2,"",SMALL($DF$4:$DF$58,CN9)),"") -> 45870 | DL9: =IF(AND(NOT($DE$51=""),DK9=$DE$51),$DH$51,IF(AND(NOT($DE$53=""),DK9=$DE$53),$DH$53,INDEX($DH$4:$DH$58,MATCH(DK9,$DF$4:$DF$58,0),1))) -> 45900 | DM9: =IF(DI9>0,DI9,IF(OR(AND($CS$3=2,DJ9="PRO"),OR(DJ9="AGI",LEFT(DJ9,3)="AGI",DJ9="AAS")),1,IF(AND($CS$3=1,DJ9="PRO"),2,0))) -> 0 | DN9: =IF(DN8=$CP$2,$CP$2,IF(DK9>=$DT$2,MAX($DU$2,INDEX($CP$4:$CP$89,MATCH(DN8,$CP$4:$CP$89,1)+DM9)),INDEX($CP$4:$CP$89,MATCH(DN8,$CP$4:$CP$89,1)+DM9))) -> 74770 | DO9: =IFERROR(INDEX($DQ$3:$DR$3,1,MATCH(DJ9,$DQ$1:$DR$1,0)),"") | DP9: =MAX(DP8,DN9:DO9) -> 74770 | DQ9: =IFERROR(IF(DO9="","",IF(SUM(MATCH(DP9,$CP$4:$CP$89,0)-MATCH(DP8,$CP$4:$CP$89,0))<=0,"",SUM(MATCH(DP9,$CP$4:$CP$89,0)-MATCH(DP8,$CP$4:$CP$89,0)))),"") | DS9: =IF(DQ9="",DM9,DQ9) -> 0 | DT9: =IF(DN8=$CP$2,$CP$2,IF(DK9>=$DT$2,MAX($DU$2,INDEX($CP$4:$CP$89,MATCH(DT8,$CP$4:$CP$89,1)+DS9)),INDEX($CP$4:$CP$89,MATCH(DT8,$CP$4:$CP$89,1)+DS9))) -> 74770 | DV9: =IF($N$13="","",IF(AND(NOT($DF$59=""),MATCH($DG$52,$DJ$4:$DJ$55,0)>0,DK9=$DE$51),"HRA-1",IF(AND(NOT($DG$52=""),DJ9=$DG$52),"HRA-2",IF(AND(NOT($DG$54=""),DJ9=$DG$54),"HRA-3","")))) | DW9: =IF(DK9="","",TEXT(DK9,"Dd-MM-YYYY")) -> 01-08-2025 | DX9: =IF(DL9="","",TEXT(DL9,"Dd-MM-YYYY")) -> 31-08-2025 | DY9: =IF(DW9="","",DATE(YEAR(DK9),MONTH(DK9),DAY(DK9))) -> 45870 | DZ9: =IF(DX9="","",DATE(YEAR(DL9),MONTH(DL9),DAY(DL9))) -> 45900 | EA9: =IFERROR(SUM(DZ9-DY9,0)+1,"") -> 31 | EB9: =IFERROR(INDEX($BN$4:$BN$17,MATCH(DW9,$BL$4:$BL$17,0),1),0) -> 0 | EC9: =IFERROR(IF(EB9=0,EA9,MAX(IF(EB9=0.5,EA9/2,EA9+EB9),0)),"") -> 31 | ED9: =IFERROR(INDEX($BK$4:$BK$17,MATCH(DW9,$BL$4:$BL$17,0),1),0) -> 0 | EE9: =IFERROR(IF(NOT(ED9=$CH$8),0,INDEX($BO$4:$BO$17,MATCH(DW9,$BL$4:$BL$17,0),1)),0) -> 0 | EF9: =IFERROR(IF(AND(LEFT(DJ9,3)="S/L",EH9=15),ROUND(DT9*0.5,0),IF(DJ9=$DJ$59,$DL$61,IF(DJ9=$DJ$64,$DL$66,ROUND(SUM(EH9/EG9)*DT9,0)))),"") -> 74770 | EG9: =IFERROR(DAY(EOMONTH(DK9,0)),"") -> 31 | EH9: =EC9 -> 31 | EJ9: =IF(DK9="","",TEXT(DK9,"MMM-YYYY")) -> Aug-2025 | EP9: =IF($K$40=$EO$57,0,IF(AND(DK9>=EP$1,$DK9<=EQ$1),SUM(ROUND(EF9*$EQ$2%,0)-ROUND(EF9*$EP$2%,0)),0)) -> 0 | EQ9: =IF($K$40=$EO$57,0,IF(AND(DK9>=EP$1,$DK9<=EQ$1),ROUND(EP9*10%,0),0)) -> 0 | EU9: =IF($AR$44=$EO$57,0,IF(AND(DK9>=$EU$1,$DK9<=$EV$1),SUM(ROUND(EF9*$EV$2%,0)-ROUND(EF9*$EU$2%,0)),0)) -> 0 | EV9: =IF($AR$44=$EO$57,0,IF(AND(DK9>=$EU$1,$DK9<=$EV$1),ROUND(EU9*10%,0),0)) -> 0 | EZ9: =IF(AND(DK9>=$EZ$1,$DK9<=$FA$1),ROUND(EF9*$EY$2%,0),0) -> 0 | FA9: =IF(AND(DK9>=$EZ$1,$DK9<=$FA$1),ROUND(EF9*$FA$2%*10%,0)-(ROUND(EF9*$EZ$2%*10%,0)),0) -> 0 | FY9: CCA | FZ9: RPS-2020 | GF9: =GG8 -> 37.31 | GG9: 40.04 | GH9: =IF(GG9="",0,GG9-GF9) -> 2.73 | GI9: 45474
B10: If Know ,TSGLI NO | K10: Spl.Pay | N10: FIXATION TYPE | O10: Increment date | X10: =DK8 -> 45839 | Y10: =DL8 -> 45869 | Z10: =DJ8 | AA10: =EF8 -> 74770 | AB10: =EP8 -> 0 | AC10: =EQ8 -> 0 | AD10: =AB10-AC10 -> 0 | BE10: =LEFT(BF9,2) -> 0 | BF10: =IF(I3="","",IFERROR(DATEDIF(BE8, BF8, "y"),DATEDIF(BF9, BF8, "y"))) | BJ10: 7 | BK10: =INDEX($C$51:$O$54,1,BJ10) -> 0 | BL10: =INDEX($C$51:$O$54,2,BJ10) -> 0 | BM10: =IF(OR(BK10=0,BK10="NA"),0,INDEX($C$51:$O$54,4,BJ10)) -> 0 | BN10: =SUMIF($BL$4:$BL$15,BL10,$BO$4:$BO10) -> 0 | BO10: =IF(BK10=$CH$8,-BM10*0.5,-BM10) -> 0 | BP10: =IFERROR(INDEX($DF$4:$DF$58,MATCH(BL10,$DW$4:$DW$55,0),1),"") | BQ10: =IFERROR(IF(OR(BL10="",BL10=0),"",TEXT(EOMONTH(BP10,0),"dd-mm-yyyy")),"") | BS10: =IF(BM10=0,"",IF(BK10=$CH$9,BP10,"")) | BT10: =IFERROR(SMALL($BS$4:$BS$17,CN10),"") | BU10: =IFERROR(IF(COUNTIF($BT$4:BT10,BT10)>1,0,INDEX($BM$4:$BM$17,MATCH(BT10,$BP$4:$BP$17,0),1)),0) -> 0 | BW10: =DC29 | BX10: =SUMIFS($BU$4:$BU$15,$BT$4:$BT$15,">="&BY9,$BT$4:$BT$15,"<="&EDATE(BY9,12)) -> 0 | BY10: =IFERROR(IF(BW10="","",EDATE(BY9,12)+BX10),"") | CE10: Adv.TAX | CN10: 7 | CP10: 23780 | CQ10: 24280-72850 | CR10: 24280 | CU10: Jul | CV10: =TEXT(CW10,"mmm-yyyy") -> Sep-2025 | CW10: =EDATE(CW9,1) -> 45901 | CX10: =EOMONTH(CW10,0) -> 45930 | DA10: =CW56 -> 46143 | DB10: =IFERROR(EDATE(DB9,12),"") | DC10: =IFERROR(EDATE(DC9,12),"") | DE10: =IFERROR(MATCH(DF10,$DB$23:$DB$37,0),"") | DF10: =CW10 -> 45901 | DG10: =IF(OR($CU$3=$M$6,DE10=""),"","AGI") | DH10: =IFERROR(EOMONTH(DF10,0),"") -> 45930 | DI10: =IFERROR(IF(AND($CS$3=2,DJ10="AGI",INDEX($DJ$4:$DJ$56,MATCH($DR$1,$DJ$4:DJ10,0),1)=$DR$1),2,0),0) -> 0 | DJ10: =IFERROR(IF(AND(NOT($DE$51=""),DK10=$DE$51),$DG$51,IF(AND(NOT($DE$53=""),DK10=$DE$53),$DG$53,INDEX($DG$4:$DG$58,MATCH(DK10,$DF$4:$DF$58,0),1))),"") | DK10: =IFERROR(IF(SMALL($DF$4:$DF$58,CN10)>$CJ$2,"",SMALL($DF$4:$DF$58,CN10)),"") -> 45901 | DL10: =IF(AND(NOT($DE$51=""),DK10=$DE$51),$DH$51,IF(AND(NOT($DE$53=""),DK10=$DE$53),$DH$53,INDEX($DH$4:$DH$58,MATCH(DK10,$DF$4:$DF$58,0),1))) -> 45930 | DM10: =IF(DI10>0,DI10,IF(OR(AND($CS$3=2,DJ10="PRO"),OR(DJ10="AGI",LEFT(DJ10,3)="AGI",DJ10="AAS")),1,IF(AND($CS$3=1,DJ10="PRO"),2,0))) -> 0 | DN10: =IF(DN9=$CP$2,$CP$2,IF(DK10>=$DT$2,MAX($DU$2,INDEX($CP$4:$CP$89,MATCH(DN9,$CP$4:$CP$89,1)+DM10)),INDEX($CP$4:$CP$89,MATCH(DN9,$CP$4:$CP$89,1)+DM10))) -> 74770 | DO10: =IFERROR(INDEX($DQ$3:$DR$3,1,MATCH(DJ10,$DQ$1:$DR$1,0)),"") | DP10: =MAX(DP9,DN10:DO10) -> 74770 | DQ10: =IFERROR(IF(DO10="","",IF(SUM(MATCH(DP10,$CP$4:$CP$89,0)-MATCH(DP9,$CP$4:$CP$89,0))<=0,"",SUM(MATCH(DP10,$CP$4:$CP$89,0)-MATCH(DP9,$CP$4:$CP$89,0)))),"") | DS10: =IF(DQ10="",DM10,DQ10) -> 0 | DT10: =IF(DN9=$CP$2,$CP$2,IF(DK10>=$DT$2,MAX($DU$2,INDEX($CP$4:$CP$89,MATCH(DT9,$CP$4:$CP$89,1)+DS10)),INDEX($CP$4:$CP$89,MATCH(DT9,$CP$4:$CP$89,1)+DS10))) -> 74770 | DV10: =IF($N$13="","",IF(AND(NOT($DF$59=""),MATCH($DG$52,$DJ$4:$DJ$55,0)>0,DK10=$DE$51),"HRA-1",IF(AND(NOT($DG$52=""),DJ10=$DG$52),"HRA-2",IF(AND(NOT($DG$54=""),DJ10=$DG$54),"HRA-3","")))) | DW10: =IF(DK10="","",TEXT(DK10,"Dd-MM-YYYY")) -> 01-09-2025 | DX10: =IF(DL10="","",TEXT(DL10,"Dd-MM-YYYY")) -> 30-09-2025 | DY10: =IF(DW10="","",DATE(YEAR(DK10),MONTH(DK10),DAY(DK10))) -> 45901 | DZ10: =IF(DX10="","",DATE(YEAR(DL10),MONTH(DL10),DAY(DL10))) -> 45930 | EA10: =IFERROR(SUM(DZ10-DY10,0)+1,"") -> 30 | EB10: =IFERROR(INDEX($BN$4:$BN$17,MATCH(DW10,$BL$4:$BL$17,0),1),0) -> 0 | EC10: =IFERROR(IF(EB10=0,EA10,MAX(IF(EB10=0.5,EA10/2,EA10+EB10),0)),"") -> 30 | ED10: =IFERROR(INDEX($BK$4:$BK$17,MATCH(DW10,$BL$4:$BL$17,0),1),0) -> 0 | EE10: =IFERROR(IF(NOT(ED10=$CH$8),0,INDEX($BO$4:$BO$17,MATCH(DW10,$BL$4:$BL$17,0),1)),0) -> 0 | EF10: =IFERROR(IF(AND(LEFT(DJ10,3)="S/L",EH10=15),ROUND(DT10*0.5,0),IF(DJ10=$DJ$59,$DL$61,IF(DJ10=$DJ$64,$DL$66,ROUND(SUM(EH10/EG10)*DT10,0)))),"") -> 74770 | EG10: =IFERROR(DAY(EOMONTH(DK10,0)),"") -> 30 | EH10: =EC10 -> 30 | EJ10: =IF(DK10="","",TEXT(DK10,"MMM-YYYY")) -> Sep-2025 | EP10: =IF($K$40=$EO$57,0,IF(AND(DK10>=EP$1,$DK10<=EQ$1),SUM(ROUND(EF10*$EQ$2%,0)-ROUND(EF10*$EP$2%,0)),0)) -> 0 | EQ10: =IF($K$40=$EO$57,0,IF(AND(DK10>=EP$1,$DK10<=EQ$1),ROUND(EP10*10%,0),0)) -> 0 | EU10: =IF($AR$44=$EO$57,0,IF(AND(DK10>=$EU$1,$DK10<=$EV$1),SUM(ROUND(EF10*$EV$2%,0)-ROUND(EF10*$EU$2%,0)),0)) -> 0 | EV10: =IF($AR$44=$EO$57,0,IF(AND(DK10>=$EU$1,$DK10<=$EV$1),ROUND(EU10*10%,0),0)) -> 0 | EZ10: =IF(AND(DK10>=$EZ$1,$DK10<=$FA$1),ROUND(EF10*$EY$2%,0),0) -> 0 | FA10: =IF(AND(DK10>=$EZ$1,$DK10<=$FA$1),ROUND(EF10*$FA$2%*10%,0)-(ROUND(EF10*$EZ$2%*10%,0)),0) -> 0 | FY10: Not Applicable | FZ10: Secret HoDs | GA10: GVMC | GB10: Others | GF10: =GG9 -> 40.04 | GG10: 41.86 | GH10: =IF(GG10="",0,GG10-GF10) -> 1.82 | GI10: 45658
B11: If Know,GPF/CPS NO | K11: Child Fee Concession | N11: if pay fix @Mini | O11: 78820 | X11: =DK9 -> 45870 | Y11: =DL9 -> 45900 | Z11: =DJ9 | AA11: =EF9 -> 74770 | AB11: =EP9 -> 0 | AC11: =EQ9 -> 0 | AD11: =AB11-AC11 -> 0 | BE11: =MID(BF9,4,2) | BF11: =IF(BF10>=60,"Senior Citizens",IF(BF10>=80,"Very Senior Citizens","Gen<60")) -> Senior Citizens | BJ11: 8 | BK11: =INDEX($C$51:$O$54,1,BJ11) -> 0 | BL11: =INDEX($C$51:$O$54,2,BJ11) -> 0 | BM11: =IF(OR(BK11=0,BK11="NA"),0,INDEX($C$51:$O$54,4,BJ11)) -> 0 | BN11: =SUMIF($BL$4:$BL$15,BL11,$BO$4:$BO11) -> 0 | BO11: =IF(BK11=$CH$8,-BM11*0.5,-BM11) -> 0 | BP11: =IFERROR(INDEX($DF$4:$DF$58,MATCH(BL11,$DW$4:$DW$55,0),1),"") | BQ11: =IFERROR(IF(OR(BL11="",BL11=0),"",TEXT(EOMONTH(BP11,0),"dd-mm-yyyy")),"") | BS11: =IF(BM11=0,"",IF(BK11=$CH$9,BP11,"")) | BT11: =IFERROR(SMALL($BS$4:$BS$17,CN11),"") | BU11: =IFERROR(IF(COUNTIF($BT$4:BT11,BT11)>1,0,INDEX($BM$4:$BM$17,MATCH(BT11,$BP$4:$BP$17,0),1)),0) -> 0 | BW11: =DC30 | BX11: =SUMIFS($BU$4:$BU$15,$BT$4:$BT$15,">="&BY10,$BT$4:$BT$15,"<="&EDATE(BY10,12)) -> 0 | BY11: =IFERROR(IF(BW11="","",EDATE(BY10,12)+BX11),"") | CD11: =DATE(CH2,3,1) -> 45717 | CE11: =INDEX($I$36:$I$47,MATCH(CH11,$H$36:$H$47,0),1) -> 0 | CG11: =IFERROR(CD11,CD11) -> 45717 | CH11: =TEXT(CD11,"mmm-yyyy") -> Mar-2025 | CJ11: H.M Allowance | CN11: 8 | CP11: 24500 | CQ11: 26410-78820 | CR11: 26410 | CS11: CPS | CU11: Aug | CV11: =TEXT(CW11,"mmm-yyyy") -> Oct-2025 | CW11: =EDATE(CW10,1) -> 45931 | CX11: =EOMONTH(CW11,0) -> 45961 | DB11: =IFERROR(EDATE(DB10,12),"") | DC11: =IFERROR(EDATE(DC10,12),"") | DE11: =IFERROR(MATCH(DF11,$DB$23:$DB$37,0),"") | DF11: =CW11 -> 45931 | DG11: =IF(OR($CU$3=$M$6,DE11=""),"","AGI") | DH11: =IFERROR(EOMONTH(DF11,0),"") -> 45961 | DI11: =IFERROR(IF(AND($CS$3=2,DJ11="AGI",INDEX($DJ$4:$DJ$56,MATCH($DR$1,$DJ$4:DJ11,0),1)=$DR$1),2,0),0) -> 0 | DJ11: =IFERROR(IF(AND(NOT($DE$51=""),DK11=$DE$51),$DG$51,IF(AND(NOT($DE$53=""),DK11=$DE$53),$DG$53,INDEX($DG$4:$DG$58,MATCH(DK11,$DF$4:$DF$58,0),1))),"") | DK11: =IFERROR(IF(SMALL($DF$4:$DF$58,CN11)>$CJ$2,"",SMALL($DF$4:$DF$58,CN11)),"") -> 45931 | DL11: =IF(AND(NOT($DE$51=""),DK11=$DE$51),$DH$51,IF(AND(NOT($DE$53=""),DK11=$DE$53),$DH$53,INDEX($DH$4:$DH$58,MATCH(DK11,$DF$4:$DF$58,0),1))) -> 45961 | DM11: =IF(DI11>0,DI11,IF(OR(AND($CS$3=2,DJ11="PRO"),OR(DJ11="AGI",LEFT(DJ11,3)="AGI",DJ11="AAS")),1,IF(AND($CS$3=1,DJ11="PRO"),2,0))) -> 0 | DN11: =IF(DN10=$CP$2,$CP$2,IF(DK11>=$DT$2,MAX($DU$2,INDEX($CP$4:$CP$89,MATCH(DN10,$CP$4:$CP$89,1)+DM11)),INDEX($CP$4:$CP$89,MATCH(DN10,$CP$4:$CP$89,1)+DM11))) -> 74770 | DO11: =IFERROR(INDEX($DQ$3:$DR$3,1,MATCH(DJ11,$DQ$1:$DR$1,0)),"") | DP11: =MAX(DP10,DN11:DO11) -> 74770 | DQ11: =IFERROR(IF(DO11="","",IF(SUM(MATCH(DP11,$CP$4:$CP$89,0)-MATCH(DP10,$CP$4:$CP$89,0))<=0,"",SUM(MATCH(DP11,$CP$4:$CP$89,0)-MATCH(DP10,$CP$4:$CP$89,0)))),"") | DS11: =IF(DQ11="",DM11,DQ11) -> 0 | DT11: =IF(DN10=$CP$2,$CP$2,IF(DK11>=$DT$2,MAX($DU$2,INDEX($CP$4:$CP$89,MATCH(DT10,$CP$4:$CP$89,1)+DS11)),INDEX($CP$4:$CP$89,MATCH(DT10,$CP$4:$CP$89,1)+DS11))) -> 74770 | DV11: =IF($N$13="","",IF(AND(NOT($DF$59=""),MATCH($DG$52,$DJ$4:$DJ$55,0)>0,DK11=$DE$51),"HRA-1",IF(AND(NOT($DG$52=""),DJ11=$DG$52),"HRA-2",IF(AND(NOT($DG$54=""),DJ11=$DG$54),"HRA-3","")))) | DW11: =IF(DK11="","",TEXT(DK11,"Dd-MM-YYYY")) -> 01-10-2025 | DX11: =IF(DL11="","",TEXT(DL11,"Dd-MM-YYYY")) -> 31-10-2025 | DY11: =IF(DW11="","",DATE(YEAR(DK11),MONTH(DK11),DAY(DK11))) -> 45931 | DZ11: =IF(DX11="","",DATE(YEAR(DL11),MONTH(DL11),DAY(DL11))) -> 45961 | EA11: =IFERROR(SUM(DZ11-DY11,0)+1,"") -> 31 | EB11: =IFERROR(INDEX($BN$4:$BN$17,MATCH(DW11,$BL$4:$BL$17,0),1),0) -> 0 | EC11: =IFERROR(IF(EB11=0,EA11,MAX(IF(EB11=0.5,EA11/2,EA11+EB11),0)),"") -> 31 | ED11: =IFERROR(INDEX($BK$4:$BK$17,MATCH(DW11,$BL$4:$BL$17,0),1),0) -> 0 | EE11: =IFERROR(IF(NOT(ED11=$CH$8),0,INDEX($BO$4:$BO$17,MATCH(DW11,$BL$4:$BL$17,0),1)),0) -> 0 | EF11: =IFERROR(IF(AND(LEFT(DJ11,3)="S/L",EH11=15),ROUND(DT11*0.5,0),IF(DJ11=$DJ$59,$DL$61,IF(DJ11=$DJ$64,$DL$66,ROUND(SUM(EH11/EG11)*DT11,0)))),"") -> 74770 | EG11: =IFERROR(DAY(EOMONTH(DK11,0)),"") -> 31 | EH11: =EC11 -> 31 | EJ11: =IF(DK11="","",TEXT(DK11,"MMM-YYYY")) -> Oct-2025 | EP11: =IF($K$40=$EO$57,0,IF(AND(DK11>=EP$1,$DK11<=EQ$1),SUM(ROUND(EF11*$EQ$2%,0)-ROUND(EF11*$EP$2%,0)),0)) -> 0 | EQ11: =IF($K$40=$EO$57,0,IF(AND(DK11>=EP$1,$DK11<=EQ$1),ROUND(EP11*10%,0),0)) -> 0 | EU11: =IF($AR$44=$EO$57,0,IF(AND(DK11>=$EU$1,$DK11<=$EV$1),SUM(ROUND(EF11*$EV$2%,0)-ROUND(EF11*$EU$2%,0)),0)) -> 0 | EV11: =IF($AR$44=$EO$57,0,IF(AND(DK11>=$EU$1,$DK11<=$EV$1),ROUND(EU11*10%,0),0)) -> 0 | EZ11: =IF(AND(DK11>=$EZ$1,$DK11<=$FA$1),ROUND(EF11*$EY$2%,0),0) -> 0 | FA11: =IF(AND(DK11>=$EZ$1,$DK11<=$FA$1),ROUND(EF11*$FA$2%*10%,0)-(ROUND(EF11*$EZ$2%*10%,0)),0) -> 0 | FY11: 0 | FZ11: 400 | GA11: 250 | GB11: 200 | GF11: =GG10 -> 41.86 | GG11: 44.59 | GH11: =IF(GG11="",0,GG11-GF11) -> 2.73 | GI11: 45839
A12: DDO DETAILS | B12: DDO NAME | K12: PHC Applicable? | L12: NA | M12: >=40% | N12: Your PHC Allowance | O12: =IF(L12="SELF",2000,0) -> 0 | Q12: ="UPDATED INCOME TAX SOFTWARE FY "&CH4 -> UPDATED INCOME TAX SOFTWARE FY 2025-2026 | X12: =DK10 -> 45901 | Y12: =DL10 -> 45930 | Z12: =DJ10 | AA12: =EF10 -> 74770 | AB12: =EP10 -> 0 | AC12: =EQ10 -> 0 | AD12: =AB12-AC12 -> 0 | BE12: =RIGHT(BF9,4) -> 0 | BJ12: 9 | BK12: =INDEX($C$51:$O$54,1,BJ12) -> 0 | BL12: =INDEX($C$51:$O$54,2,BJ12) -> 0 | BM12: =IF(OR(BK12=0,BK12="NA"),0,INDEX($C$51:$O$54,4,BJ12)) -> 0 | BN12: =SUMIF($BL$4:$BL$15,BL12,$BO$4:$BO12) -> 0 | BO12: =IF(BK12=$CH$8,-BM12*0.5,-BM12) -> 0 | BP12: =IFERROR(INDEX($DF$4:$DF$58,MATCH(BL12,$DW$4:$DW$55,0),1),"") | BQ12: =IFERROR(IF(OR(BL12="",BL12=0),"",TEXT(EOMONTH(BP12,0),"dd-mm-yyyy")),"") | BS12: =IF(BM12=0,"",IF(BK12=$CH$9,BP12,"")) | BT12: =IFERROR(SMALL($BS$4:$BS$17,CN12),"") | BU12: =IFERROR(IF(COUNTIF($BT$4:BT12,BT12)>1,0,INDEX($BM$4:$BM$17,MATCH(BT12,$BP$4:$BP$17,0),1)),0) -> 0 | BW12: =DC31 | BX12: =SUMIFS($BU$4:$BU$15,$BT$4:$BT$15,">="&BY11,$BT$4:$BT$15,"<="&EDATE(BY11,12)) -> 0 | BY12: =IFERROR(IF(BW12="","",EDATE(BY11,12)+BX12),"") | CD12: =EDATE(CD11,1) -> 45748 | CE12: =INDEX($I$36:$I$47,MATCH(CH12,$H$36:$H$47,0),1) -> 0 | CG12: =IFERROR(CD12,CD12) -> 45748 | CH12: =TEXT(CD12,"mmm-yyyy") -> Apr-2025 | CJ12: Uniform Allowance | CN12: 9 | CP12: 25220 | CQ12: 27130-80960 | CR12: 27130 | CS12: ZP GPF | CU12: Sep | CV12: =TEXT(CW12,"mmm-yyyy") -> Nov-2025 | CW12: =EDATE(CW11,1) -> 45962 | CX12: =EOMONTH(CW12,0) -> 45991 | DE12: =IFERROR(MATCH(DF12,$DB$23:$DB$37,0),"") | DF12: =CW12 -> 45962 | DG12: =IF(OR($CU$3=$M$6,DE12=""),"","AGI") | DH12: =IFERROR(EOMONTH(DF12,0),"") -> 45991 | DI12: =IFERROR(IF(AND($CS$3=2,DJ12="AGI",INDEX($DJ$4:$DJ$56,MATCH($DR$1,$DJ$4:DJ12,0),1)=$DR$1),2,0),0) -> 0 | DJ12: =IFERROR(IF(AND(NOT($DE$51=""),DK12=$DE$51),$DG$51,IF(AND(NOT($DE$53=""),DK12=$DE$53),$DG$53,INDEX($DG$4:$DG$58,MATCH(DK12,$DF$4:$DF$58,0),1))),"") | DK12: =IFERROR(IF(SMALL($DF$4:$DF$58,CN12)>$CJ$2,"",SMALL($DF$4:$DF$58,CN12)),"") -> 45962 | DL12: =IF(AND(NOT($DE$51=""),DK12=$DE$51),$DH$51,IF(AND(NOT($DE$53=""),DK12=$DE$53),$DH$53,INDEX($DH$4:$DH$58,MATCH(DK12,$DF$4:$DF$58,0),1))) -> 45991 | DM12: =IF(DI12>0,DI12,IF(OR(AND($CS$3=2,DJ12="PRO"),OR(DJ12="AGI",LEFT(DJ12,3)="AGI",DJ12="AAS")),1,IF(AND($CS$3=1,DJ12="PRO"),2,0))) -> 0 | DN12: =IF(DN11=$CP$2,$CP$2,IF(DK12>=$DT$2,MAX($DU$2,INDEX($CP$4:$CP$89,MATCH(DN11,$CP$4:$CP$89,1)+DM12)),INDEX($CP$4:$CP$89,MATCH(DN11,$CP$4:$CP$89,1)+DM12))) -> 74770 | DO12: =IFERROR(INDEX($DQ$3:$DR$3,1,MATCH(DJ12,$DQ$1:$DR$1,0)),"") | DP12: =MAX(DP11,DN12:DO12) -> 74770 | DQ12: =IFERROR(IF(DO12="","",IF(SUM(MATCH(DP12,$CP$4:$CP$89,0)-MATCH(DP11,$CP$4:$CP$89,0))<=0,"",SUM(MATCH(DP12,$CP$4:$CP$89,0)-MATCH(DP11,$CP$4:$CP$89,0)))),"") | DS12: =IF(DQ12="",DM12,DQ12) -> 0 | DT12: =IF(DN11=$CP$2,$CP$2,IF(DK12>=$DT$2,MAX($DU$2,INDEX($CP$4:$CP$89,MATCH(DT11,$CP$4:$CP$89,1)+DS12)),INDEX($CP$4:$CP$89,MATCH(DT11,$CP$4:$CP$89,1)+DS12))) -> 74770 | DV12: =IF($N$13="","",IF(AND(NOT($DF$59=""),MATCH($DG$52,$DJ$4:$DJ$55,0)>0,DK12=$DE$51),"HRA-1",IF(AND(NOT($DG$52=""),DJ12=$DG$52),"HRA-2",IF(AND(NOT($DG$54=""),DJ12=$DG$54),"HRA-3","")))) | DW12: =IF(DK12="","",TEXT(DK12,"Dd-MM-YYYY")) -> 01-11-2025 | DX12: =IF(DL12="","",TEXT(DL12,"Dd-MM-YYYY")) -> 30-11-2025 | DY12: =IF(DW12="","",DATE(YEAR(DK12),MONTH(DK12),DAY(DK12))) -> 45962 | DZ12: =IF(DX12="","",DATE(YEAR(DL12),MONTH(DL12),DAY(DL12))) -> 45991 | EA12: =IFERROR(SUM(DZ12-DY12,0)+1,"") -> 30 | EB12: =IFERROR(INDEX($BN$4:$BN$17,MATCH(DW12,$BL$4:$BL$17,0),1),0) -> 0 | EC12: =IFERROR(IF(EB12=0,EA12,MAX(IF(EB12=0.5,EA12/2,EA12+EB12),0)),"") -> 30 | ED12: =IFERROR(INDEX($BK$4:$BK$17,MATCH(DW12,$BL$4:$BL$17,0),1),0) -> 0 | EE12: =IFERROR(IF(NOT(ED12=$CH$8),0,INDEX($BO$4:$BO$17,MATCH(DW12,$BL$4:$BL$17,0),1)),0) -> 0 | EF12: =IFERROR(IF(AND(LEFT(DJ12,3)="S/L",EH12=15),ROUND(DT12*0.5,0),IF(DJ12=$DJ$59,$DL$61,IF(DJ12=$DJ$64,$DL$66,ROUND(SUM(EH12/EG12)*DT12,0)))),"") -> 74770 | EG12: =IFERROR(DAY(EOMONTH(DK12,0)),"") -> 30 | EH12: =EC12 -> 30 | EJ12: =IF(DK12="","",TEXT(DK12,"MMM-YYYY")) -> Nov-2025 | EP12: =IF($K$40=$EO$57,0,IF(AND(DK12>=EP$1,$DK12<=EQ$1),SUM(ROUND(EF12*$EQ$2%,0)-ROUND(EF12*$EP$2%,0)),0)) -> 0 | EQ12: =IF($K$40=$EO$57,0,IF(AND(DK12>=EP$1,$DK12<=EQ$1),ROUND(EP12*10%,0),0)) -> 0 | EU12: =IF($AR$44=$EO$57,0,IF(AND(DK12>=$EU$1,$DK12<=$EV$1),SUM(ROUND(EF12*$EV$2%,0)-ROUND(EF12*$EU$2%,0)),0)) -> 0 | EV12: =IF($AR$44=$EO$57,0,IF(AND(DK12>=$EU$1,$DK12<=$EV$1),ROUND(EU12*10%,0),0)) -> 0 | EZ12: =IF(AND(DK12>=$EZ$1,$DK12<=$FA$1),ROUND(EF12*$EY$2%,0),0) -> 0 | FA12: =IF(AND(DK12>=$EZ$1,$DK12<=$FA$1),ROUND(EF12*$FA$2%*10%,0)-(ROUND(EF12*$EZ$2%*10%,0)),0) -> 0 | FY12: 25221 | FZ12: 600 | GA12: 350 | GB12: 300 | GF12: =GG11 -> 44.59 | GH12: =IF(GG12="",0,GG12-GF12) -> 0 | GI12: 46023
B13: DDO DESIGN | K13: Allowances>Changed Dates | M13: =TEXT(DATE(CH2,3,1),"DD.MM.YYYY") -> 01.03.2025 | X13: =DK11 -> 45931 | Y13: =DL11 -> 45961 | Z13: =DJ11 | AA13: =EF11 -> 74770 | AB13: =EP11 -> 0 | AC13: =EQ11 -> 0 | AD13: =AB13-AC13 -> 0 | BF13: Own (Self-Occupied) | BJ13: 10 | BK13: =INDEX($C$51:$O$54,1,BJ13) -> 0 | BL13: =INDEX($C$51:$O$54,2,BJ13) -> 0 | BM13: =IF(OR(BK13=0,BK13="NA"),0,INDEX($C$51:$O$54,4,BJ13)) -> 0 | BN13: =SUMIF($BL$4:$BL$15,BL13,$BO$4:$BO13) -> 0 | BO13: =IF(BK13=$CH$8,-BM13*0.5,-BM13) -> 0 | BP13: =IFERROR(INDEX($DF$4:$DF$58,MATCH(BL13,$DW$4:$DW$55,0),1),"") | BQ13: =IFERROR(IF(OR(BL13="",BL13=0),"",TEXT(EOMONTH(BP13,0),"dd-mm-yyyy")),"") | BS13: =IF(BM13=0,"",IF(BK13=$CH$9,BP13,"")) | BT13: =IFERROR(SMALL($BS$4:$BS$17,CN13),"") | BU13: =IFERROR(IF(COUNTIF($BT$4:BT13,BT13)>1,0,INDEX($BM$4:$BM$17,MATCH(BT13,$BP$4:$BP$17,0),1)),0) -> 0 | BW13: =DC32 | BX13: =SUMIFS($BU$4:$BU$15,$BT$4:$BT$15,">="&BY12,$BT$4:$BT$15,"<="&EDATE(BY12,12)) -> 0 | BY13: =IFERROR(IF(BW13="","",EDATE(BY12,12)+BX13),"") | CD13: =EDATE(CD12,1) -> 45778 | CE13: =INDEX($I$36:$I$47,MATCH(CH13,$H$36:$H$47,0),1) -> 0 | CG13: =IFERROR(CD13,CD13) -> 45778 | CH13: =TEXT(CD13,"mmm-yyyy") -> May-2025 | CJ13: Risk Allowance | CN13: 10 | CP13: 25940 | CQ13: 28630-85240 | CR13: 28630 | CS13: AG GPF | CU13: Oct | CV13: =TEXT(CW13,"mmm-yyyy") -> Dec-2025 | CW13: =EDATE(CW12,1) -> 45992 | CX13: =EOMONTH(CW13,0) -> 46022 | DA13: For final increment dates | DE13: =IFERROR(MATCH(DF13,$DB$23:$DB$37,0),"") | DF13: =CW13 -> 45992 | DG13: =IF(OR($CU$3=$M$6,DE13=""),"","AGI") | DH13: =IFERROR(EOMONTH(DF13,0),"") -> 46022 | DI13: =IFERROR(IF(AND($CS$3=2,DJ13="AGI",INDEX($DJ$4:$DJ$56,MATCH($DR$1,$DJ$4:DJ13,0),1)=$DR$1),2,0),0) -> 0 | DJ13: =IFERROR(IF(AND(NOT($DE$51=""),DK13=$DE$51),$DG$51,IF(AND(NOT($DE$53=""),DK13=$DE$53),$DG$53,INDEX($DG$4:$DG$58,MATCH(DK13,$DF$4:$DF$58,0),1))),"") | DK13: =IFERROR(IF(SMALL($DF$4:$DF$58,CN13)>$CJ$2,"",SMALL($DF$4:$DF$58,CN13)),"") -> 45992 | DL13: =IF(AND(NOT($DE$51=""),DK13=$DE$51),$DH$51,IF(AND(NOT($DE$53=""),DK13=$DE$53),$DH$53,INDEX($DH$4:$DH$58,MATCH(DK13,$DF$4:$DF$58,0),1))) -> 46022 | DM13: =IF(DI13>0,DI13,IF(OR(AND($CS$3=2,DJ13="PRO"),OR(DJ13="AGI",LEFT(DJ13,3)="AGI",DJ13="AAS")),1,IF(AND($CS$3=1,DJ13="PRO"),2,0))) -> 0 | DN13: =IF(DN12=$CP$2,$CP$2,IF(DK13>=$DT$2,MAX($DU$2,INDEX($CP$4:$CP$89,MATCH(DN12,$CP$4:$CP$89,1)+DM13)),INDEX($CP$4:$CP$89,MATCH(DN12,$CP$4:$CP$89,1)+DM13))) -> 74770 | DO13: =IFERROR(INDEX($DQ$3:$DR$3,1,MATCH(DJ13,$DQ$1:$DR$1,0)),"") | DP13: =MAX(DP12,DN13:DO13) -> 74770 | DQ13: =IFERROR(IF(DO13="","",IF(SUM(MATCH(DP13,$CP$4:$CP$89,0)-MATCH(DP12,$CP$4:$CP$89,0))<=0,"",SUM(MATCH(DP13,$CP$4:$CP$89,0)-MATCH(DP12,$CP$4:$CP$89,0)))),"") | DS13: =IF(DQ13="",DM13,DQ13) -> 0 | DT13: =IF(DN12=$CP$2,$CP$2,IF(DK13>=$DT$2,MAX($DU$2,INDEX($CP$4:$CP$89,MATCH(DT12,$CP$4:$CP$89,1)+DS13)),INDEX($CP$4:$CP$89,MATCH(DT12,$CP$4:$CP$89,1)+DS13))) -> 74770 | DV13: =IF($N$13="","",IF(AND(NOT($DF$59=""),MATCH($DG$52,$DJ$4:$DJ$55,0)>0,DK13=$DE$51),"HRA-1",IF(AND(NOT($DG$52=""),DJ13=$DG$52),"HRA-2",IF(AND(NOT($DG$54=""),DJ13=$DG$54),"HRA-3","")))) | DW13: =IF(DK13="","",TEXT(DK13,"Dd-MM-YYYY")) -> 01-12-2025 | DX13: =IF(DL13="","",TEXT(DL13,"Dd-MM-YYYY")) -> 31-12-2025 | DY13: =IF(DW13="","",DATE(YEAR(DK13),MONTH(DK13),DAY(DK13))) -> 45992 | DZ13: =IF(DX13="","",DATE(YEAR(DL13),MONTH(DL13),DAY(DL13))) -> 46022 | EA13: =IFERROR(SUM(DZ13-DY13,0)+1,"") -> 31 | EB13: =IFERROR(INDEX($BN$4:$BN$17,MATCH(DW13,$BL$4:$BL$17,0),1),0) -> 0 | EC13: =IFERROR(IF(EB13=0,EA13,MAX(IF(EB13=0.5,EA13/2,EA13+EB13),0)),"") -> 31 | ED13: =IFERROR(INDEX($BK$4:$BK$17,MATCH(DW13,$BL$4:$BL$17,0),1),0) -> 0 | EE13: =IFERROR(IF(NOT(ED13=$CH$8),0,INDEX($BO$4:$BO$17,MATCH(DW13,$BL$4:$BL$17,0),1)),0) -> 0 | EF13: =IFERROR(IF(AND(LEFT(DJ13,3)="S/L",EH13=15),ROUND(DT13*0.5,0),IF(DJ13=$DJ$59,$DL$61,IF(DJ13=$DJ$64,$DL$66,ROUND(SUM(EH13/EG13)*DT13,0)))),"") -> 74770 | EG13: =IFERROR(DAY(EOMONTH(DK13,0)),"") -> 31 | EH13: =EC13 -> 31 | EJ13: =IF(DK13="","",TEXT(DK13,"MMM-YYYY")) -> Dec-2025 | EP13: =IF($K$40=$EO$57,0,IF(AND(DK13>=EP$1,$DK13<=EQ$1),SUM(ROUND(EF13*$EQ$2%,0)-ROUND(EF13*$EP$2%,0)),0)) -> 0 | EQ13: =IF($K$40=$EO$57,0,IF(AND(DK13>=EP$1,$DK13<=EQ$1),ROUND(EP13*10%,0),0)) -> 0 | EU13: =IF($AR$44=$EO$57,0,IF(AND(DK13>=$EU$1,$DK13<=$EV$1),SUM(ROUND(EF13*$EV$2%,0)-ROUND(EF13*$EU$2%,0)),0)) -> 0 | EV13: =IF($AR$44=$EO$57,0,IF(AND(DK13>=$EU$1,$DK13<=$EV$1),ROUND(EU13*10%,0),0)) -> 0 | EZ13: =IF(AND(DK13>=$EZ$1,$DK13<=$FA$1),ROUND(EF13*$EY$2%,0),0) -> 0 | FA13: =IF(AND(DK13>=$EZ$1,$DK13<=$FA$1),ROUND(EF13*$FA$2%*10%,0)-(ROUND(EF13*$EZ$2%*10%,0)),0) -> 0 | FY13: 44571 | FZ13: 700 | GA13: 450 | GB13: 350 | GF13: =GG12 -> 0 | GH13: =IF(GG13="",0,GG13-GF13) -> 0 | GI13: 46204
B14: DDO OFFICE | K14: ALLOWANCES | M14: ="Select Allowances as on "&M13 -> Select Allowances as on 01.03.2025 | N14: =IF(N13="","Enter date in above cell,if any allowance change.","Select below only changed Allowances as on above date") -> Enter date in above cell,if any allowance change. | O14: =IF(O13="","Enter date in above cell,if any Allow change again","Select below only changed Allow as on above date") -> Enter date in above cell,if any Allow change again | Q14: Check all values with experts | X14: =DK12 -> 45962 | Y14: =DL12 -> 45991 | Z14: =DJ12 | AA14: =EF12 -> 74770 | AB14: =EP12 -> 0 | AC14: =EQ12 -> 0 | AD14: =AB14-AC14 -> 0 | BF14: Rent | BJ14: 11 | BK14: =INDEX($C$51:$O$54,1,BJ14) -> 0 | BL14: =INDEX($C$51:$O$54,2,BJ14) -> 0 | BM14: =IF(OR(BK14=0,BK14="NA"),0,INDEX($C$51:$O$54,4,BJ14)) -> 0 | BN14: =SUMIF($BL$4:$BL$15,BL14,$BO$4:$BO14) -> 0 | BO14: =IF(BK14=$CH$8,-BM14*0.5,-BM14) -> 0 | BP14: =IFERROR(INDEX($DF$4:$DF$58,MATCH(BL14,$DW$4:$DW$55,0),1),"") | BQ14: =IFERROR(IF(OR(BL14="",BL14=0),"",TEXT(EOMONTH(BP14,0),"dd-mm-yyyy")),"") | BS14: =IF(BM14=0,"",IF(BK14=$CH$9,BP14,"")) | BT14: =IFERROR(SMALL($BS$4:$BS$17,CN14),"") | BU14: =IFERROR(IF(COUNTIF($BT$4:BT14,BT14)>1,0,INDEX($BM$4:$BM$17,MATCH(BT14,$BP$4:$BP$17,0),1)),0) -> 0 | BW14: =DC33 | BX14: =SUMIFS($BU$4:$BU$15,$BT$4:$BT$15,">="&BY13,$BT$4:$BT$15,"<="&EDATE(BY13,12)) -> 0 | BY14: =IFERROR(IF(BW14="","",EDATE(BY13,12)+BX14),"") | CD14: =EDATE(CD13,1) -> 45809 | CE14: =INDEX($I$36:$I$47,MATCH(CH14,$H$36:$H$47,0),1) -> 0 | CG14: =IFERROR(CD14,CD14) -> 45809 | CH14: =TEXT(CD14,"mmm-yyyy") -> Jun-2025 | CJ14: C.A Allowance | CN14: 11 | CP14: 26720 | CQ14: 31040-92050 | CR14: 31040 | CS14: IV Class GPF | CU14: Nov | CV14: =TEXT(CW14,"mmm-yyyy") -> Jan-2026 | CW14: =EDATE(CW13,1) -> 46023 | CX14: =EOMONTH(CW14,0) -> 46053 | DA14: INCR | DB14: AAS | DC14: PRO | DE14: =IFERROR(MATCH(DF14,$DB$23:$DB$37,0),"") | DF14: =CW14 -> 46023 | DG14: =IF(OR($CU$3=$M$6,DE14=""),"","AGI") | DH14: =IFERROR(EOMONTH(DF14,0),"") -> 46053 | DI14: =IFERROR(IF(AND($CS$3=2,DJ14="AGI",INDEX($DJ$4:$DJ$56,MATCH($DR$1,$DJ$4:DJ14,0),1)=$DR$1),2,0),0) -> 0 | DJ14: =IFERROR(IF(AND(NOT($DE$51=""),DK14=$DE$51),$DG$51,IF(AND(NOT($DE$53=""),DK14=$DE$53),$DG$53,INDEX($DG$4:$DG$58,MATCH(DK14,$DF$4:$DF$58,0),1))),"") | DK14: =IFERROR(IF(SMALL($DF$4:$DF$58,CN14)>$CJ$2,"",SMALL($DF$4:$DF$58,CN14)),"") -> 46023 | DL14: =IF(AND(NOT($DE$51=""),DK14=$DE$51),$DH$51,IF(AND(NOT($DE$53=""),DK14=$DE$53),$DH$53,INDEX($DH$4:$DH$58,MATCH(DK14,$DF$4:$DF$58,0),1))) -> 46053 | DM14: =IF(DI14>0,DI14,IF(OR(AND($CS$3=2,DJ14="PRO"),OR(DJ14="AGI",LEFT(DJ14,3)="AGI",DJ14="AAS")),1,IF(AND($CS$3=1,DJ14="PRO"),2,0))) -> 0 | DN14: =IF(DN13=$CP$2,$CP$2,IF(DK14>=$DT$2,MAX($DU$2,INDEX($CP$4:$CP$89,MATCH(DN13,$CP$4:$CP$89,1)+DM14)),INDEX($CP$4:$CP$89,MATCH(DN13,$CP$4:$CP$89,1)+DM14))) -> 74770 | DO14: =IFERROR(INDEX($DQ$3:$DR$3,1,MATCH(DJ14,$DQ$1:$DR$1,0)),"") | DP14: =MAX(DP13,DN14:DO14) -> 74770 | DQ14: =IFERROR(IF(DO14="","",IF(SUM(MATCH(DP14,$CP$4:$CP$89,0)-MATCH(DP13,$CP$4:$CP$89,0))<=0,"",SUM(MATCH(DP14,$CP$4:$CP$89,0)-MATCH(DP13,$CP$4:$CP$89,0)))),"") | DS14: =IF(DQ14="",DM14,DQ14) -> 0 | DT14: =IF(DN13=$CP$2,$CP$2,IF(DK14>=$DT$2,MAX($DU$2,INDEX($CP$4:$CP$89,MATCH(DT13,$CP$4:$CP$89,1)+DS14)),INDEX($CP$4:$CP$89,MATCH(DT13,$CP$4:$CP$89,1)+DS14))) -> 74770 | DV14: =IF($N$13="","",IF(AND(NOT($DF$59=""),MATCH($DG$52,$DJ$4:$DJ$55,0)>0,DK14=$DE$51),"HRA-1",IF(AND(NOT($DG$52=""),DJ14=$DG$52),"HRA-2",IF(AND(NOT($DG$54=""),DJ14=$DG$54),"HRA-3","")))) | DW14: =IF(DK14="","",TEXT(DK14,"Dd-MM-YYYY")) -> 01-01-2026 | DX14: =IF(DL14="","",TEXT(DL14,"Dd-MM-YYYY")) -> 31-01-2026 | DY14: =IF(DW14="","",DATE(YEAR(DK14),MONTH(DK14),DAY(DK14))) -> 46023 | DZ14: =IF(DX14="","",DATE(YEAR(DL14),MONTH(DL14),DAY(DL14))) -> 46053 | EA14: =IFERROR(SUM(DZ14-DY14,0)+1,"") -> 31 | EB14: =IFERROR(INDEX($BN$4:$BN$17,MATCH(DW14,$BL$4:$BL$17,0),1),0) -> 0 | EC14: =IFERROR(IF(EB14=0,EA14,MAX(IF(EB14=0.5,EA14/2,EA14+EB14),0)),"") -> 31 | ED14: =IFERROR(INDEX($BK$4:$BK$17,MATCH(DW14,$BL$4:$BL$17,0),1),0) -> 0 | EE14: =IFERROR(IF(NOT(ED14=$CH$8),0,INDEX($BO$4:$BO$17,MATCH(DW14,$BL$4:$BL$17,0),1)),0) -> 0 | EF14: =IFERROR(IF(AND(LEFT(DJ14,3)="S/L",EH14=15),ROUND(DT14*0.5,0),IF(DJ14=$DJ$59,$DL$61,IF(DJ14=$DJ$64,$DL$66,ROUND(SUM(EH14/EG14)*DT14,0)))),"") -> 74770 | EG14: =IFERROR(DAY(EOMONTH(DK14,0)),"") -> 31 | EH14: =EC14 -> 31 | EJ14: =IF(DK14="","",TEXT(DK14,"MMM-YYYY")) -> Jan-2026 | EP14: =IF($K$40=$EO$57,0,IF(AND(DK14>=EP$1,$DK14<=EQ$1),SUM(ROUND(EF14*$EQ$2%,0)-ROUND(EF14*$EP$2%,0)),0)) -> 0 | EQ14: =IF($K$40=$EO$57,0,IF(AND(DK14>=EP$1,$DK14<=EQ$1),ROUND(EP14*10%,0),0)) -> 0 | EU14: =IF($AR$44=$EO$57,0,IF(AND(DK14>=$EU$1,$DK14<=$EV$1),SUM(ROUND(EF14*$EV$2%,0)-ROUND(EF14*$EU$2%,0)),0)) -> 0 | EV14: =IF($AR$44=$EO$57,0,IF(AND(DK14>=$EU$1,$DK14<=$EV$1),ROUND(EU14*10%,0),0)) -> 0 | EZ14: =IF(AND(DK14>=$EZ$1,$DK14<=$FA$1),ROUND(EF14*$EY$2%,0),0) -> 0 | FA14: =IF(AND(DK14>=$EZ$1,$DK14<=$FA$1),ROUND(EF14*$FA$2%*10%,0)-(ROUND(EF14*$EZ$2%*10%,0)),0) -> 0 | FY14: 57101 | FZ14: 1000 | GA14: 700 | GB14: 500
