Workbook
Name _A105635: DATA!$A$45569
Name _A145610: DATA!$45616:$56982
Name _A405635: DATA!$A$45569
Name _A455635: DATA!$A$45569
Name _A95610: DATA!$45616:$56982
Name _azs12: DATA!$AG$17
Name _kkp5: DATA!$AG$28
Name ap47c: '[1] '!$BN$21:$CD$33
Name Numbers: #REF!
Name yxz45: DATA!$Y$17
Name yyy12: DATA!$AG$17
Name zyp2: DATA!$Y$17
Name zyx1: DATA!$Y$17

Sheet DATA
D2: Visit for Update Softwares : | G2: www.teacherNews.in | M2: C Ramanjaneyulu
C4: Employees & Teachers AAS Software
C6: Employees Particulars | I6: Salary Particulars | O6: www.teachernews.in
C7: Name of the Employee | F7: C Ramanjaneyulu | I7: Basic Pay on Completion of AAS Date | O7: AAS SOFTWARE Programme Developed By C.Ramanjaneyulu S.A(P.S) | T7: Designation | U7: SGT/LP/PET | V7: SA/LFL HM | W7: GHM | X7: Junior Assistant | Y7: Record, Lab & Lib
C8: Date of Joining Present Cadre | I8: Before AAS, Scale of Pay | T8: Ordinary | U8: 32670 – 101970 | V8: 44570 – 121280 | W8: 54060 – 133900 | X8: 25220 – 76730 | Y8: 23120 – 70850
C9: Department | E9: Secondary Education | I9: After AAS, Scale of Pay | T9: SG ( 6 years ) | U9: 34580 – 107290 | V9: 45830 – 124380 | W9: 57100 – 140540 | X9: 27500 – 83000 | Y9: 23780 – 72810
C10: Designation | E10: SGT | I10: if any E.O.L peried (in Days ) | M10: 0 | T10: SPP-IA ( 12 years ) | U10: 44570 – 127480 | V10: 54060 – 133900 | W10: 61960 – 144150 | X10: 34580 – 107290 | Y10: 25220 – 76730
C11: School Name | E11: ZP High School | I11: Select PF/ CPS | T11: SPP-IB ( 18 years ) | U11: 44570 – 127480 | V11: 54060 – 133900 | W11: 61960 – 144150 | X11: 34581 – 107290 | Y11: 25221 – 76730
C12: Place of working | E12: Peapully | I12: Date of Increment after AAS | T12: SPP-IIA ( 24 years ) | U12: 54060 – 133900 | V12: 61960 – 144150 | W12: 70850 – 162780 | X12: 44570 – 121280 | Y12: 27500 - 87480
C13: Mandal | E13: Peapully | I13: Employee Treasury Id No. | M13: 093800230 | O13: www.teacherNews.in | T13: SPP-IIB ( 30 years ) | U13: 54061 – 133900 | V13: 61961 – 144150 | W13: 70850 – 162781 | X13: 44571 – 121280 | Y13: 27501 - 87480
C14: Employee Qualification | E14: M.Sc | G14: B.Ed | I14: Depertment Test passed
C15: DDO Particulars | I15: =IF(U154=2,V16,"") -> Did you pass the department test after completing your 12 service?
C16: Name of the Proceedings | E16: Headmaster | I16: =IF(U155=2,"Department Test Attend Date","") | T16: Your Department | V16: =CONCATENATE("Did you pass the department test after completing your ",AT112," service?") -> Did you pass the department test after completing your 12 service?
C17: Name of the DDO | F17: K Chandra Sekhar Rao | I17: =CONCATENATE("Your ",W195," years scale w.e.f ") -> Your 12 years scale w.e.f | M17: =AP120 -> 45872 | T17: Secondary Education
C18: DDO Officie Name | E18: ZP High School | I18: Bill prepared Month | T18: Primary Edcuation
C19: DDO Head Office | E19: Peapully | I19: School / Office Proceeding No | M19: 02/AAS/2024 | T19: Panchayat Raj etc.
C20: District | E20: Nandyal | I20: School / Office Proceeding Date
C21: DDO Qualification | E21: M.Sc | G21: B.Ed | I21: Select HRA | L21: DA | M21: 33.67 | T21: Please Don't Call School Hours
B24: AAS Software Developed by C Ramanjaneyulu SA (PS) - www.teacherNews.in | T24: 9160840947
B26: If You want to Update Softwares, Please Add My WhatsApp Number 9515586494 in Your WhatsApp Groups
AP91: 1 | AQ91: 31
AP92: 2 | AQ92: 28
AP93: 3 | AQ93: 31
AP94: 4 | AQ94: 30
AP95: 5 | AQ95: 31
AP96: 6 | AQ96: 30
AP97: 7 | AQ97: 31
AP98: 8 | AQ98: 31
AP99: 9 | AQ99: 30
AP100: 10 | AQ100: 31
AP101: 11 | AQ101: 30
AP102: 12 | AQ102: 31
AQ103: =VLOOKUP(AS114,AP91:AQ102,2,TRUE) -> 31 | AS103: 1 | AT103: 6 | AU103: 35.952 | AV103: 10 | AW103: ANDRA PRADESH
AO104: 1990 | AP104: =DATE(AO104,AT103,AS103) -> 33025 | AQ104: =TEXT(AP104,"dd/mm/yyyy") -> 01/06/1990 | AS104: 2 | AT104: 12 | AU104: 41.992 | AV104: 12 | AW104: TELANGANA
W105: 1 | X105: 1981 | AO105: DT At, | AP105: =DATE(AN106,AR107,AQ107) -> 45461 | AQ105: =IF(U155=2,TEXT(AP105,"dd/mm/yyyy"),AQ104) -> 01/06/1990 | AS105: 3 | AT105: 16 | AU105: 47.936 | AV105: 16
P106: 1 | U106: 1 | W106: 2 | X106: 1982 | AN106: =VLOOKUP(AS107,S139:X150,6,FALSE) -> 2024 | AO106: =VLOOKUP(AS108,S139:X150,6,FALSE) -> 2024 | AS106: 4 | AT106: 24 | AV106: 24 | AW106: 1 | BB106: =IF(AZ120>=20000,0,IF(AZ120>=15000,150,0)) -> 0 | BC106: =IF(AU120="",0,BB106) -> 0 | BD106: =IF(BE120>=20000,0,IF(BE120>=15000,150,0)) -> 0 | BE106: =IF(AU120="",0,BD106) -> 0
P107: 2 | U107: 2 | W107: 3 | X107: 1983 | AO107: =DATE(AO106,AR108,AQ108) -> 45332 | AP107: =TEXT(AO107,"dd/mm/yyyy") -> 10/02/2024 | AQ107: 18 | AR107: 6 | AS107: 10 | AT107: 1 | AU107: 3 | AV107: 1 | AW107: =VLOOKUP(AW106,AS103:AW104,5,FALSE) -> ANDRA PRADESH | BB107: =IF(AZ121>=20000,0,IF(AZ121>=15000,150,0)) -> 0 | BC107: =IF(AU121="",0,BB107) -> 0 | BD107: =IF(BE121>=20000,0,IF(BE121>=15000,150,0)) -> 0 | BE107: =IF(AU121="",0,BD107) -> 0
P108: 3 | U108: 3 | W108: 4 | X108: 1984 | AA108: 1 | AB108: Head Master | AC108: 1 | AD108: Jan | AI108: =AI110/12 -> 0 | AJ108: =AI108*100 -> 0 | AK108: =INT(AJ108/100) -> 0 | AL108: =INT(AJ108)-AK108*100 -> 0 | AM108: =ROUND(AL108/8,0) -> 0 | AO108: Poc date | AQ108: 10 | AR108: 2 | AS108: 10 | AT108: =VLOOKUP(AT107,AS103:AT106,2,FALSE) -> 6 | AU108: =Q18 -> 0 | AV108: =VLOOKUP(AV107,AS103:AV106,4,FALSE) -> 10 | BB108: =IF(AZ122>=20000,0,IF(AZ122>=15000,150,0)) -> 0 | BC108: =IF(AU122="",0,BB108) -> 0 | BD108: =IF(BE122>=20000,0,IF(BE122>=15000,150,0)) -> 0 | BE108: =IF(AU122="",0,BD108) -> 0
P109: 4 | U109: 4 | W109: 5 | X109: 1985 | AA109: 2 | AB109: S.A.(Maths) | AC109: 2 | AD109: Feb | AI109: Months | AL109: Days | AQ109: 3 | AR109: 8 | AS109: 33 | BB109: =IF(AZ123>=20000,0,IF(AZ123>=15000,150,0)) -> 0 | BC109: =IF(AU123="",0,BB109) -> 0 | BD109: =IF(BE123>=20000,0,IF(BE123>=15000,150,0)) -> 0 | BE109: =IF(AU123="",0,BD109) -> 0
P110: 5 | U110: 5 | W110: 6 | X110: 1986 | AA110: 3 | AB110: S.A.(P.S.) | AC110: 2 | AD110: Mar | AE110: AOL | AF110: =M10 -> 0 | AG110: =AF110/30 -> 0 | AH110: =INT(AG110*100) -> 0 | AI110: =INT(AH110/100) -> 0 | AJ110: =INT(AH110-AI110*100) -> 0 | AK110: =MROUND(AJ110*3,10) -> 0 | AL110: =ROUND(INT(AK110/10),0) -> 0 | AP110: =TODAY() -> 45872 | BB110: =IF(AZ124>=20000,0,IF(AZ124>=15000,150,0)) -> 0 | BC110: =IF(AU124="",0,BB110) -> 0 | BD110: =IF(BE124>=20000,0,IF(BE124>=15000,150,0)) -> 0 | BE110: =IF(AU124="",0,BD110) -> 0
...

Sheet Proceeding
B2: =CONCATENATE("Proceeding of ",DATA!U150,", ",DATA!V150,", ",DATA!E19) -> Proceeding of Headmaster, ZP High School, Peapully
B3: =CONCATENATE("Present : ",DATA!AA136," ",DATA!F17," ,",DATA!E21,".",",",DATA!G21,".") -> Present : Sri. K Chandra Sekhar Rao ,M.Sc.,B.Ed.
B4: R.C.No: | D4: =DATA!M19 -> 02/AAS/2024 | H4: Date | I4: : | J4: =DATA!AP107 -> 10/02/2024
C6: Sub: | D6: =CONCATENATE(Q9, " - Modified Automatic Advancement Scheme - Pay Fixation of ",DATA!Z136, " ", DATA!F7,", ",DATA!E10,", ",DATA!E11,", ",DATA!E12, " in "& DATA!U195," ( ",DATA!W195," years ",")", " Scale ", ,DATA!E10," cadre "," - ","Orders - Issued.") -> APSESS - Modified Automatic Advancement Scheme - Pay Fixation of Sri. C Ramanjaneyulu, SGT, ZP High School, Peapully in SPP-IA ( 12 years ) Scale SGT cadre - Orders - Issued.
C9: Ref: | D9: 1.G.O.Ms.No. 01. Dt. 17.01.2022 | Q9: =IF(DATA!AW106=1,"APSESS","TGSESS") -> APSESS
D10: =IF(DATA!AW106=1,Proceeding!R10,Proceeding!R14) -> 2.G.O.Ms. No . 68 Finance (HR.V-PC.I) Department.,Dt.12.06.2015 | R10: 2.G.O.Ms. No . 68 Finance (HR.V-PC.I) Department.,Dt.12.06.2015
D11: =IF(DATA!AW106=1,Proceeding!R11,Proceeding!R15) -> 3.G.O.Ms. No . 46 Finance (HR.V-PC.I) Department.,Dt. 30.04.2015 | R11: 3.G.O.Ms. No . 46 Finance (HR.V-PC.I) Department.,Dt. 30.04.2015
D12: 4.Proposals of the Individual | R12: 4.Circular Memo. No.3856-A/29/A2/HRM.V-PC/2014 Dated: 26-5-2015
D13: **************
B14: ORDER: | R14: 2.G.O.Ms. No . 38 Finance (HRM.IV).,Dt. 15.04.2015
D15: =CONCATENATE(" In accordance with the references cited above ",DATA!F7,",",DATA!E10,", ",DATA!E11,", ",DATA!E12,", is hereby appointed into ",DATA!U195," ( ",DATA!W195," years ",")", " scale under the Modified Automatic Advancement Scheme with effect from ",DATA!AP121,", upon completion of ", DATA!W195," years of Service in the ", DATA!E10, " Cadre .") -> In accordance with the references cited above C Ramanjaneyulu,SGT, ZP High School, Peapully, is hereby appointed into SPP-IA ( 12 years ) scale under the Modified Automatic Advancement Scheme with effect from 03/08/2025, upon completion of 12 years of Service in the SGT Cadre . | R15: 3.G.O.Ms. No . 25 Finance (HRM.IV).,Dt. 18.03.2015
N17: =CONCATENATE(" Pay is fixed at Rs. ",DATA!AI118,"/-"," in the time scale of ",DATA!V195,".") -> Pay is fixed at Rs. 49790/- in the time scale of 45830- 130580.
D19: =CONCATENATE(" He is appointed in the time scale of ", DATA!V195, " ( ", DATA!AB127, " ) Cadre. Accordingly, his pay is fixed at ", DATA!AI118, "/- in the said scale as per FR 22(a)(i).") -> He is appointed in the time scale of 45830- 130580 ( School Asst. ) Cadre. Accordingly, his pay is fixed at 49790/- in the said scale as per FR 22(a)(i).
C20: S.No | D20: Particulars | J20: Details
C21: 1 | D21: Name of the Employee | J21: =CONCATENATE(DATA!Z136, DATA!F7) -> Sri.C Ramanjaneyulu
C22: 2 | D22: Designation | J22: =DATA!E10 -> SGT
C23: 3 | D23: Acadamic & Professional Qualifications | J23: =CONCATENATE(DATA!E14,".",", ",DATA!G14,".") -> M.Sc., B.Ed.
C24: 4 | D24: Date of Joining in the Present Cadre | J24: =DATA!AQ113 -> 03/08/2013
C25: 5 | D25: =CONCATENATE("No. of Days EOL Availed During ",DATA!W195," years") -> No. of Days EOL Availed During 12 years | J25: =CONCATENATE(DATA!AF110," days") -> 0 days
C26: 6 | D26: Whether Depatmental Tests Passed | J26: =DATA!U156 -> Yes
C27: 7 | D27: =CONCATENATE("Date of Completion of ",DATA!W195," years of Service ") -> Date of Completion of 12 years of Service | J27: =DATA!AT116 -> 02/08/2025
C28: 8 | D28: =CONCATENATE("Date of Appointment to ",DATA!U195, " Scale") -> Date of Appointment to SPP-IA Scale | J28: =DATA!AP121 -> 03/08/2025
C29: 9 | D29: =CONCATENATE(" Pay as on Completion of ",DATA!W195," Years & Scale") -> Pay as on Completion of 12 Years & Scale | J29: =CONCATENATE(DATA!AH116," / ",DATA!X195) -> 48440 / 44570- 127480
C30: 10 | D30: =CONCATENATE("Pay fixed in ",DATA!W195," Years Pay & New Scale (as par FR 22a(i)) ") -> Pay fixed in 12 Years Pay & New Scale (as par FR 22a(i)) | J30: =CONCATENATE(DATA!AI118," / ",DATA!V195) -> 49790 / 45830- 130580
C31: 11 | D31: Date of Next Increment (as per Rule 31(2) ) | J31: =DATA!Z142 -> 1/1/2025
C33: =CONCATENATE(" The incumbent is fully eligible for the ", DATA!W195, " years scale i.e ", DATA!U195, " as per the existing service rules. It is certified that none of his juniors have been promoted to the next higher post till date. The individual has not relinquished promotion at any time earlier.") -> The incumbent is fully eligible for the 12 years scale i.e SPP-IA as per the existing service rules. It is certified that none of his juniors have been promoted to the next higher post till date. The individual has not relinquished promotion at any time earlier.
C35: =CONCATENATE(" ","Certified that necessary entries were made in the Service Register of the individual. The individual is informed that if any excess amount paid due to erroneous sanction noticed during the course of audit such amount shall be recovered in lump sum from ",DATA!Z138," pay bills without any prior notice.") -> Certified that necessary entries were made in the Service Register of the individual. The individual is informed that if any excess amount paid due to erroneous sanction noticed during the course of audit such amount shall be recovered in lump sum from his pay bills without any prior notice.
H41: =DATA!U150 -> Headmaster
G42: =CONCATENATE(DATA!E18," ,",DATA!E19,".") -> ZP High School ,Peapully.
B43: Copy to :
B44: 1. The individual concern
B45: =CONCATENATE("2. STO Office") -> 2. STO Office
B47: Developed by by : C.Ramanjaneyulu, S.A (P.S), www.teacherNews.in

Sheet Bill
B2: =CONCATENATE(" AAS ","( ",DATA!W195," years ",")"," Arrears bill of ",DATA!Z136," ", DATA!F7,", ",DATA!E10,", ",DATA!E11," ,",DATA!E12,", ",DATA!E13," ( Mandal )","") -> AAS ( 12 years ) Arrears bill of Sri. C Ramanjaneyulu, SGT, ZP High School ,Peapully, Peapully ( Mandal )
B4: =DATA!U177 -> Present Scale of Pay - 44570- 127480 Fixed Scale of Pay - 45830- 130580 Employees Code - 093800230 AAS w.e.f - 03/08/2025
B6: S.No. | C6: Month & Year | D6: Percentage of HRA / DA | E6: To be drawn | J6: PT to be paid | L6: Already drawn | Q6: PT already paid | S6: Differance | X6: =IF(DATA!AB134=1,""," CPS Deduction ") | Y6: PT difference | Z6: Total Deduction | AA6: Net payable
E7: Basic Pay | F7: D.A | G7: =IF(DATA!AW106=1,CONCATENATE("IR - 27%"),"IR") -> IR - 27% | H7: H.R.A | I7: Total | L7: Basic Pay | M7: D.A | N7: =G7 -> IR - 27% | O7: H.R.A | P7: Total | S7: Basic Pay | T7: D.A | U7: =G7 -> IR - 27% | V7: H.R.A | W7: Total
B8: 1 | C8: =DATA!AU120 -> 3 - 31/08/2025 | E8: =CONCATENATE("(",DATA!AI118,")") -> (49790) | F8: =CONCATENATE("(",ROUND(DATA!AI118*DATA!M21%,0),")") -> (16764) | G8: =IF(DATA!AW106=1,CONCATENATE("(",ROUND(DATA!AI118*DATA!BR118%,0),")"),"") -> (0) | H8: =CONCATENATE("(",ROUND(DATA!AI118*DATA!AV108%,0),")") -> (4979) | L8: =CONCATENATE("(",DATA!AH116,")") -> (48440) | M8: =CONCATENATE("(",ROUND(DATA!AH116*DATA!AV117%,0),")") -> (16310) | N8: =IF(DATA!AW106=1,CONCATENATE("(",ROUND(DATA!AH116*DATA!BR118%,0),")"),"") -> (0) | O8: =CONCATENATE("(",ROUND(DATA!AH116*DATA!AV108%,0),")") -> (4844) | S8: =-(E8-L8) -> 1350 | T8: =-(F8-M8) -> 454 | U8: =IF(DATA!AW106=1,-(G8-N8),"") -> 0 | V8: =-(H8-O8) -> 135
D9: =IF(C8="","",CONCATENATE(DATA!AV$116," / ",DATA!M$21)) -> 10 / 33.67 | E9: =DATA!AW120 -> 46578 | F9: =DATA!AX120 -> 15683 | G9: =DATA!BQ120 -> 0 | H9: =DATA!AY120 -> 4658 | I9: =SUM(E9:H9) -> 66919 | J9: =IF(DATA!BA120=0,"",DATA!BA120) | K9: =IF(J9="",0,J9) -> 0 | L9: =DATA!BB120 -> 45315 | M9: =DATA!BC120 -> 15258 | N9: =DATA!BR120 -> 0 | O9: =DATA!BD120 -> 4532 | P9: =SUM(L9:O9) -> 65105 | Q9: =IF(DATA!BF120=0,"",DATA!BF120) | R9: =IF(Q9="",0,Q9) -> 0 | S9: =DATA!BG120 -> 1263 | T9: =DATA!BH120 -> 425 | U9: =DATA!BS120 -> 0 | V9: =DATA!BI120 -> 126 | W9: =SUM(S9:V9) -> 1814 | X9: =IF(DATA!BO120=0,"",DATA!BO120) | Y9: =IF(C8="","",K9-R9) -> 0 | Z9: =DATA!BO120+Y9 -> 0 | AA9: =W9-Z9 -> 1814 | AB9: =IF(AA9="",0,1) -> 1
B10: 2 | C10: =DATA!AU121 | D10: =IF(C10="","",CONCATENATE(DATA!AV$116," / ",DATA!M$21)) | E10: =DATA!AW121 | F10: =DATA!AX121 | G10: =DATA!BQ121 | H10: =DATA!AY121 | I10: =IF(C10="","",SUM(E10:H10)) | J10: =IF(DATA!BA121=0,"",DATA!BA121) | K10: =IF(J10="",0,J10) -> 0 | L10: =DATA!BB121 | M10: =DATA!BC121 | N10: =DATA!BR121 | O10: =DATA!BD121 | P10: =IF(C10="","",SUM(L10:O10)) | Q10: =IF(DATA!BF121=0,"",DATA!BF121) | R10: =IF(Q10="",0,Q10) -> 0 | S10: =DATA!BG121 | T10: =DATA!BH121 | U10: =DATA!BS121 | V10: =DATA!BI121 | W10: =IF(C10="","",SUM(S10:V10)) | X10: =IF(DATA!BO121=0,"",DATA!BO121) | Y10: =IF(C10="","",K10-R10) | Z10: =IF(C10="","",DATA!BO121+Y10) | AA10: =IF(C10="","",W10-Z10) | AB10: =IF(AA10="",0,1) -> 0
B11: 3 | C11: =DATA!AU122 | D11: =IF(C11="","",CONCATENATE(DATA!AV$116," / ",DATA!M$21)) | E11: =DATA!AW122 | F11: =DATA!AX122 | G11: =DATA!BQ122 | H11: =DATA!AY122 | I11: =IF(C11="","",SUM(E11:H11)) | J11: =IF(DATA!BA122=0,"",DATA!BA122) | K11: =IF(J11="",0,J11) -> 0 | L11: =DATA!BB122 | M11: =DATA!BC122 | N11: =DATA!BR122 | O11: =DATA!BD122 | P11: =IF(C11="","",SUM(L11:O11)) | Q11: =IF(DATA!BF122=0,"",DATA!BF122) | R11: =IF(Q11="",0,Q11) -> 0 | S11: =DATA!BG122 | T11: =DATA!BH122 | U11: =DATA!BS122 | V11: =DATA!BI122 | W11: =IF(C11="","",SUM(S11:V11)) | X11: =IF(DATA!BO122=0,"",DATA!BO122) | Y11: =IF(C11="","",K11-R11) | Z11: =IF(C11="","",DATA!BO122+Y11) | AA11: =IF(C11="","",W11-Z11) | AB11: =IF(AA11="",0,1) -> 0
B12: 4 | C12: =DATA!AU123 | D12: =IF(C12="","",CONCATENATE(DATA!AV$116," / ",DATA!M$21)) | E12: =DATA!AW123 | F12: =DATA!AX123 | G12: =DATA!BQ123 | H12: =DATA!AY123 | I12: =IF(C12="","",SUM(E12:H12)) | J12: =IF(DATA!BA123=0,"",DATA!BA123) | K12: =IF(J12="",0,J12) -> 0 | L12: =DATA!BB123 | M12: =DATA!BC123 | N12: =DATA!BR123 | O12: =DATA!BD123 | P12: =IF(C12="","",SUM(L12:O12)) | Q12: =IF(DATA!BF123=0,"",DATA!BF123) | R12: =IF(Q12="",0,Q12) -> 0 | S12: =DATA!BG123 | T12: =DATA!BH123 | U12: =DATA!BS123 | V12: =DATA!BI123 | W12: =IF(C12="","",SUM(S12:V12)) | X12: =IF(DATA!BO123=0,"",DATA!BO123) | Y12: =IF(C12="","",K12-R12) | Z12: =IF(C12="","",DATA!BO123+Y12) | AA12: =IF(C12="","",W12-Z12) | AB12: =IF(AA12="",0,1) -> 0
B13: 5 | C13: =DATA!AU124 | D13: =IF(C13="","",CONCATENATE(DATA!AV$116," / ",DATA!M$21)) | E13: =DATA!AW124 | F13: =DATA!AX124 | G13: =DATA!BQ124 | H13: =DATA!AY124 | I13: =IF(C13="","",SUM(E13:H13)) | J13: =IF(DATA!BA124=0,"",DATA!BA124) | K13: =IF(J13="",0,J13) -> 0 | L13: =DATA!BB124 | M13: =DATA!BC124 | N13: =DATA!BR124 | O13: =DATA!BD124 | P13: =IF(C13="","",SUM(L13:O13)) | Q13: =IF(DATA!BF124=0,"",DATA!BF124) | R13: =IF(Q13="",0,Q13) -> 0 | S13: =DATA!BG124 | T13: =DATA!BH124 | U13: =DATA!BS124 | V13: =DATA!BI124 | W13: =IF(C13="","",SUM(S13:V13)) | X13: =IF(DATA!BO124=0,"",DATA!BO124) | Y13: =IF(C13="","",K13-R13) | Z13: =IF(C13="","",DATA!BO124+Y13) | AA13: =IF(C13="","",W13-Z13) | AB13: =IF(AA13="",0,1) -> 0
B14: 6 | C14: =DATA!AU125 | D14: =IF(C14="","",CONCATENATE(DATA!AV$116," / ",DATA!M$21)) | E14: =DATA!AW125 | F14: =DATA!AX125 | G14: =DATA!BQ125 | H14: =DATA!AY125 | I14: =IF(C14="","",SUM(E14:H14)) | J14: =IF(DATA!BA125=0,"",DATA!BA125) | K14: =IF(J14="",0,J14) -> 0 | L14: =DATA!BB125 | M14: =DATA!BC125 | N14: =DATA!BR125 | O14: =DATA!BD125 | P14: =IF(C14="","",SUM(L14:O14)) | Q14: =IF(DATA!BF125=0,"",DATA!BF125) | R14: =IF(Q14="",0,Q14) -> 0 | S14: =DATA!BG125 | T14: =DATA!BH125 | U14: =DATA!BS125 | V14: =DATA!BI125 | W14: =IF(C14="","",SUM(S14:V14)) | X14: =IF(DATA!BO125=0,"",DATA!BO125) | Y14: =IF(C14="","",K14-R14) | Z14: =IF(C14="","",DATA!BO125+Y14) | AA14: =IF(C14="","",W14-Z14) | AB14: =IF(AA14="",0,1) -> 0
B15: 7 | C15: =DATA!AU126 | D15: =IF(C15="","",CONCATENATE(DATA!AV$116," / ",DATA!M$21)) | E15: =DATA!AW126 | F15: =DATA!AX126 | G15: =DATA!BQ126 | H15: =DATA!AY126 | I15: =IF(C15="","",SUM(E15:H15)) | J15: =IF(DATA!BA126=0,"",DATA!BA126) | K15: =IF(J15="",0,J15) -> 0 | L15: =DATA!BB126 | M15: =DATA!BC126 | N15: =DATA!BR126 | O15: =DATA!BD126 | P15: =IF(C15="","",SUM(L15:O15)) | Q15: =IF(DATA!BF126=0,"",DATA!BF126) | R15: =IF(Q15="",0,Q15) -> 0 | S15: =DATA!BG126 | T15: =DATA!BH126 | U15: =DATA!BS126 | V15: =DATA!BI126 | W15: =IF(C15="","",SUM(S15:V15)) | X15: =IF(DATA!BO126=0,"",DATA!BO126) | Y15: =IF(C15="","",K15-R15) | Z15: =IF(C15="","",DATA!BO126+Y15) | AA15: =IF(C15="","",W15-Z15) | AB15: =IF(AA15="",0,1) -> 0
B16: 8 | C16: =DATA!AU127 | D16: =IF(C16="","",CONCATENATE(DATA!AV$116," / ",DATA!M$21)) | E16: =DATA!AW127 | F16: =DATA!AX127 | G16: =DATA!BQ127 | H16: =DATA!AY127 | I16: =IF(C16="","",SUM(E16:H16)) | J16: =IF(DATA!BA127=0,"",DATA!BA127) | K16: =IF(J16="",0,J16) -> 0 | L16: =DATA!BB127 | M16: =DATA!BC127 | N16: =DATA!BR127 | O16: =DATA!BD127 | P16: =IF(C16="","",SUM(L16:O16)) | Q16: =IF(DATA!BF127=0,"",DATA!BF127) | R16: =IF(Q16="",0,Q16) -> 0 | S16: =DATA!BG127 | T16: =DATA!BH127 | U16: =DATA!BS127 | V16: =DATA!BI127 | W16: =IF(C16="","",SUM(S16:V16)) | X16: =IF(DATA!BO127=0,"",DATA!BO127) | Y16: =IF(C16="","",K16-R16) | Z16: =IF(C16="","",DATA!BO127+Y16) | AA16: =IF(C16="","",W16-Z16) | AB16: =IF(AA16="",0,1) -> 0
B17: 9 | C17: =DATA!AU128 | D17: =IF(C17="","",CONCATENATE(DATA!AV$116," / ",DATA!M$21)) | E17: =DATA!AW128 | F17: =DATA!AX128 | G17: =DATA!BQ128 | H17: =DATA!AY128 | I17: =IF(C17="","",SUM(E17:H17)) | J17: =IF(DATA!BA128=0,"",DATA!BA128) | K17: =IF(J17="",0,J17) -> 0 | L17: =DATA!BB128 | M17: =DATA!BC128 | N17: =DATA!BR128 | O17: =DATA!BD128 | P17: =IF(C17="","",SUM(L17:O17)) | Q17: =IF(DATA!BF128=0,"",DATA!BF128) | R17: =IF(Q17="",0,Q17) -> 0 | S17: =DATA!BG128 | T17: =DATA!BH128 | U17: =DATA!BS128 | V17: =DATA!BI128 | W17: =IF(C17="","",SUM(S17:V17)) | X17: =IF(DATA!BO128=0,"",DATA!BO128) | Y17: =IF(C17="","",K17-R17) | Z17: =IF(C17="","",DATA!BO128+Y17) | AA17: =IF(C17="","",W17-Z17) | AB17: =IF(AA17="",0,1) -> 0
B18: 10 | C18: =DATA!AU129 | D18: =IF(C18="","",CONCATENATE(DATA!AV$116," / ",DATA!M$21)) | E18: =DATA!AW129 | F18: =DATA!AX129 | G18: =DATA!BQ129 | H18: =DATA!AY129 | I18: =IF(C18="","",SUM(E18:H18)) | J18: =IF(DATA!BA129=0,"",DATA!BA129) | K18: =IF(J18="",0,J18) -> 0 | L18: =DATA!BB129 | M18: =DATA!BC129 | N18: =DATA!BR129 | O18: =DATA!BD129 | P18: =IF(C18="","",SUM(L18:O18)) | Q18: =IF(DATA!BF129=0,"",DATA!BF129) | R18: =IF(Q18="",0,Q18) -> 0 | S18: =DATA!BG129 | T18: =DATA!BH129 | U18: =DATA!BS129 | V18: =DATA!BI129 | W18: =IF(C18="","",SUM(S18:V18)) | X18: =IF(DATA!BO129=0,"",DATA!BO129) | Y18: =IF(C18="","",K18-R18) | Z18: =IF(C18="","",DATA!BO129+Y18) | AA18: =IF(C18="","",W18-Z18) | AB18: =IF(AA18="",0,1) -> 0
B19: 11 | C19: =DATA!AU130 | D19: =IF(C19="","",CONCATENATE(DATA!AV$116," / ",DATA!M$21)) | E19: =DATA!AW130 | F19: =DATA!AX130 | G19: =DATA!BQ130 | H19: =DATA!AY130 | I19: =IF(C19="","",SUM(E19:H19)) | J19: =IF(DATA!BA130=0,"",DATA!BA130) | K19: =IF(J19="",0,J19) -> 0 | L19: =DATA!BB130 | M19: =DATA!BC130 | N19: =DATA!BR130 | O19: =DATA!BD130 | P19: =IF(C19="","",SUM(L19:O19)) | Q19: =IF(DATA!BF130=0,"",DATA!BF130) | R19: =IF(Q19="",0,Q19) -> 0 | S19: =DATA!BG130 | T19: =DATA!BH130 | U19: =DATA!BS130 | V19: =DATA!BI130 | W19: =IF(C19="","",SUM(S19:V19)) | X19: =IF(DATA!BO130=0,"",DATA!BO130) | Y19: =IF(C19="","",K19-R19) | Z19: =IF(C19="","",DATA!BO130+Y19) | AA19: =IF(C19="","",W19-Z19) | AB19: =IF(AA19="",0,1) -> 0
B20: 12 | C20: =DATA!AU131 | D20: =IF(C20="","",CONCATENATE(DATA!AV$116," / ",DATA!M$21)) | E20: =DATA!AW131 | F20: =DATA!AX131 | G20: =DATA!BQ131 | H20: =DATA!AY131 | I20: =IF(C20="","",SUM(E20:H20)) | J20: =IF(DATA!BA131=0,"",DATA!BA131) | K20: =IF(J20="",0,J20) -> 0 | L20: =DATA!BB131 | M20: =DATA!BC131 | N20: =DATA!BR131 | O20: =DATA!BD131 | P20: =IF(C20="","",SUM(L20:O20)) | Q20: =IF(DATA!BF131=0,"",DATA!BF131) | R20: =IF(Q20="",0,Q20) -> 0 | S20: =DATA!BG131 | T20: =DATA!BH131 | U20: =DATA!BS131 | V20: =DATA!BI131 | W20: =IF(C20="","",SUM(S20:V20)) | X20: =IF(DATA!BO131=0,"",DATA!BO131) | Y20: =IF(C20="","",K20-R20) | Z20: =IF(C20="","",DATA!BO131+Y20) | AA20: =IF(C20="","",W20-Z20) | AB20: =IF(AA20="",0,1) -> 0
B21: TOTAL | E21: =SUM(E9:E14) -> 46578 | F21: =SUM(F9:F14) -> 15683 | G21: =SUM(G9:G14) -> 0 | H21: =SUM(H9:H14) -> 4658 | I21: =SUM(I9:I14) -> 66919 | J21: =K21 -> 0 | K21: =SUM(K9:K14) -> 0 | L21: =SUM(L9:L14) -> 45315 | M21: =SUM(M9:M14) -> 15258 | N21: =SUM(N9:N14) -> 0 | O21: =SUM(O9:O14) -> 4532 | P21: =SUM(P9:P14) -> 65105 | Q21: =R21 -> 0 | R21: =SUM(R9:R14) -> 0 | S21: =SUM(S9:S14) -> 1263 | T21: =SUM(T9:T14) -> 425 | U21: =SUM(U9:U14) -> 0 | V21: =SUM(V9:V14) -> 126 | W21: =SUM(W9:W14) -> 1814 | X21: =SUM(X9:X14) -> 0 | Y21: =SUM(Y9:Y14) -> 0 | ... AA21: =SUM(AA9:AA14) -> 1814
H24: =CONCATENATE("Pass Per Rs. ",AA21,"/","-","(",DATA!AR147,")") -> Pass Per Rs. 1814/-( One Thousand Eight Hundred and Fourteen rupees only )
C25: Non-Drawn Certificate:
C26: The Claims made in this bill are not clamed earlier and now same has entered in concerned Pay Bill register to avoid double claim in the future
P27: DDO Signature
B30: Developed by by : C.Ramanjaneyulu, S.A (P.S), www.teacherNews.in

Sheet Request Letter
B2: REQUISITION LETTER
B4: =CONCATENATE("(For ", DATA!U195," ", DATA!W195, " Years)",) -> (For SPP-IA 12 Years)
B7: From | G7: To
B9: =CONCATENATE(DATA!Z136," ", DATA!F7) -> Sri. C Ramanjaneyulu | G9: =DATA!U150 -> Headmaster
B10: =DATA!E10 -> SGT | G10: =CONCATENATE(DATA!E18,", ",DATA!E19,".") -> ZP High School, Peapully.
B11: =CONCATENATE(DATA!E11," ,",DATA!E12) -> ZP High School ,Peapully | G11: =CONCATENATE(DATA!E20, " (District)") -> Nandyal (District)
B12: =CONCATENATE(DATA!E13," ( Mandal )") -> Peapully ( Mandal )
B14: =CONCATENATE("Requested ", DATA!AA137) -> Requested Sir
B16: =CONCATENATE("Sub : Estd- ", DATA!E9, " - ", DATA!Z136," ", DATA!F7, ", ", DATA!E10, " (Treasury Id No : ", DATA!M13, ") ", "Working at ", DATA!E11, ", ",DATA!E12, " (Village), ", DATA!E13," (Mandal), ", DATA!E20, " (District) - Requisition for Sanction of Automatic Advancement Scheme after completion of ", DATA!W195, " years of Service w.e.f. ", DATA!AT116," - Request - Regarding.") -> Sub : Estd- Secondary Education - Sri. C Ramanjaneyulu, SGT (Treasury Id No : 093800230) Working at ZP High School, Peapully (Village), Peapully (Mandal), Nandyal (District) - Requisition for Sanction of Automatic Advancement Scheme after completion of 12 years of Service w.e.f. 02/08/2025 - Request - Regarding.
B18: Ref: - | C18: =Proceeding!D9 -> 1.G.O.Ms.No. 01. Dt. 17.01.2022
C19: =Proceeding!D10 -> 2.G.O.Ms. No . 68 Finance (HR.V-PC.I) Department.,Dt.12.06.2015
B21: =CONCATENATE(" I humbly submit your honor that, I have been working as ", DATA!E10, " from ", DATA!AQ113, " and I have completed ", DATA!W195, " years of service as on ", DATA!AT116, " without any remark.",) -> I humbly submit your honor that, I have been working as SGT from 03/08/2013 and I have completed 12 years of service as on 02/08/2025 without any remark.
B23: As per G.O.Ms. N0.68, Finance (HRM.V) Department, Dt: 12-06-2015., I am eligible for A.A.S. (Automatic Advancement Scheme.)
B25: =CONCATENATE(" My Present Basic Pay is ", DATA!AH116, " With Pay Scale Rs. ", DATA!X195," and it has to enhance From (Increment Rate) Rs. ", DATA!AK170, " to Increased Basic Pay is ", DATA!AI118," With Pay Scale Rs. ", DATA!V195, " w.e.f. ", DATA!AP121, ".", " I, therefore, request your honor to kindly consider my application for sanctioned ", DATA!U195," increment with new Basic pay and D.A. in the post of ",DATA!E10,".",) -> My Present Basic Pay is 48440 With Pay Scale Rs. 44570- 127480 and it has to enhance From (Increment Rate) Rs. 1350 to Increased Basic Pay is 49790 With Pay Scale Rs. 45830- 130580 w.e.f. 03/08/2025. I, therefore, request your honor to kindly consider my application for sanctioned SPP-IA increment with new Basic pay and D.A. in the post of SGT.
D27: Thanking you Sir / Madam.
H29: Yours faithfully,
B31: Station : | C31: =DATA!E12 -> Peapully
B32: Date : | C32: =TODAY() -> 45872
B34: Developed by by : C.Ramanjaneyulu, S.A (P.S), www.teacherNews.in

Sheet SR Entry
B3: =CONCATENATE("AAS ", DATA!W195," Years Pay Fixation") -> AAS 12 Years Pay Fixation
B5: =CONCATENATE(" In pursuance of the orders issued in G.O.Ms.No. 68 Fin.Deptt. Dt.12/6/2015 & Proceedings Rc.No.", DATA!M19, ", Dt.", DATA!AP107, " of ", DATA!E16, ", ", DATA!E19, " is hereby Fixed ",DATA!Z138, " Pay @ Rs. ", DATA!AI118, "/-in ", DATA!U195, " ", DATA!W195, " Years Scale of ", DATA!V195," as per FR22a(i) wef ", DATA!AP121," due to completion of Satisfactory ", DATA!U195, " Years Incremental Service And Next Subsequent Increments are Revised as shown in the Annexure. ", ) -> In pursuance of the orders issued in G.O.Ms.No. 68 Fin.Deptt. Dt.12/6/2015 & Proceedings Rc.No.02/AAS/2024, Dt.10/02/2024 of Headmaster, Peapully is hereby Fixed his Pay @ Rs. 49790/-in SPP-IA 12 Years Scale of 45830- 130580 as per FR22a(i) wef 03/08/2025 due to completion of Satisfactory SPP-IA Years Incremental Service And Next Subsequent Increments are Revised as shown in the Annexure.
B7: ANNEXURE
B9: =Proceeding!C21 -> 1 | C9: =Proceeding!D21 -> Name of the Employee | H9: : | I9: =Proceeding!J21 -> Sri.C Ramanjaneyulu
B10: =Proceeding!C22 -> 2 | C10: =Proceeding!D22 -> Designation | H10: : | I10: =Proceeding!J22 -> SGT
B11: =Proceeding!C23 -> 3 | C11: =Proceeding!D23 -> Acadamic & Professional Qualifications | H11: : | I11: =Proceeding!J23 -> M.Sc., B.Ed.
B12: =Proceeding!C24 -> 4 | C12: =Proceeding!D24 -> Date of Joining in the Present Cadre | H12: : | I12: =Proceeding!J24 -> 03/08/2013
B13: =Proceeding!C25 -> 5 | C13: =Proceeding!D25 -> No. of Days EOL Availed During 12 years | H13: : | I13: =Proceeding!J25 -> 0 days
B14: =Proceeding!C26 -> 6 | C14: =Proceeding!D26 -> Whether Depatmental Tests Passed | H14: : | I14: =Proceeding!J26 -> Yes
B15: =Proceeding!C27 -> 7 | C15: =Proceeding!D27 -> Date of Completion of 12 years of Service | H15: : | I15: =Proceeding!J27 -> 02/08/2025
B16: =Proceeding!C28 -> 8 | C16: =Proceeding!D28 -> Date of Appointment to SPP-IA Scale | H16: : | I16: =Proceeding!J28 -> 03/08/2025
B17: =Proceeding!C29 -> 9 | C17: =Proceeding!D29 -> Pay as on Completion of 12 Years & Scale | H17: : | I17: =Proceeding!J29 -> 48440 / 44570- 127480
B18: =Proceeding!C30 -> 10 | C18: =Proceeding!D30 -> Pay fixed in 12 Years Pay & New Scale (as par FR 22a(i)) | H18: : | I18: =Proceeding!J30 -> 49790 / 45830- 130580
B19: =Proceeding!C31 -> 11 | C19: =Proceeding!D31 -> Date of Next Increment (as per Rule 31(2) ) | H19: : | I19: =Proceeding!J31 -> 1/1/2025
B22: Developed by by : C.Ramanjaneyulu, S.A (P.S), www.teacherNews.in

Sheet APTC-47
B2: =CONCATENATE(" AAS arrear bill of "," ",DATA!Z136, DATA!F7,", ",DATA!AB126,", ",DATA!Z154,", ",DATA!E12) -> AAS arrear bill of Sri.C Ramanjaneyulu, S.A.(P.S.), , Peapully
C3: =CONCATENATE("Payable At Sub-Treasury Office - ",DATA!#REF!) -> #REF! | V3: =DATA!AS119 -> 45872
C4: =CONCATENATE("GOVERNMENT OF ",DATA!AW107) -> GOVERNMENT OF ANDRA PRADESH
C5: ( A.P.T.C.Form - 47 )
S6: (For Treasury Use Only)
C7: Pay Bill for the Month & Year | G7: =DATA!AI121 -> 0 | H7: =DATA!AJ121 -> 8 | J7: 2 | K7: 0 | L7: =DATA!AL122 -> 2 | M7: =DATA!AM122 -> 5 | S7: DATE: _____________
C9: Treasury / P.A.O Code | G9: =DATA!S20 -> 0 | S9: Trans ID:
C12: D.D.O.Code | G12: =DATA!E21 -> M.Sc | S12: District : | U12: =DATA!Q19 -> 0
C14: DDO Designation | G14: =DATA!U150 -> Headmaster | N14: DDO OFFICE NAME : | S14: =CONCATENATE(DATA!U150,", ",DATA!V150) -> Headmaster, ZP High School
C16: BANK CODE | G16: =DATA!#REF! -> #REF! | O16: BANK NAME: | S16: =DATA!#REF! -> #REF!
C18: DDOs TBR No. | G18: 0 | K18: / 2012-13
B19: =CONCATENATE("UNDER RUPEES:", DATA!AR153," Only") -> UNDER RUPEES: One Thousand Eight Hundred and Fifteen rupees only Only | S19: Permanent / Temporary
C20: Head of Account | N20: Deducations | U20: Amount
C21: Major Head | F21: =IF(DATA!X167=5,"",2) -> 2 | G21: =IF(DATA!X167=5,"",2) -> 2 | H21: =IF(DATA!X167=5,"",0) -> 0 | I21: =IF(DATA!X167=5,"",2) -> 2 | J21: =IF(DATA!X167=5,"","General Education") -> General Education | N21: 1 | O21: G.P.F/PF | T21: Rs.
C23: Sub Major | F23: 0 | G23: =DATA!V173 -> 0 | I23: =DATA!V174 -> 0 | N23: 2 | O23: APGLI | T23: Rs.
C25: Minor Head | F25: 1 | G25: =DATA!X174 -> 0 | H25: =DATA!Y174 -> 0 | I25: =DATA!V175 -> 0 | N25: 3 | O25: Group Insurance/AIS | T25: Rs.
C27: Group Sub-Head | F27: - | G27: - | N27: 4 | O27: Professional Tax | T27: Rs. | U27: =Bill!Y21 -> 0
C29: Sub Head | F29: 0 | G29: =DATA!Z176 -> 0 | I29: =DATA!V176 -> 0 | N29: 5 | O29: House Rent | T29: Rs.
C31: Detail Head | F31: 0 | G31: 1 | H31: 0 | I31: Salaries | N31: 6 | O31: Festival Adv.&APCO Adv. | T31: Rs.
N32: 7 | O32: Educational Adv. | T32: Rs.
N33: 8 | O33: HBA (P) | T33: Rs.
C34: Non-plan=N/Plan=P | G34: N | H34: Charged=C/Voted=V | L34: V | N34: 9 | O34: HBA (I) | T34: Rs.
C35: Contingency Fund/MH | N35: 10 | O35: Car Adv.(P) | T35: Rs.
C36: Service Major Head | G36: 2 | H36: 2 | I36: 0 | J36: 2 | N36: 11 | O36: Car Adv.(I) | T36: Rs.
N37: 12 | O37: Motor Cycle Adv.(P) | T37: Rs.
N38: 13 | O38: Motor Cycle Adv.(I) | T38: Rs.
C39: 011 - Pay | H39: Rs. | I39: =Bill!S21 -> 1263 | N39: 14 | O39: Cycle Adv. | T39: Rs.
C40: 012- Allowances | H40: Rs. | N40: 15 | O40: Marriage Adv.(P) | T40: Rs.
C41: 013 - Dearness Allowances | H41: Rs. | I41: =Bill!T21 -> 425 | N41: 16 | O41: Marriage Adv.(I) | T41: Rs.
C42: 015- I.R. | H42: Rs. | I42: =Bill!#REF! -> #REF! | N42: 17 | O42: Income Tax | T42: Rs.
C43: 016- H.R.A. | H43: Rs. | I43: =Bill!V21 -> 126 | N43: 18 | O43: Class IV GPF- D.T.O | T43: Rs.
H44: Rs. | N44: 19 | O44: EWF Loan | T44: Rs.
H45: Rs. | N45: 20 | O45: CPS | T45: Rs. | U45: =Bill!X21 -> 0
E46: #REF! | H46: Rs. | T46: Rs.
H47: Rs. | N47: Total Govt. Deducations | T47: Rs. | U47: =SUM(U21:U46) -> 0
C48: Gross Total | H48: Rs. | I48: =SUM(I39:M47) -> #REF! | N48: Total Non-Govt.Deducations | T48: Rs.
C49: Less Govt. Deductions | H49: Rs. | I49: =U47 -> 0
C50: A.G.Nett Amount | H50: Rs. | I50: =I48-I49 -> #REF!
C51: A.G.Nett Amount in words
C52: =CONCATENATE(DATA!AR147," only") -> One Thousand Eight Hundred and Fourteen rupees only only
...

Sheet Back 47
B2: BUDGET
B4: 1. | C4: Budget allocation for the year 20…… - 20…… | J4: Rs.
B5: 2. | C5: Total Expenditure including this Bill | J5: Rs.
B6: 3. | C6: Balance | J6: Rs.
K10: Drawing Officer
C12: This bill amount Rs. | H12: Rs. | I12: ='APTC-47'!I50 -> #REF!
C13: =CONCATENATE("Rs",".",DATA!AR147," only") -> Rs. One Thousand Eight Hundred and Fourteen rupees only only
C14: paid by cash / cheque / draft adjust to account.
C15: Received Cash
C19: Drawing Officer | K19: Drawing Officer
B20: REQUIRED CERTIFICATES
B22: 1 | C22: Certified That the amount claimed in this bill has not been already drawn and paid previously.
B23: 2 | C23: Certified that if any excess amount is paid due to the fixation the same will be recovered from the
B24: 3 | C24: Certified that the note of arrears claims has been carried in the respective copies office bill register .
B25: 4 | C25: Certified that the necessary fixation entries have been made in the service register of the individual.
B26: 5 | C26: Certified that the pay is fixed in terms of G.O.Ms. NO.52 Finance Dept.,dated.25-02-2010
B27: 6 | C27: Certified that the D.A.is claimed in terms of G.O.Ms.No.63 Finance Dept.,dated…./…/…….
B28: 7 | C28: Certified that the H.R.A. is claimed in terms of G.O.Ms.No.64 Finance Dept.,dated : 09-03-2010
B29: 8 | C29: =CONCATENATE("Certified that the Special pays are claimed in terms of G.O.M.S No.118 Finance Dept.,") -> Certified that the Special pays are claimed in terms of G.O.M.S No.118 Finance Dept.,
C30: dated :7/4/2010
B31: 9 | C31: Certified that the City Compensatory Allowance (CCA) is claimed in terms of G.O.M.S No.65
C32: Finance Dept.,dated :3/9/2010
B33: 10 | C33: =CONCATENATE("Certified that the Convyance Alwance are claimed in terms of G.O.M.S No.108 Finance Dept.,") -> Certified that the Convyance Alwance are claimed in terms of G.O.M.S No.108 Finance Dept.,
C34: dated :7/04/2010
I37: DRAWING OFFICER
B39: For the use Of Accountant General Office

Sheet Parer token & 101
B2: ='APTC-47'!C4 -> GOVERNMENT OF ANDRA PRADESH | X2: APTC FORM 101
H3: PAPER TOKEN | Y3: (See subsidiary Rule 2(W) under Treasury Rule 15: Govt. Memo No.38907/ Accounts / 65 /5, Dt:21-02-1963)
P5: (For Treasury Use Only)
B6: STO Code | C6: : | D6: =DATA!S20 -> 0 | O6: Date | Y6: DDO Cede: | AB6: =D9 -> M.Sc | AK6: Treasury/PAO Code | AP6: =D6 -> 0
B7: STO Name | C7: : | D7: =DATA!#REF! -> #REF!
B9: DDO Code | C9: : | D9: =DATA!E21 -> M.Sc | O9: Trans ID | Y9: DDO Designation: | AC9: =D11 -> Headmaster | AJ9: Treasury / PAO Name | AO9: =DATA!#REF! -> #REF!
B11: DDO Designation: | D11: ='APTC-47'!G14 -> Headmaster | J11: DDO Office Name: | N11: ='APTC-47'!S14 -> Headmaster, ZP High School
B13: Bank Branch Code | E13: : | F13: =DATA!#REF! -> #REF! | J13: Name: | M13: =DATA!#REF! -> #REF! | Y13: To
B15: Head of Account | E15: : | F15: =IF(DATA!X167=5,"",2) -> 2 | G15: =IF(DATA!X167=5,"",2) -> 2 | H15: =IF(DATA!X167=5,"",0) -> 0 | I15: =IF(DATA!X167=5,"",2) -> 2 | L15: 0 | M15: ='APTC-47'!G23 -> 0 | O15: 1 | P15: ='APTC-47'!G25 -> 0 | Q15: ='APTC-47'!H25 -> 0 | S15: - | T15: - | Y15: The Treasury Officer / Manager
L16: (Sub-MH) | O16: (Minor Head) | S16: (Grp-SH)
F18: ='APTC-47'!F29 -> 0 | H18: ='APTC-47'!G29 -> 0 | L18: 0 | M18: 1 | N18: 0 | Q18: 0 | R18: 1 | S18: 0 | AB18: Please Pay Bill No. | AJ18: dated | AO18: for Rs. | AQ18: =R25 -> #REF!
F19: (Sub Head) | L19: (Det. Head) | Q19: (Sub Det. Head)
Y20: (Rupees in words | AC20: =D27 -> One Thousand Eight Hundred and Fourteen rupees only only
B21: Non - Plan | C21: = | D21: N | F21: Changed = C | I21: V | L21: Contingency Fund | Q21: 2 | R21: 2 | S21: 0 | T21: 2
F22: Voted = V | L22: MH / Service Major Head | Y22: the Smt/Sri | AB22: =DATA!S21 -> 0 | AQ22: for the office
Y24: of the | AA24: =N11 -> Headmaster, ZP High School | AP24: whose speciemem
B25: Gross Rs. | C25: ='APTC-47'!I48 -> #REF! | H25: Deductions Rs. | L25: ='APTC-47'!I49 -> 0 | P25: Net Rs. | R25: ='APTC-47'!I50 -> #REF!
Y26: signature is attested herewith.
B27: (Net Rupees | D27: ='APTC-47'!C52 -> One Thousand Eight Hundred and Fourteen rupees only only
B29: Messenger Neme | E29: : | F29: =DATA!S21 -> 0 | L29: Designation:
B30: (As in APTC Form - 101)
Y31: Signature of the Govt. Servant | AN31: Received the payment
B33: Specimen Signature of Messenger | I33: 1) | Y33: Date: | AP33: Dated:
K34: 2728
I35: 2) | AA35: Attested
K36: 479
Z37: Signature of the DDO | AN37: Signature of the Govt.
B38: DDO Signature | J38: Attested | Q38: STO Signature | AL38: Servant receiving the Payment
J42: DDO Signature

Sheet Annexure 1 &2
B2: ANNEXURE-I
B3: (To be furnished by the DDO in triplicate)
B7: Name of the NPB | D7: : | E7: =DATA!#REF! -> #REF! | J7: For the Month of | L7: =DATA!AS119 -> 45872
B8: DDO Code | D8: : | E8: =DATA!E21 -> M.Sc
B9: DDO Designation | D9: : | E9: =CONCATENATE(DATA!U150,", ",DATA!V150,", ",DATA!E19,"") -> Headmaster, ZP High School, Peapully
B10: Sl. No | C10: Employee Id.No. | D10: Name | G10: Designation | H10: Bank IFSC code | I10: A/C No. | L10: Net
B11: 1 | C11: =DATA!M13 -> 093800230 | D11: =CONCATENATE(DATA!Z136,DATA!F7) -> Sri.C Ramanjaneyulu | G11: =DATA!AB126 -> S.A.(P.S.) | H11: =DATA!#REF! -> #REF! | I11: =DATA!#REF! -> #REF! | L11: =Bill!AA21 -> 1814
C13: TOTAL | L13: =SUM($L11:$L12) -> 1814
B15: Net Rs. in words : | D15: =DATA!AR147 -> One Thousand Eight Hundred and Fourteen rupees only
B19: DDO Signature with seal | I19: Signature of T.O with seal
B23: ANNEXURE - II
B24: Notified Link Bank Report
B25: To be furnished by the DDO in triplicate
B28: DDO CODE | D28: : | E28: =E8 -> M.Sc | K28: (For Treasury use only)
B29: DDO Name | D29: : | E29: =CONCATENATE(DATA!AA136, DATA!F17,",",DATA!U157,".",",",DATA!V157,".") -> Sri.K Chandra Sekhar Rao,.,. | K29: Date :
B30: DDO Designation | D30: : | E30: =E9 -> Headmaster, ZP High School, Peapully
B31: Name of NLB | D31: : | E31: =E7 -> #REF! | K31: Trans ID : | L31: =DATA!M13 -> 093800230
B32: Bank IFSC code | D32: : | E32: =DATA!#REF! -> #REF!
B33: Sl.No. | C33: Name of the NPB | G33: Purpose | L33: Amount to be credited
B34: 1 | C34: =E31 -> #REF! | G34: =CONCATENATE(" AAS Arrears"," ( ",DATA!W195," years "," ) ",DATA!Z136,DATA!F7,", ",DATA!AB126,".") -> AAS Arrears ( 12 years ) Sri.C Ramanjaneyulu, S.A.(P.S.). | L34: =Bill!AA21 -> 1814
G35: TOTAL | L35: =$L$34 -> 1814
B37: Net Rs. in Words: | D37: =D15 -> One Thousand Eight Hundred and Fourteen rupees only
B42: DDO Signature with seal | I42: Signature of T.O with seal

Sheet P.Tax
A2: PROFESSIONAL TAX RECOVERY SCHEDULE
A3: PT SCHEDULE OF DEDUCTION UNDER 0028 OTHER TAX ON INCOME
A4: AND EXPENDITURE 107 TAXES ON PROFFESSIONS TRADES CALLINGS AND EMPLOYEMENT 01 TAX COLLECTIONS.
A7: =Bill!B2 -> AAS ( 12 years ) Arrears bill of Sri. C Ramanjaneyulu, SGT, ZP High School ,Peapully, Peapully ( Mandal )
G8: Month of - | J8: =DATA!AH122 -> 45872
B10: Sl.No. | C10: Employee Id | E10: Name of the Employee | I10: Designation | L10: Subscription | N10: TOTAL
B11: 1 | C11: =DATA!M13 -> 093800230 | E11: =DATA!F7 -> C Ramanjaneyulu | I11: =DATA!#REF! -> #REF! | L11: =Bill!Y21 -> 0 | N11: =L11 -> 0
B12: Total | N12: =N11 -> 0
B14: Rupees in Words : | F14: =DATA!AR159 -> Zero
L17: DDO Signature
A23: PROFESSIONAL TAX RECOVERY SCHEDULE
A24: PT SCHEDULE OF DEDUCTION UNDER 0028 OTHER TAX ON INCOME
A25: AND EXPENDITURE 107 TAXES ON PROFFESSIONS TRADES CALLINGS AND EMPLOYEMENT 01 TAX COLLECTIONS.
A27: =A7 -> AAS ( 12 years ) Arrears bill of Sri. C Ramanjaneyulu, SGT, ZP High School ,Peapully, Peapully ( Mandal )
G28: =G8 -> Month of - | J28: =J8 -> 45872
B30: Sl.No. | C30: Employee Id | E30: Name of the Employee | I30: Designation | L30: Subscription | N30: TOTAL
B31: 1 | C31: =C11 -> 093800230 | E31: =E11 -> C Ramanjaneyulu | I31: =I11 -> #REF! | L31: =L11 -> 0 | N31: =L31 -> 0
B32: Total | N32: =N31 -> 0
B34: Rupees in Words : | F34: =F14 -> Zero
L37: DDO Signature

Sheet Sheet1

Sheet 47-Budjet
B2: =CONCATENATE(" AAS arrear bill of "," ",DATA!Z136, DATA!F7,", ",DATA!AB126,", ",DATA!Z154,", ",DATA!E12) -> AAS arrear bill of Sri.C Ramanjaneyulu, S.A.(P.S.), , Peapully
B3: =CONCATENATE("Payable At Sub-Treasury Office - ",DATA!#REF!) -> #REF!
B4: =CONCATENATE("GOVERNMENT OF ",DATA!AW107) -> GOVERNMENT OF ANDRA PRADESH
B5: (APTC Form-47)
B6: Bill Id : 1
B7: Dept NO :TBRNO:
B8: Treasury/PAO Code : | E8: =Beneficiary!C10 -> 093800230 | H8: Transid:
B9: DDO Code : | E9: =DATA!E21 -> M.Sc | H9: Bill for the Month of | J9: =DATA!AS119 -> 45872
B12: Major Head | D12: 2202 | F12: Sub Major Head | H12: =CONCATENATE("0",DATA!V173) -> 0 | I12: Minor Head | J12: =CONCATENATE("1",DATA!X174,DATA!Y174) -> 1 | L12: If any change Head of Account
B13: Group Sub Head | D13: -- | F13: Sub Head | H13: =CONCATENATE("0",DATA!Z176) -> 0 | I13: Detailed Head | J13: 010
B14: SubDetailed Head | D14: 011 | F14: Plan/NonPlan | H14: N
B17: Earnings | E17: Amount | H17: Deductions | J17: Amount
B20: 011-BPay : | E20: =Bill!S21 -> 1263 | H20: CPS : | J20: =Bill!X21 -> 0
B21: 013-DA : | E21: =Bill!T21 -> 425
B22: 016-HRA : | E22: =Bill!V21 -> 126
B23: IR | C23: : | E23: =Bill!U21 -> 0
B25: Gross Amount : | E25: =SUM(E20:E22) -> 1814
B26: Deduction Amount: | E26: =J20 -> 0
B28: Net Amount : | E28: =E25-E26 -> 1814
B31: =CONCATENATE("Net Amount in words: ",DATA!AR147," only") -> Net Amount in words: One Thousand Eight Hundred and Fourteen rupees only only
B34: DDO Signature
B37: FOR USE IN TREASURY/PAY &ACCOUNTS OFFICE
B39: Pay Rs___________________________
B41: (Rupees__________________________________________________________by
B43: 1.RS_________________________by transfer credit to the S.B Accounts of the employee
B45: 2.RS________________________by transfer credit to the DDO Account towards non-government
B48: Treasury Officer / Pay & Accounts Officer
B56: BUDGET INFORMATION
B58: 1.______________________ | E58: Yearly Estimated Budget Rs | H58: =E28 -> 1814
B60: 2. _____________________ | E60: Amount Including this Bill Rs. | H60: =H58 -> 1814
B63: 3.Balance ____________________ | G63: Rs. | H63: Nil
B65: =CONCATENATE("Passed for Rs.",H60,"/- Net Amount in words: ",DATA!AR147," only") -> Passed for Rs.1814/- Net Amount in words: One Thousand Eight Hundred and Fourteen rupees only only
B67: ________________Paid By Cash/Adjustment/Check/Draft.
B78: Drawing Officer

Sheet Beneficiary
B4: List of Beneficiaries for TBRNo: | F4: =CONCATENATE("DDO Code :",DATA!E21) -> DDO Code :M.Sc
B7: S.No | C7: Employee Code | D7: Party Name | E7: IFSC Code | F7: Bank Account | G7: Amount
D9: =CONCATENATE(DATA!Z136," ", DATA!F7,", ",DATA!AB126) -> Sri. C Ramanjaneyulu, S.A.(P.S.)
B10: 1 | C10: =DATA!M13 -> 093800230 | E10: =DATA!#REF! -> #REF! | F10: =DATA!#REF! -> #REF! | G10: ='47-Budjet'!E28 -> 1814
B13: Total Amount of the bill | G13: =G10 -> 1814
B16: ='47-Budjet'!B31 -> Net Amount in words: One Thousand Eight Hundred and Fourteen rupees only only
E19: Signature of the DDO
B27: List of Beneficiaries for TBRNo: | F27: =CONCATENATE("DDO Code :",DATA!E21) -> DDO Code :M.Sc
B30: S.No | C30: Employee Code | D30: Party Name | E30: IFSC Code | F30: Bank Account | G30: Amount
D32: =D9 -> Sri. C Ramanjaneyulu, S.A.(P.S.)
B33: 1 | C33: =C10 -> 093800230 | E33: =E10 -> #REF! | F33: =F10 -> #REF! | G33: =G10 -> 1814
B36: Total Amount of the bill | G36: =G33 -> 1814
B39: =B16 -> Net Amount in words: One Thousand Eight Hundred and Fourteen rupees only only
E42: Signature of the DDO

Sheet 101- Paper token
C3: =CONCATENATE(IF(DATA!AW106=1,'101- Paper token'!W5,'101- Paper token'!W6)," FORM 101") -> APTC FORM 101
G4: ( See Subsidiary Rule 2 ( W) Under Treasury Rule 15 ;
G5: Govt. Memo No. 38907 / Accounts / 65-5 . Dt. : 21-02-1963 ) | W5: APTC
W6: TSTC
C7: DDO Code | F7: ='47-Budjet'!E9 -> M.Sc | M7: Treasury / PAO Code | Q7: =DATA!S20 -> 0
C9: DDO Designation: | F9: =DATA!U150 -> Headmaster | M9: Treasury / PAO Name | O9: =DATA!#REF! -> #REF!
C11: To
C12: The Treasury Officer / Manager,
C13: SA
D15: Please Pay Bill No. | J15: Dated : | M15: For Rs:- | O15: ='47-Budjet'!E28 -> 1814
D17: ='47-Budjet'!B31 -> Net Amount in words: One Thousand Eight Hundred and Fourteen rupees only only
C18: Whose specimen signature is attested here with.
C20: Signature of the Govt. Servant | N20: Received the payment
C21: Dated :- | N21: Dated: -
E24: Attested | N24: Signature of the Govt servant
N25: receiving the payment.
C27: Signature of the DDO / DDO Seal
C31: ANNEXURE - VI
C32: (PAPER TOKEN)
C33: STO / PAO CODE : | G33: =Q7 -> 0 | L33: DDO Code | M33: =F7 -> M.Sc
C34: STO / PAO Name : | G34: =O9 -> #REF! | L34: DDO Desg | M34: =F9 -> Headmaster
C35: Plan / Non Plan : | G35: Non Plan | L35: Voted/Charged | M35: Voted
C37: For Office Use Trans Id &Date | G37: Major Head | L37: Sub Major Head | O37: Minor Head
G38: Group Sub Head | L38: Sub Head | O38: Detailed Head
G39: SubDetailed Head | L39: Plan/NonPlan
D43: Name of the Messenger | J43: =DATA!S21 -> 0
D45: Designation of the Messenger
D48: Bill Amount Rs. | H48: =O15 -> 1814
D49: =D17 -> Net Amount in words: One Thousand Eight Hundred and Fourteen rupees only only
D53: DDO Signature | N53: ATO / STO Signature

Sheet CPS
B2: =CONCATENATE(" Statement Showing the CPS Recovery Schedule of ",DATA!Z136," ",DATA!F7,", ",DATA!AB126,", ",DATA!E12,", ",DATA!E13," ( Mandal )",DATA!Q19," ( Dt. )") -> Statement Showing the CPS Recovery Schedule of Sri. C Ramanjaneyulu, S.A.(P.S.), Peapully, Peapully ( Mandal ) ( Dt. )
B4: (G.O.Ms.No.655 Finance (pen.I) Dept. dt.22.9.04)
B6: Sub Treasury code: | D6: =DATA!S20 -> 0 | F6: DDO Name : | G6: =CONCATENATE(DATA!AA136," ",DATA!F17) -> Sri. K Chandra Sekhar Rao
B7: CPS Account No: | D7: =DATA!M13 -> 093800230 | F7: DDO Code : | G7: =DATA!E21 -> M.Sc
B8: Head of Account | D8: 8342-00-117-00-04-001-000
B11: S.No | C11: Emp.Code | D11: CPS Account No | E11: Name & Desgination | F11: Amount
B13: 1 | C13: =DATA!M13 -> 093800230 | D13: =DATA!M11 -> 0 | E13: =CONCATENATE(DATA!Z136," ",DATA!F7,", ",DATA!AB126) -> Sri. C Ramanjaneyulu, S.A.(P.S.) | F13: =IF(DATA!AB134=1,"","Basic Pay:") | G13: =IF(DATA!AB134=1,"",Bill!S21)
F14: =IF(DATA!AB134=1,"","DA:") | G14: =IF(DATA!AB134=1,"",Bill!T21)
F15: =IF(DATA!AB134=1,"","Total:") | G15: =IF(DATA!AB134=1,"",G14+G13)
B16: CPS Adjustment Amount | G16: =IF(G14="","",ROUND(G15*10%,0))
B18: =IF(I13=" Nil ","",CONCATENATE("Rs. In words: ",DATA!AR159)) -> Rs. In words: Zero
F22: Signature of the DDO
B28: =B2 -> Statement Showing the CPS Recovery Schedule of Sri. C Ramanjaneyulu, S.A.(P.S.), Peapully, Peapully ( Mandal ) ( Dt. )
B30: (G.O.Ms.No.655 Finance (pen.I) Dept. dt.22.9.04)
B32: Sub Treasury code: | D32: =D6 -> 0 | F32: DDO Name: | G32: =G6 -> Sri. K Chandra Sekhar Rao
B33: CPS Account No: | D33: =DATA!M11 -> 0 | F33: DDO Code: | G33: =G7 -> M.Sc
B34: Head of Account | D34: =D8 -> 8342-00-117-00-04-001-000
B37: S.No | C37: Emp.Code | D37: CPS Account No. | E37: Name & Desgination | F37: =F11 -> Amount
B39: 1 | C39: =C13 -> 093800230 | D39: =D13 -> 0 | E39: =E13 -> Sri. C Ramanjaneyulu, S.A.(P.S.) | F39: =F13 | G39: =G13
F40: =F14 | G40: =G14
F41: =F15 | G41: =G15
B42: =B16 -> CPS Adjustment Amount | G42: =G16
B44: =B18 -> Rs. In words: Zero
F48: Signature of the DDO
