Workbook

Sheet DATA
B2: Programe Developed by C Ramanjaneyulu SA (PS) - www.teacherNews.in
C4: Promotion Fixation Software
C6: Employees Details | M6: For Update Software Information, Add My Number 8978531101 Your WhatsApp Groups
C8: Name of the Employee | E8: Smt. | F8: A Venkatesh
C9: Date of Promotion | E9: 10 | F9: Jun | G9: 2023
C10: Select PF / CPS | E10: CPS
C12: Particulars | F12: Lower cadre | I12: Promotion cadre
C14: Designation | F14: Secondary Grade Teacher | I14: School Assistant (Bio.Science) | M14: C Ramanjaneyulu
C15: School Name | F15: MP UP Schhol | I15: ZP High School
C16: Place of working | F16: Dharmavaram | I16: Jonnagiri | M16: For Update Software Visit below link
C17: Mandal | F17: Dhone | I17: Tuggali
C18: Select Pay fixation under | F18: Promotion Date fixation | M18: www.teachernews.in
C19: Pay on Promotion or Increment Date | F19: 67190 | I19: Promotion Pay Fixation Software Programme Developed By C.Ramanjaneyulu S.A (P.S),
C20: =IF(AH243=F18,"Promotion Fixation Date ","")
C21: After Pay Fixation Next Increment | F21: Feb | G21: 2025 | M21: Cadre | N21: Old Scale | O21: New Scale
C22: Scale of Pay ( Before Promotion ) | F22: 44570- 127480
C23: Scale of Pay ( After Promotion ) | F23: 44570- 127480 | M23: SGT | N23: 21230-63010 | O23: 32670 – 101970
C24: Promotion Proceedings issued by | F24: D.E.O, Kurnool | M24: School Assistant | N24: 28940-78910 | O24: 44570 – 127480
C25: Promotion Proceedings Rc.No. | F25: Rc. No. 8491/A6-BIO-SCT-I-TM/2023 | M25: Head Master | N25: 35120-87130 | O25: 54060 – 140540
C26: Proceeding Dates | F26: 45082
C27: Office Proc | D27: 02/Pro/ 2023 | F27: Date | G27: 45139
C28: DDO Particulars | I28: Bill Details
C30: Name of the Proceedings | F30: Headmaster | I30: HRA | J30: 10 | L30: DA Change
C31: Name of the DDO | E31: Sri. | F31: K Ramanjaneyulu | I31: DA | J31: 20.02 | L31: 45148 | M31: 22.75
C32: DDO Working Place | F32: ZP High School, Jonnagiri | I32: Bill Month | J32: 45148
C33: Mandal | F33: Tuggali
C34: DDO Qualification | F34: B.Sc, B.Ed
C35: Update & More Software Download www.teacherNews.in
AK98: 1 | AL98: 31
AK99: 2 | AL99: 28
AK100: 3 | AL100: 31
AK101: 4 | AL101: 30
AK102: 5 | AL102: 31
AK103: 6 | AL103: 30
AK104: 7 | AL104: 31
AK105: 8 | AL105: 31
AK106: 9 | AL106: 30
AK107: 10 | AL107: 31
AK108: 11 | AL108: 30
AK109: 12 | AL109: 31
...

Sheet Proceeding
B2: =CONCATENATE("Proceedings of the ",DATA!F30,", ",DATA!F32,", ",DATA!F33," ( Mandal )") -> Proceedings of the Headmaster, ZP High School, Jonnagiri, Tuggali ( Mandal )
B3: =CONCATENATE("Present :-",DATA!AJ224,DATA!F31,", ",DATA!F34,".") -> Present :-Sri.K Ramanjaneyulu, B.Sc, B.Ed.
B4: Rc.No: | C4: =DATA!D27 -> 02/Pro/ 2023 | I4: Date: | K4: =DATA!G27 -> 45139
B6: Sub: | C6: =CONCATENATE("Secondary Education-",DATA!AI224,DATA!F8," Promoted as ",DATA!AR144," - "," Fixation of Pay in the Promotion post - Orders - Issued .") -> Secondary Education-Smt.A Venkatesh Promoted as School Assistant (Bio.Science) - Fixation of Pay in the Promotion post - Orders - Issued .
B9: Ref: | C9: 1. G.O.Ms.No .01, Finance ( HRM.V-PC) Dept.Dt. 17-01-2022
C10: 2. G.O.Ms No.40 dated 07-05-2002
C11: 3 | D11: =CONCATENATE(DATA!F25,", ",DATA!F24) -> Rc. No. 8491/A6-BIO-SCT-I-TM/2023, D.E.O, Kurnool
C12: 4. Option given by the concerned.
B14: *****************
B15: ORDER:
C17: =DATA!BO244 -> In accordance with the 4th cited above Smt. A Venkatesh Formerly Secondary Grade Teacher working in MP UP Schhol, Dharmavaram, Dhone (Mandal) has been Promoted to School Assistant (Bio.Science) and posted to ZP High School, Jonnagiri, Tuggali, ( Mandal) and repoted to his duties on the F.N of 10/06/2023.
C21: =DATA!BO249 -> Smt. A Venkatesh, Promoted as School Assistant (Bio.Science) from the cadre of Secondary Grade Teacher post and he/she is drawing the pay of Rs.67190 in the scale of pay 44570- 127480 . Accordingly her fixed at Rs. 70850 w.e.f. 10/06/2023 in the present cadre under FR22(B).
D25: =DATA!BO253 -> Fixation of pay under FR22(b) is shown as detailed below.
C27: 1 | D27: =DATA!AQ176 -> Date of Promotion as School Assistant (Bio.Science) | I27: : | J27: =DATA!AX176 -> 10/06/2023
C28: 2 | D28: =DATA!AZ231 -> Date of option exercised to fix pay Under FR22(B) in the higher cadre | I28: : | J28: =DATA!AZ235 -> 10/06/2023 Date of Promotion
C29: 3 | D29: =DATA!BA177 -> Existing Pay / Scale of Pay on promotion date | I29: : | J29: =DATA!BA178 -> 67190 / 44570- 127480
C30: 4 | D30: =DATA!BA181 -> The Pay Scale allowed to promotion post | I30: : | J30: =DATA!BA182 -> 44570- 127480
C31: 5 | D31: =DATA!BA179 -> Existing Pay as on 10/06/2023 in the Secondary Grade Teacher Post in the Scale of 44570- 127480 | I31: : | J31: =DATA!BA180 -> 67190
C32: 6 | D32: =DATA!AZ203 -> Pay fixed in the School Assistant (Bio.Science) Post under F.R. 22(B) w.e.f. 10/06/2023 in Scale of 44570- 127480 | I32: : | J32: =DATA!AZ205 -> 70850
C33: 7 | D33: =IF(DATA!F18=DATA!AH226,DATA!AZ208, DATA!AQ183) -> Monitory benefit with effect from | I33: : | J33: =DATA!AK243 -> 10/06/2023
C34: =IF(DATA!F18=DATA!AH226,8,"") | D34: =IF(DATA!F18=DATA!AH226,DATA!AQ183,"") | I34: =IF(DATA!F18=DATA!AH226,":",IF(DATA!F18=DATA!AH227,"","")) | J34: =IF(DATA!F18=DATA!AH226,DATA!AZ183,"")
D36: =DATA!AQ212 -> Date of Next Annual Grade Increment | I36: : | J36: =DATA!AX119 -> 45689
C38: =DATA!AM260 -> Certified that necessary entries were made in the Service Register of the individual. The individual is informed that if any excess amount paid due to erroneous sanction noticed during the course of audit such amount shall be recovered in lump sum from her pay bills without any prior notice.
B43: Copy to:
B44: The Individual Concern. | H44: =DATA!F30 -> Headmaster
B45: The STO Office | H45: =DATA!F32 -> ZP High School, Jonnagiri
B46: Developed by : C.Ramanjaneyulu,S.A(P.S) : www.teacherNews.in

Sheet Bill
B2: =CONCATENATE( " Promotion fixation Arrers of ",DATA!AI224," ",DATA!F8," ,",DATA!I14," ,",DATA!AR146," , ",DATA!I16,", ",DATA!I17," ( Mandal ) ") -> Promotion fixation Arrers of Smt. A Venkatesh ,School Assistant (Bio.Science) ,ZP High School , Jonnagiri, Tuggali ( Mandal )
B4: S.No. | C4: Month & Year | D4: To be drawn | H4: Already drawn | L4: Differance | P4: CPS Deduction | Q4: Net payable | R4: HRA % | S4: DA %
D5: Basic Pay | E5: D.A | F5: H.R.A | G5: Total | H5: Basic Pay | I5: D.A | J5: H.R.A | K5: Total | L5: Basic Pay | M5: D.A | N5: H.R.A | O5: Total | U5: Select '1' Hide Emty Cells
B6: 1 | C6: =IF(DATA!AH243=DATA!AH245,DATA!AO132,(CONCATENATE(DATA!AO132," ",DATA!AK121))) -> 10 - 30/06/2023 21 Days | D6: =DATA!AQ132 -> 49595 | E6: =DATA!AR132 -> 9929 | F6: =DATA!AS132 -> 4960 | G6: =SUM(D6:F6) -> 64484 | H6: =DATA!AV132 -> 47033 | I6: =DATA!AW132 -> 9416 | J6: =DATA!AX132 -> 4703 | K6: =SUM(H6:J6) -> 61152 | L6: =D6-H6 -> 2562 | M6: =E6-I6 -> 513 | N6: =F6-J6 -> 257 | O6: =SUM(L6:N6) -> 3332 | P6: =IF(C6="","",IF(DATA!AZ$127=2,Bill!Y6,0)) -> 308 | Q6: =IF(C6="","",O6-Z6) -> 3024 | R6: =IF(D6="","",DATA!AJ$128) -> 10 | S6: =DATA!BJ132 -> 20.02 | T6: 1 | X6: =(L6+M6) -> 3075 | Y6: =ROUND(X6*10%,0) -> 308 | Z6: =P6 -> 308
B7: 2 | C7: =DATA!AO133 -> 45117 | D7: =DATA!AQ133 -> 70850 | E7: =DATA!AR133 -> 14184 | F7: =DATA!AS133 -> 7085 | G7: =IF(C7="","",SUM(D7:F7)) -> 92119 | H7: =DATA!AV133 -> 67190 | I7: =DATA!AW133 -> 13451 | J7: =DATA!AX133 -> 6719 | K7: =IF(C7="","",SUM(H7:J7)) -> 87360 | L7: =DATA!BA133 -> 3660 | M7: =DATA!BB133 -> 733 | N7: =DATA!BC133 -> 366 | O7: =IF(C7="","",SUM(L7:N7)) -> 4759 | P7: =IF(C7="","",IF(DATA!AZ$127=2,Bill!Y7,0)) -> 439 | Q7: =IF(C7="","",O7-Z7) -> 4320 | R7: =IF(D7="","",DATA!AJ$128) -> 10 | S7: =DATA!BJ133 -> 20.02 | T7: =IF(Q7="",0,1) -> 1 | X7: =(L7+M7) -> 4393 | Y7: =ROUND(X7*10%,0) -> 439 | Z7: =P7 -> 439
B8: 3 | C8: =DATA!AO134 -> 45148 | D8: =DATA!AQ134 -> 70850 | E8: =DATA!AR134 -> 16118 | F8: =DATA!AS134 -> 7085 | G8: =IF(C8="","",SUM(D8:F8)) -> 94053 | H8: =DATA!AV134 -> 67190 | I8: =DATA!AW134 -> 15286 | J8: =DATA!AX134 -> 6719 | K8: =IF(C8="","",SUM(H8:J8)) -> 89195 | L8: =DATA!BA134 -> 3660 | M8: =DATA!BB134 -> 832 | N8: =DATA!BC134 -> 366 | O8: =IF(C8="","",SUM(L8:N8)) -> 4858 | P8: =IF(C8="","",IF(DATA!AZ$127=2,Bill!Y8,0)) -> 449 | Q8: =IF(C8="","",O8-Z8) -> 4409 | R8: =IF(D8="","",DATA!AJ$128) -> 10 | S8: =DATA!BJ134 -> 22.75 | T8: =IF(Q8="",0,1) -> 1 | X8: =(L8+M8) -> 4492 | Y8: =ROUND(X8*10%,0) -> 449 | Z8: =P8 -> 449
B9: 4 | C9: =DATA!AO135 | D9: =DATA!AQ135 | E9: =DATA!AR135 | F9: =DATA!AS135 | G9: =IF(C9="","",SUM(D9:F9)) | H9: =DATA!AV135 | I9: =DATA!AW135 | J9: =DATA!AX135 | K9: =IF(C9="","",SUM(H9:J9)) | L9: =DATA!BA135 | M9: =DATA!BB135 | N9: =DATA!BC135 | O9: =IF(C9="","",SUM(L9:N9)) | P9: =IF(C9="","",IF(DATA!AZ$127=2,Bill!Y9,0)) | Q9: =IF(C9="","",O9-Z9) | R9: =IF(D9="","",DATA!AJ$128) | S9: =DATA!BJ135 | T9: =IF(Q9="",0,1) -> 0 | X9: =(L9+M9) -> #VALUE! | Y9: =ROUND(X9*10%,0) -> #VALUE! | Z9: =P9
B10: 5 | C10: =DATA!AO136 | D10: =DATA!AQ136 | E10: =DATA!AR136 | F10: =DATA!AS136 | G10: =IF(C10="","",SUM(D10:F10)) | H10: =DATA!AV136 | I10: =DATA!AW136 | J10: =DATA!AX136 | K10: =IF(C10="","",SUM(H10:J10)) | L10: =DATA!BA136 | M10: =DATA!BB136 | N10: =DATA!BC136 | O10: =IF(C10="","",SUM(L10:N10)) | P10: =IF(C10="","",IF(DATA!AZ$127=2,Bill!Y10,0)) | Q10: =IF(C10="","",O10-Z10) | R10: =IF(D10="","",DATA!AJ$128) | S10: =DATA!BJ136 | T10: =IF(Q10="",0,1) -> 0 | X10: =(L10+M10) -> #VALUE! | Y10: =ROUND(X10*10%,0) -> #VALUE! | Z10: =P10
B11: 6 | C11: =DATA!AO137 | D11: =DATA!AQ137 | E11: =DATA!AR137 | F11: =DATA!AS137 | G11: =IF(C11="","",SUM(D11:F11)) | H11: =DATA!AV137 | I11: =DATA!AW137 | J11: =DATA!AX137 | K11: =IF(C11="","",SUM(H11:J11)) | L11: =DATA!BA137 | M11: =DATA!BB137 | N11: =DATA!BC137 | O11: =IF(C11="","",SUM(L11:N11)) | P11: =IF(C11="","",IF(DATA!AZ$127=2,Bill!Y11,0)) | Q11: =IF(C11="","",O11-Z11) | R11: =IF(D11="","",DATA!AJ$128) | S11: =DATA!BJ137 | T11: =IF(Q11="",0,1) -> 0 | X11: =(L11+M11) -> #VALUE! | Y11: =ROUND(X11*10%,0) -> #VALUE! | Z11: =P11
B12: 7 | C12: =DATA!AO138 | D12: =DATA!AQ138 | E12: =DATA!AR138 | F12: =DATA!AS138 | G12: =IF(C12="","",SUM(D12:F12)) | H12: =DATA!AV138 | I12: =DATA!AW138 | J12: =DATA!AX138 | K12: =IF(C12="","",SUM(H12:J12)) | L12: =DATA!BA138 | M12: =DATA!BB138 | N12: =DATA!BC138 | O12: =IF(C12="","",SUM(L12:N12)) | P12: =IF(C12="","",IF(DATA!AZ$127=2,Bill!Y12,0)) | Q12: =IF(C12="","",O12-Z12) | R12: =IF(D12="","",DATA!AJ$128) | S12: =DATA!BJ138 | T12: =IF(Q12="",0,1) -> 0 | X12: =(L12+M12) -> #VALUE! | Y12: =ROUND(X12*10%,0) -> #VALUE! | Z12: =P12
B13: TOTAL | D13: =SUM(D6:D12) -> 191295 | E13: =SUM(E6:E12) -> 40231 | F13: =SUM(F6:F12) -> 19130 | G13: =SUM(G6:G12) -> 250656 | H13: =SUM(H6:H12) -> 181413 | I13: =SUM(I6:I12) -> 38153 | J13: =SUM(J6:J12) -> 18141 | K13: =SUM(K6:K12) -> 237707 | ... O13: =SUM(O6:O12) -> 12949 | P13: =IF(DATA!AZ$127=2,Bill!Y13,0) -> 1196 | Q13: =IF(B13="","",O13-Z13) -> 11753 | T13: 1 | X13: =(L13+M13) -> 11960 | Y13: =ROUND(X13*10%,0) -> 1196 | Z13: =P13 -> 1196
E16: =CONCATENATE("Pass Per Rs.",DATA!AI168," (",DATA!AJ168," rypees only ",")") -> Pass Per Rs.11753 ( Eleven Thousands Seven Hundred and Fifty Three rupees only rypees only )
C17: Non-Drawn Certificate:
C18: The Claims made in this bill are not clamed earlier and now same has entered in concerned Pay Bill register to avoid double claim in the future
K20: Signature of the DDO
B24: Developed by : C.Ramanjaneyulu,S.A(P.S) : www.teacherNews.in

Sheet SR Entry
B2: =CONCATENATE("Pay Fixation Under FR 22 A(I) in the Cadre of ", DATA!I14) -> Pay Fixation Under FR 22 A(I) in the Cadre of School Assistant (Bio.Science)
B4: =CONCATENATE(" As per The ",DATA!F30,", ",DATA!F32,",",DATA!F33," (Mandal) Pro Rc No.",DATA!C27,", ",DATA!D27," Dt. ",U38,", the incumbent has been Promoted as ", DATA!I14," from cadre of ", DATA!F14, " and joined in the Promotion Post on ", DATA!AN119,". Accordingly, Pay fixation has been done initially under", DATA!AR147, " Proceeding!on date of joining in the Promotion post wef. ", Proceeding!J33, " vide Proceedings of the Special officer RC.NO :", DATA!D27," Dated: ", DATA!G27, " as detailed given below.") -> As per The Headmaster, ZP High School, Jonnagiri,Tuggali (Mandal) Pro Rc No.Office Proc, 02/Pro/ 2023 Dt. 01/08/2023, the incumbent has been Promoted as School Assistant (Bio.Science) from cadre of Secondary Grade Teacher and joined in the Promotion Post on 10/06/2023. Accordingly, Pay fixation has been done initially underPromotion Date fixation Proceeding!on date of joining in the Promotion post wef. 10/06/2023 vide Proceedings of the Special officer RC.NO :02/Pro/ 2023 Dated: 45139 as detailed given below.
B5: =Proceeding!D25 -> Fixation of pay under FR22(b) is shown as detailed below.
B7: 1 | C7: =Proceeding!D27 -> Date of Promotion as School Assistant (Bio.Science) | J7: =Proceeding!J27 -> 10/06/2023
B8: 2 | C8: =Proceeding!D28 -> Date of option exercised to fix pay Under FR22(B) in the higher cadre | J8: =Proceeding!J28 -> 10/06/2023 Date of Promotion
B9: 3 | C9: =Proceeding!D29 -> Existing Pay / Scale of Pay on promotion date | J9: =Proceeding!J29 -> 67190 / 44570- 127480
B10: 4 | C10: =Proceeding!D30 -> The Pay Scale allowed to promotion post | J10: =Proceeding!J30 -> 44570- 127480
B11: 5 | C11: =Proceeding!D31 -> Existing Pay as on 10/06/2023 in the Secondary Grade Teacher Post in the Scale of 44570- 127480 | J11: =Proceeding!J31 -> 67190
B12: 6 | C12: =Proceeding!D32 -> Pay fixed in the School Assistant (Bio.Science) Post under F.R. 22(B) w.e.f. 10/06/2023 in Scale of 44570- 127480 | J12: =Proceeding!J32 -> 70850
B13: 7 | C13: =Proceeding!D33 -> Monitory benefit with effect from | J13: =Proceeding!J33 -> 10/06/2023
B14: 8 | C14: =Proceeding!D34 | J14: =Proceeding!J34
D16: =Proceeding!D36 -> Date of Next Annual Grade Increment | J16: =Proceeding!J36 -> 45689
U36: =DATA!G27 -> 45139
U38: =TEXT(DATA!G27,"DD/MM/YYYY") -> 01/08/2023
