Workbook

Sheet DATA
B2: Programe Developed by C Ramanjaneyulu SA (PS) - www.teacherNews.in
C4: Promotion Fixation Software
C6: Employees Details | M6: For Update Software Information, Add My Number 8978531101 Your WhatsApp Groups
C8: Name of the Employee | E8: Smt. | F8: A Venkatesh
C9: Date of Promotion | E9: 10 | F9: Jun | G9: 2023
C10: Select PF / CPS | E10: CPS
C12: Particulars | F12: Lower cadre | I12: Promotion cadre
C14: Designation | F14: Secondary Grade Teacher | I14: School Assistant (Bio.Science) | M14: C Ramanjaneyulu
C15: School Name | F15: MP UP Schhol | I15: ZP High School
C16: Place of working | F16: Dharmavaram | I16: Jonnagiri | M16: For Update Software Visit below link
C17: Mandal | F17: Dhone | I17: Tuggali
C18: Select Pay fixation under | F18: Promotion Date fixation | M18: www.teachernews.in
C19: Pay on Promotion or Increment Date | F19: 67190 | I19: Promotion Pay Fixation Software Programme Developed By C.Ramanjaneyulu S.A (P.S),
C20: =IF(AH243=F18,"Promotion Fixation Date ","")
C21: After Pay Fixation Next Increment | F21: Feb | G21: 2025 | M21: Cadre | N21: Old Scale | O21: New Scale
C22: Scale of Pay ( Before Promotion ) | F22: 44570- 127480
C23: Scale of Pay ( After Promotion ) | F23: 44570- 127480 | M23: SGT | N23: 21230-63010 | O23: 32670 – 101970
C24: Promotion Proceedings issued by | F24: D.E.O, Kurnool | M24: School Assistant | N24: 28940-78910 | O24: 44570 – 127480
C25: Promotion Proceedings Rc.No. | F25: Rc. No. 8491/A6-BIO-SCT-I-TM/2023 | M25: Head Master | N25: 35120-87130 | O25: 54060 – 140540
C26: Proceeding Dates | F26: 45082
C27: Office Proc | D27: 02/Pro/ 2023 | F27: Date | G27: 45139
C28: DDO Particulars | I28: Bill Details
C30: Name of the Proceedings | F30: Headmaster | I30: HRA | J30: 10 | L30: DA Change
C31: Name of the DDO | E31: Sri. | F31: K Ramanjaneyulu | I31: DA | J31: 20.02 | L31: 45148 | M31: 22.75
C32: DDO Working Place | F32: ZP High School, Jonnagiri | I32: Bill Month | J32: 45148
C33: Mandal | F33: Tuggali
C34: DDO Qualification | F34: B.Sc, B.Ed
C35: Update & More Software Download www.teacherNews.in
AK98: 1 | AL98: 31
AK99: 2 | AL99: 28
AK100: 3 | AL100: 31
AK101: 4 | AL101: 30
AK102: 5 | AL102: 31
AK103: 6 | AL103: 30
AK104: 7 | AL104: 31
AK105: 8 | AL105: 31
AK106: 9 | AL106: 30
AK107: 10 | AL107: 31
AK108: 11 | AL108: 30
AK109: 12 | AL109: 31
AM112: =VLOOKUP(AN118,AK98:AL109,2,TRUE) -> 30 | AN112: =DATE(AO116,AN118,AM112) -> 45107
AX113: =VLOOKUP(AY113,AE198:AF209,2,FALSE) -> #N/A | AY113: =F20 -> 0 | AZ113: =G20 -> 0
AA114: FR 22a(i) | BB114: Inc | BC114: =DATE(AY120,AY117,AY121) -> 45689 | BD114: =TEXT(BC114,"dd/mm/yyyy") -> 01/02/2025
V115: Scale of Pay | AO115: 3 | AY115: =TEXT(AY116,"dd/mm/yyyy") -> 01/02/2024 | BB115: Pro Fixa. | BC115: =DATE(AZ113,AX113,AY121) -> #N/A | BD115: =TEXT(BC115,"dd/mm/yyyy") -> #N/A
V116: 20000- 61960 | Y116: 1 | Z116: 20000 | AA116: 20600 | AB116: 21200 | AD116: 2021 | AN116: 2 | AO116: =G9 -> 2023 | AY116: =DATE(AY118,AY117,AY121) -> 45323 | BB116: Promo | BC116: =AM119 -> 45087 | BD116: =AN119 -> 10/06/2023
V117: 20600-63660 | Y117: 2 | Z117: 20600 | AA117: 21200 | AB117: 21800 | AD117: 2022 | AL117: DOJ | AM117: =E9 -> 10 | AN117: =F9 -> Jun | AP117: =DATE(YEAR(AO120)+1,MONTH(AO120),DAY(AO120)) -> 45453 | AY117: =VLOOKUP(AZ121,AE198:AF209,2,FALSE) -> 2 | BA117: =IF(AI253=AH244,AJ257,IF(AI253=AH242,BC121,IF(AI253=AH243,BA122))) -> 01/06/2024
V118: 21200- 65360 | Y118: 3 | Z118: 21200 | AA118: 21800 | AB118: 22460 | AD118: 2023 | AN118: =VLOOKUP(AN117,AE198:AF209,2,FALSE) -> 6 | AP118: =AP117-13 -> 45440 | AY118: =IF(AN118<AQ121,AY120,IF(AN118>=AQ121,BA121)) -> 2024 | AZ118: =IF(BA121>BA120,BA120,AY120) -> 2023
V119: 22460-72810 | Y119: 4 | Z119: 21800 | AA119: 22460 | AB119: 23120 | AD119: 2024 | AM119: =DATE(AO116,AN118,AM117) -> 45087 | AN119: =TEXT(AM119,"DD/MM/YYYY") -> 10/06/2023 | AO119: =DAY(AM120) -> 30 | AP119: =TEXT(AP118,"DD/MM/YYYY") -> 28/05/2024 | AX119: =DATE(AY120,AY117,AY121) -> 45689 | AY119: =DATE(BA119,AY117,AY121) -> 44958 | AZ119: =IF(BA121>BA120,BA120,AY120) -> 2023 | BA119: =IF(BA120<AY120,AZ119,AZ118) -> 2023
V120: 23120- 74770 | Y120: 5 | Z120: 22460 | AA120: 23120 | AB120: 23780 | AD120: 2025 | AM120: =EOMONTH(AM119,0) -> 45107 | AN120: =TEXT(AN112,"DD/MM/YYYY") -> 30/06/2023 | AO120: =AM119 -> 45087 | AP120: =AI140 -> 45148 | AQ120: 1 | AR120: =F9 -> Jun | AY120: =G21 -> 2025 | AZ120: =TODAY() -> 45184 | BA120: =YEAR(AZ120) -> 2023
V121: 23780- 76730 | Y121: 6 | Z121: 23120 | AA121: 23780 | AB121: 24500 | AK121: =CONCATENATE(AL121," Days") -> 21 Days | AL121: =AM121+1 -> 21 | AM121: =AN112-AM119 -> 20 | AN121: =CONCATENATE(AM117," - ",AN120) -> 10 - 30/06/2023 | AQ121: =VLOOKUP(AR120,AE198:AF209,2,FALSE) -> 6 | AR121: =DATE(AO116,AQ121,AQ120) -> 45078 | AS121: =EOMONTH(AR121,0) -> 45107 | AT121: =AS121-AR121 -> 29 | AU121: =AT121+1 -> 30 | AY121: 1 | AZ121: =F21 -> Feb | BA121: =BA120+1 -> 2024 | BB121: =DATE(AY118,AQ121,AY121) -> 45444 | BC121: =TEXT(BB121,"dd/mm/yyyy") -> 01/06/2024
V122: 25220- 80910 | Y122: 7 | Z122: 23780 | AA122: 24500 | AB122: 25220 | AH122: scale | AI122: =F23 -> 44570- 127480 | AK122: 4 | AM122: =AM120+1 -> 45108 | AN122: =AM122 -> 45108 | AQ122: =AR121 -> 45078 | AR122: =TEXT(AR121,"DD/MM/YYYY") -> 01/06/2023 | AX122: Next Increment | AZ122: =DATE(YEAR(AY119),MONTH(AY119),DAY(AY119)) -> 44958 | BA122: =TEXT(AZ122,"dd/mm/yyyy") -> 01/02/2023
V123: 27500- 87480 | Y123: 8 | Z123: 24500 | AA123: 25220 | AB123: 25940 | AJ123: 0 | AK123: =F22 -> 44570- 127480 | AM123: =DATE(YEAR(AM$122),MONTH(AM122)+1,DAY(AM$122)) -> 45139 | AN123: =AM123 -> 45139 | AQ123: =DATE(YEAR(AQ$122),MONTH(AQ122)+1,DAY(AQ122)) -> 45108 | AS123: 1 | AT123: =IF(AI$255=AM119,AM119,IF(AI$255=AQ122,AQ122)) -> 45087 | AU123: =IF(AT123=AQ122,AQ122,IF(AT123=AO120,AN121)) -> 10 - 30/06/2023 | BA123: =TEXT(AX119,"dd/mm/yyyy") -> 01/02/2025 | BB123: =IF(AI253=AH244,AY115,IF(AI253=AH242,AX119,IF(AI253=AH243,AY119))) -> 01/02/2024
V124: 28280-89720 | Y124: 9 | Z124: 25220 | AA124: 25940 | AB124: 26720 | AI124: 35.952 | AJ124: 10 | AM124: =DATE(YEAR(AM$122),MONTH(AM123)+1,DAY(AM$122)) -> 45170 | AN124: =AM124 -> 45170 | AQ124: =DATE(YEAR(AQ$122),MONTH(AQ123)+1,DAY(AQ123)) -> 45139 | AS124: 2 | AT124: =DATE(YEAR(AT$123),MONTH(AT$123)+1,DAY(AT$123)) -> 45117 | AU124: =AT124 -> 45117
V125: 29980- 94500 | Y125: 10 | Z125: 25940 | AA125: 26720 | AB125: 27500 | AI125: 41.992 | AJ125: 12 | AM125: =DATE(YEAR(AM$122),MONTH(AM124)+1,DAY(AM$122)) -> 45200 | AN125: =AM125 -> 45200 | AQ125: =DATE(YEAR(AQ$122),MONTH(AQ124)+1,DAY(AQ124)) -> 45170 | AS125: 3 | AT125: =DATE(YEAR(AT$123),MONTH(AT$123)+2,DAY(AT$123)) -> 45148 | AU125: =AT125 -> 45148 | AY125: 1 | AZ125: PF
V126: 32670-101970 | Y126: 11 | Z126: 26720 | AA126: 27500 | AB126: 28280 | AI126: =M31 -> 22.75 | AJ126: 16 | AM126: =DATE(YEAR(AM$122),MONTH(AM125)+1,DAY(AM$122)) -> 45231 | AN126: =AM126 -> 45231 | AQ126: =DATE(YEAR(AQ$122),MONTH(AQ125)+1,DAY(AQ125)) -> 45200 | AS126: 4 | AT126: =DATE(YEAR(AT$123),MONTH(AT$123)+3,DAY(AT$123)) -> 45179 | AU126: =AT126 -> 45179 | AY126: 2 | AZ126: CPS
V127: 34580-107210 | Y127: 12 | Z127: 27500 | AA127: 28280 | AB127: 29130 | AJ127: 24 | AK127: 1 | AM127: =DATE(YEAR(AM$122),MONTH(AM126)+1,DAY(AM$122)) -> 45261 | AN127: =AM127 -> 45261 | AQ127: =DATE(YEAR(AQ$122),MONTH(AQ126)+1,DAY(AQ126)) -> 45231 | AS127: 5 | AT127: =DATE(YEAR(AT$123),MONTH(AT$123)+4,DAY(AT$123)) -> 45209 | AU127: =AT127 -> 45209 | AW127: =AL121 -> 21 | AZ127: =IF(AZ128=AZ126,2,1) -> 2
V128: 35570-109910 | Y128: 13 | Z128: 28280 | AA128: 29130 | AB128: 29980 | AJ128: =J30 -> 10 | AK128: =AK127-1 -> 0 | AM128: =DATE(YEAR(AM$122),MONTH(AM127)+1,DAY(AM$122)) -> 45292 | AN128: =AM128 -> 45292 | AQ128: =DATE(YEAR(AQ$122),MONTH(AQ127)+1,DAY(AQ127)) -> 45261 | AS128: 6 | AT128: =DATE(YEAR(AT$123),MONTH(AT$123)+5,DAY(AT$123)) -> 45240 | AU128: =AT128 -> 45240 | AV128: Promotion date | AW128: =ROUND(AP130/AO119*AW127,0) -> 49595 | AX128: =ROUND(AQ130/AO119*AW127,0) -> 47033 | AZ128: =E10 -> CPS
V129: 37640- 115500 | Y129: 14 | Z129: 29130 | AA129: 29980 | AB129: 30830 | AQ129: =DATE(YEAR(AQ$122),MONTH(AQ128)+1,DAY(AQ128)) -> 45292 | AS129: 7 | AT129: =DATE(YEAR(AT$123),MONTH(AT$123)+6,DAY(AT$123)) -> 45270 | AU129: =AT129 -> 45270 | AV129: Inc.date | AW129: =AP130 -> 70850 | AX129: =AQ130 -> 67190 | BI129: =AM117 -> 10 | BJ129: 1 | BK129: 2014
V130: 38720- 118390 | Y130: 15 | Z130: 29980 | AA130: 30830 | AB130: 31750 | AO130: =AM119 -> 45087 | AP130: =AI254 -> 70850 | AQ130: =X183 -> 67190 | AS130: 8 | AT130: =DATE(YEAR(AT$123),MONTH(AT$123)+7,DAY(AT$123)) -> 45301 | AU130: =AT130 -> 45301 | BI130: =DATE(BK129,BJ129,BI129) -> 41649 | BJ130: 27
V131: 40970-124380 | Y131: 16 | Z131: 30830 | AA131: 31750 | AB131: 32670 | AN131: =AN121 -> 10 - 30/06/2023 | AQ131: PAY | AR131: DA | AS131: HRA | AT131: TOTAL | AU131: N.PT | AZ131: O.PT | BF131: NET | BH131: IR | BI131: old ir
V132: 44570- 127480 | Y132: 17 | Z132: 31750 | AA132: 32670 | AB132: 33590 | AK132: =L31 -> 45148 | AL132: =J31 -> 20.02 | AM132: 1 | AN132: =IF(AU124<=AP$120,AU124,"") -> 45117 | AO132: =AU123 -> 10 - 30/06/2023 | AQ132: =IF(AI253=AH244,AW128,IF(AI253=AH242,AW128,IF(AI253=AH243,AP130))) -> 49595 | AR132: =ROUND(AQ132*J$31/100,0) -> 9929 | AS132: =ROUND(AQ132*AJ$128/100,0) -> 4960 | AT132: =SUM(AQ132:AS132) -> 64484 | AU132: =IF(AT132="",0,IF(AT132>=20000,"200",IF(AT132>=15000,"150",""))) -> 200 | AV132: =IF(AI253=AH244,AX128,IF(AI253=AH242,AX128,IF(AI253=AH243,AQ130))) -> 47033 | AW132: =ROUND(AV132*J31/100,0) -> 9416 | AX132: =ROUND(AV132*AJ$128/100,0) -> 4703 | AY132: =SUM(AV132:AX132) -> 61152 | AZ132: =IF(AY132="",0,IF(AY132>=20000,"200",IF(AY132>=15000,"150",""))) -> 200 | BA132: =AW128-AX128 -> 2562 | BB132: =AR132-AW132 -> 513 | BC132: =AS132-AX132 -> 257 | BD132: =AT132-AY132 -> 3332 | BE132: =AU132-AZ132 -> 0 | BF132: =BD132-BE132 -> 3332 | BH132: =IF(AO130>=BI$130,ROUND(AQ132*BJ$130%,0),"") -> 13391 | BI132: =IF(AO130>=BI$130,ROUND(AV132*BJ$130%,0),"") -> 12699 | BJ132: =J31 -> 20.02
V133: 45830- 130580 | Y133: 18 | Z133: 32670 | AA133: 33590 | AB133: 34580 | AM133: 2 | AN133: =IF(AU125<=AP$120,AU125,"") -> 45148 | AO133: =AN132 -> 45117 | AQ133: =IF(AO133="","",IF(AO133=AU124,AP$130,"")) -> 70850 | AR133: =IF(AO133="","",IF(AN132=AK$132,ROUND(AQ133*AM$144%,0),ROUND(AQ133*AL132/100,0))) -> 14184 | AS133: =IF(AO133="","",ROUND(AQ133*AJ$128/100,0)) -> 7085 | AT133: =IF(AO133="","",SUM(AQ133:AS133)) -> 92119 | AU133: =IF(AT133="",0,IF(AT133>=20000,"200",IF(AT133>=15000,"150",""))) -> 200 | AV133: =IF(AO133="","",IF(AO133=AU124,AQ$130,"")) -> 67190 | AW133: =IF(AO133="","",IF(AN132=AK$132,ROUND(AV133*AM$144%,0),ROUND(AV133*AL132/100,0))) -> 13451 | AX133: =IF(AO133="","",ROUND(AV133*AJ$128/100,0)) -> 6719 | AY133: =IF(AO133="","",SUM(AV133:AX133)) -> 87360 | AZ133: =IF(AY133="",0,IF(AY133>=20000,"200",IF(AY133>=15000,"150",IF(AY133>=10000,"100","80")))) -> 200 | BA133: =IF(AO133="","",AQ133-AV133) -> 3660 | BB133: =IF(AO133="","",AR133-AW133) -> 733 | BC133: =IF(AO133="","",AS133-AX133) -> 366 | BD133: =IF(AO133="","",AT133-AY133) -> 4759 | BE133: =IF(AO133="","",AU133-AZ133) -> 0 | BF133: =IF(AO133="","",BD133-BE133) -> 4759 | BH133: =IF(AO133="","",IF(AO133>=BI$130,ROUND(AQ133*BJ$130%,0),"")) -> 19130 | BI133: =IF(AO133="","",IF(AO133>=BI$130,ROUND(AV133*BJ$130%,0),"")) -> 18141 | BJ133: =IF(AO133="","",IF(AN132>=AK$132,AM$144,AL$132)) -> 20.02
V134: 48440-137220 | Y134: 19 | Z134: 33590 | AA134: 34580 | AB134: 35570 | AM134: 3 | AN134: =IF(AU126<=AP$120,AU126,"") | AO134: =AN133 -> 45148 | AQ134: =IF(AO134="","",IF(AO134=AU125,AP$130,"")) -> 70850 | AR134: =IF(AO134="","",IF(AN133=AK$132,ROUND(AQ134*AM$144%,0),AR133)) -> 16118 | AS134: =IF(AO134="","",ROUND(AQ134*AJ$128/100,0)) -> 7085 | AT134: =IF(AO134="","",SUM(AQ134:AS134)) -> 94053 | AU134: =IF(AT134="",0,IF(AT134>=20000,"200",IF(AT134>=15000,"150",""))) -> 200 | AV134: =IF(AO134="","",IF(AO134=AU125,AQ$130,"")) -> 67190 | AW134: =IF(AO134="","",IF(AN133=AK$132,ROUND(AV134*AM$144%,0),AW133)) -> 15286 | AX134: =IF(AO134="","",ROUND(AV134*AJ$128/100,0)) -> 6719 | AY134: =IF(AO134="","",SUM(AV134:AX134)) -> 89195 | AZ134: =IF(AY134="",0,IF(AY134>=20000,"200",IF(AY134>=15000,"150",IF(AY134>=10000,"100","80")))) -> 200 | BA134: =IF(AO134="","",AQ134-AV134) -> 3660 | BB134: =IF(AO134="","",AR134-AW134) -> 832 | BC134: =IF(AO134="","",AS134-AX134) -> 366 | BD134: =IF(AO134="","",AT134-AY134) -> 4858 | BE134: =IF(AO134="","",AU134-AZ134) -> 0 | BF134: =IF(AO134="","",BD134-BE134) -> 4858 | BH134: =IF(AO134="","",IF(AO134>=BI$130,ROUND(AQ134*BJ$130%,0),"")) -> 19130 | BI134: =IF(AO134="","",IF(AO134>=BI$130,ROUND(AV134*BJ$130%,0),"")) -> 18141 | BJ134: =IF(AO134="","",IF(AN133>=AK$132,AM$144,AL$132)) -> 22.75
V135: 54060-140540 | Y135: 20 | Z135: 34580 | AA135: 35570 | AB135: 36560 | AM135: 4 | AN135: =IF(AU127<=AP$120,AU127,"") | AO135: =AN134 | AQ135: =IF(AO135="","",IF(AO135=AU126,AP$130,"")) | AR135: =IF(AO135="","",IF(AN134=AK$132,ROUND(AQ135*AM$144%,0),AR134)) | AS135: =IF(AO135="","",ROUND(AQ135*AJ$128/100,0)) | AT135: =IF(AO135="","",SUM(AQ135:AS135)) | AU135: =IF(AT135="",0,IF(AT135>=20000,"200",IF(AT135>=15000,"150",""))) -> 0 | AV135: =IF(AO135="","",IF(AO135=AU126,AQ$130,"")) | AW135: =IF(AO135="","",IF(AN134=AK$132,ROUND(AV135*AM$144%,0),AW134)) | AX135: =IF(AO135="","",ROUND(AV135*AJ$128/100,0)) | AY135: =IF(AO135="","",SUM(AV135:AX135)) | AZ135: =IF(AY135="",0,IF(AY135>=20000,"200",IF(AY135>=15000,"150",IF(AY135>=10000,"100","80")))) -> 0 | BA135: =IF(AO135="","",AQ135-AV135) | BB135: =IF(AO135="","",AR135-AW135) | BC135: =IF(AO135="","",AS135-AX135) | BD135: =IF(AO135="","",AT135-AY135) | BE135: =IF(AO135="","",AU135-AZ135) | BF135: =IF(AO135="","",BD135-BE135) | BH135: =IF(AO135="","",IF(AO135>=BI$130,ROUND(AQ135*BJ$130%,0),"")) | BI135: =IF(AO135="","",IF(AO135>=BI$130,ROUND(AV135*BJ$130%,0),"")) | BJ135: =IF(AO135="","",IF(AN134>=AK$132,AM$144,AL$132))
V136: 57100-147760 | Y136: 21 | Z136: 35570 | AA136: 36560 | AB136: 37640 | AM136: 5 | AN136: =IF(AU128<=AP$120,AU128,"") | AO136: =AN135 | AQ136: =IF(AO136="","",IF(AO136=AU127,AP$130,"")) | AR136: =IF(AO136="","",IF(AN135=AK$132,ROUND(AQ136*AM$144%,0),AR135)) | AS136: =IF(AO136="","",ROUND(AQ136*AJ$128/100,0)) | AT136: =IF(AO136="","",SUM(AQ136:AS136)) | AU136: =IF(AT136="",0,IF(AT136>=20000,"200",IF(AT136>=15000,"150",""))) -> 0 | AV136: =IF(AO136="","",IF(AO136=AU127,AQ$130,"")) | AW136: =IF(AO136="","",IF(AN135=AK$132,ROUND(AV136*AM$144%,0),AW135)) | AX136: =IF(AO136="","",ROUND(AV136*AJ$128/100,0)) | AY136: =IF(AO136="","",SUM(AV136:AX136)) | AZ136: =IF(AY136="",0,IF(AY136>=20000,"200",IF(AY136>=15000,"150",IF(AY136>=10000,"100","80")))) -> 0 | BA136: =IF(AO136="","",AQ136-AV136) | BB136: =IF(AO136="","",AR136-AW136) | BC136: =IF(AO136="","",AS136-AX136) | BD136: =IF(AO136="","",AT136-AY136) | BE136: =IF(AO136="","",AU136-AZ136) | BF136: =IF(AO136="","",BD136-BE136) | BH136: =IF(AO136="","",IF(AO136>=BI$130,ROUND(AQ136*BJ$130%,0),"")) | BI136: =IF(AO136="","",IF(AO136>=BI$130,ROUND(AV136*BJ$130%,0),"")) | BJ136: =IF(AO136="","",IF(AN135>=AK$132,AM$144,AL$132))
V137: 61960- 151370 | Y137: 22 | Z137: 36560 | AA137: 37640 | AB137: 38720 | AM137: 6 | AN137: =IF(AU129<=AP$120,AU129,"") | AO137: =AN136 | AQ137: =IF(AO137="","",IF(AO137=AU128,AP$130,"")) | AR137: =IF(AO137="","",IF(AN136=AK$132,ROUND(AQ137*AM$144%,0),AR136)) | AS137: =IF(AO137="","",ROUND(AQ137*AJ$128/100,0)) | AT137: =IF(AO137="","",SUM(AQ137:AS137)) | AU137: =IF(AT137="",0,IF(AT137>=20000,"200",IF(AT137>=15000,"150",""))) -> 0 | AV137: =IF(AO137="","",IF(AO137=AU128,AQ$130,"")) | AW137: =IF(AO137="","",IF(AN136=AK$132,ROUND(AV137*AM$144%,0),AW136)) | AX137: =IF(AO137="","",ROUND(AV137*AJ$128/100,0)) | AY137: =IF(AO137="","",SUM(AV137:AX137)) | AZ137: =IF(AY137="",0,IF(AY137>=20000,"200",IF(AY137>=15000,"150",IF(AY137>=10000,"100","80")))) -> 0 | BA137: =IF(AO137="","",AQ137-AV137) | BB137: =IF(AO137="","",AR137-AW137) | BC137: =IF(AO137="","",AS137-AX137) | BD137: =IF(AO137="","",AT137-AY137) | BE137: =IF(AO137="","",AU137-AZ137) | BF137: =IF(AO137="","",BD137-BE137) | BH137: =IF(AO137="","",IF(AO137>=BI$130,ROUND(AQ137*BJ$130%,0),"")) | BI137: =IF(AO137="","",IF(AO137>=BI$130,ROUND(AV137*BJ$130%,0),"")) | BJ137: =IF(AO137="","",IF(AN136>=AK$132,AM$144,AL$132))
V138: 65360-151370 | Y138: 23 | Z138: 37640 | AA138: 38720 | AB138: 39800 | AJ138: 1 | AM138: 7 | AN138: =IF(AU130<=AP$120,AU130,"") | AO138: =AN137 | AQ138: =IF(AO138="","",IF(AO138=AU129,AP$130,"")) | AR138: =IF(AO138="","",IF(AN137=AK$132,ROUND(AQ138*AM$144%,0),AR137)) | AS138: =IF(AO138="","",ROUND(AQ138*AJ$128/100,0)) | AT138: =IF(AO138="","",SUM(AQ138:AS138)) | AU138: =IF(AT138="",0,IF(AT138>=20000,"200",IF(AT138>=15000,"150",""))) -> 0 | AV138: =IF(AO138="","",IF(AO138=AU129,AQ$130,"")) | AW138: =IF(AO138="","",IF(AN137=AK$132,ROUND(AV138*AM$144%,0),AW137)) | AX138: =IF(AO138="","",ROUND(AV138*AJ$128/100,0)) | AY138: =IF(AO138="","",SUM(AV138:AX138)) | AZ138: =IF(AY138="",0,IF(AY138>=20000,"200",IF(AY138>=15000,"150",IF(AY138>=10000,"100","80")))) -> 0 | BA138: =IF(AO138="","",AQ138-AV138) | BB138: =IF(AO138="","",AR138-AW138) | BC138: =IF(AO138="","",AS138-AX138) | BD138: =IF(AO138="","",AT138-AY138) | BE138: =IF(AO138="","",AU138-AZ138) | BF138: =IF(AO138="","",BD138-BE138) | BH138: =IF(AO138="","",IF(AO138>=BI$130,ROUND(AQ138*BJ$130%,0),"")) | BI138: =IF(AO138="","",IF(AO138>=BI$130,ROUND(AV138*BJ$130%,0),"")) | BJ138: =IF(AO138="","",IF(AN137>=AK$132,AM$144,AL$132))
V139: 70850-158880 | Y139: 24 | Z139: 38720 | AA139: 39800 | AB139: 40970 | AJ139: =INT(AJ140/10) -> 0 | AK139: =INT(AJ140)-(AJ139*10) -> 8 | AM139: 8 | AN139: No Change | AO139: =AN138 | AQ139: =IF(AO139="","",IF(AO139=AU130,AP$130,"")) | AR139: =IF(AO139="","",IF(AN138=AK$132,ROUND(AQ139*AM$144%,0),AR138)) | AS139: =IF(AO139="","",ROUND(AQ139*AJ$128/100,0)) | AT139: =IF(AO139="","",SUM(AQ139:AS139)) | AU139: =IF(AT139="",0,IF(AT139>=20000,"200",IF(AT139>=15000,"150",""))) -> 0 | AV139: =IF(AO139="","",IF(AO139=AU130,AQ$130,"")) | AW139: =IF(AO139="","",IF(AN138=AK$132,ROUND(AV139*AM$144%,0),AW138)) | AX139: =IF(AO139="","",ROUND(AV139*AJ$128/100,0)) | AY139: =IF(AO139="","",SUM(AV139:AX139)) | AZ139: =IF(AY139="",0,IF(AY139>=20000,"200",IF(AY139>=15000,"150",IF(AY139>=10000,"100","80")))) -> 0 | BA139: =IF(AO139="","",AQ139-AV139) | BB139: =IF(AO139="","",AR139-AW139) | BC139: =IF(AO139="","",AS139-AX139) | BD139: =IF(AO139="","",AT139-AY139) | BE139: =IF(AO139="","",AU139-AZ139) | BF139: =IF(AO139="","",BD139-BE139) | BJ139: =IF(AO139="","",IF(AN138>=AK$132,AM$144,AL$132))
V140: 76730-162780 | Y140: 25 | Z140: 39800 | AA140: 40970 | AB140: 42140 | AH140: Bill month | AI140: =J32 -> 45148 | AJ140: =MONTH(AI140) -> 8 | AK140: =YEAR(AI140) -> 2023 | AL140: =AK140-2000 -> 23 | AM140: =INT(AL140/10) -> 2 | AN140: =INT(AL140)-(AM140*10) -> 3 | BJ140: =IF(AO140="","",IF(AN139<=AK$132,AM$144,AL$132))
V141: 80910-166680 | Y141: 26 | Z141: 40970 | AA141: 42140 | AB141: 43310 | AI141: 3 | AQ141: =SUBTOTAL(9,AQ132:AQ139) -> 191295 | AR141: =SUBTOTAL(9,AR132:AR139) -> 40231 | AS141: =SUBTOTAL(9,AS132:AS139) -> 19130 | AT141: =SUBTOTAL(9,AT132:AT139) -> 250656 | AU141: =AU132+AU133+AU134+AU135+AU136+AU137+AU138+AU139 -> 600 | AV141: =SUBTOTAL(9,AV132:AV139) -> 181413 | AW141: =SUBTOTAL(9,AW132:AW139) -> 38153 | AX141: =SUBTOTAL(9,AX132:AX139) -> 18141 | AY141: =SUBTOTAL(9,AY132:AY139) -> 237707 | AZ141: =AZ132+AZ133+AZ134+AZ135+AZ136+AZ137+AZ138+AZ139 -> 600 | BA141: =SUBTOTAL(9,BA132:BA139) -> 9882 | BB141: =SUBTOTAL(9,BB132:BB139) -> 2078 | BC141: =SUBTOTAL(9,BC132:BC139) -> 989 | BD141: =SUBTOTAL(9,BD132:BD139) -> 12949 | BE141: =SUBTOTAL(9,BE132:BE139) -> 0 | BF141: =SUBTOTAL(9,BF132:BF139) -> 12949
V142: 87480-170580 | Y142: 27 | Z142: 42140 | AA142: 43310 | AB142: 44570
V143: 94500- 170580 | Y143: 28 | Z143: 43310 | AA143: 44570 | AB143: 45830 | AK143: =F34 -> B.Sc, B.Ed | AR143: =AJ202 -> Secondary Grade Teacher
V144: 101970-174790 | Y144: 29 | Z144: 44570 | AA144: 45830 | AB144: 47090 | AK144: =I14 -> School Assistant (Bio.Science) | AM144: =M31 -> 22.75 | AN144: 8 | AR144: =AJ203 -> School Assistant (Bio.Science)
V145: 112610-174790 | Y145: 30 | Z145: 45830 | AA145: 47090 | AB145: 48440 | AN145: =VLOOKUP(AN144,AM132:AN139,2,FALSE) -> No Change | AR145: =AJ200 -> MP UP Schhol
V146: 124380- 179000 | Y146: 31 | Z146: 47090 | AA146: 48440 | AB146: 49790 | AR146: =AJ201 -> ZP High School
V147: 133900-179000 | Y147: 32 | Z147: 48440 | AA147: 49790 | AB147: 51140 | AR147: =AH245 -> Promotion Date fixation
Y148: 33 | Z148: 49790 | AA148: 51140 | AB148: 52600 | AR148: =X183 -> 67190
Y149: 34 | Z149: 51140 | AA149: 52600 | AB149: 54060 | AR149: =AG212 -> Feb
Y150: 35 | Z150: 52600 | AA150: 54060 | AB150: 55520
Y151: 36 | Z151: 54060 | AA151: 55520 | AB151: 57100 | AR151: =AK123 -> 44570- 127480
Y152: 37 | Z152: 55520 | AA152: 57100 | AB152: 58680 | AR152: =AJ199 -> Headmaster
Y153: 38 | Z153: 57100 | AA153: 58680 | AB153: 60260 | AR153: =AJ212 -> 0
Y154: 39 | Z154: 58680 | AA154: 60260 | AB154: 61960
Y155: 40 | Z155: 60260 | AA155: 61960 | AB155: 63660 | AI155: =IF(AI157=0," ",IF(AI157=1,"One Lakh",CONCATENATE(AI156," ",AI158))) | AJ155: =IF(AJ157=0," ",IF(AJ157=1,"One Thousand",CONCATENATE(AJ156," ",AJ158))) | AK155: =IF(AK157=0," ",IF(AK157=1,"One Hundred",CONCATENATE(AK156," ",AK158))) | AL155: =IF(AL157=0," ",IF(AND(AI157=0,AJ157=0,AK157=0),AL156,CONCATENATE("and"," ",AL156))) | AU155: =IF(DATA!F18=DATA!AH226,DATA!AZ209,DATA!AZ183) -> 10/06/2023
Y156: 41 | Z156: 61960 | AA156: 63660 | AB156: 65360 | AI156: =HLOOKUP(AI157,AO164:EI165,2,TRUE) -> #N/A | AJ156: =HLOOKUP(AJ157,AO164:EI165,2,TRUE) -> #N/A | AK156: =HLOOKUP(AK157,AO164:EI165,2,TRUE) -> #N/A | AL156: =HLOOKUP(AL157,AO164:EI165,2,TRUE) -> #N/A
Y157: 42 | Z157: 63660 | AA157: 65360 | AB157: 67190 | AI157: =INT(AI159/100000) -> 0 | AJ157: =INT(AI159/1000)-(AI157*100) -> 0 | AK157: =INT(AI159/100)-(AI157*1000)-(AJ157*10) -> 0 | AL157: =AI159-(AI157*100000)-(AJ157*1000)-(AK157*100) -> 0
Y158: 43 | Z158: 65360 | AA158: 67190 | AB158: 69020 | AI158: Lakhs | AJ158: Thousands | AK158: Hundred
Y159: 44 | Z159: 67190 | AA159: 69020 | AB159: 70850 | AI159: =[1]Bill!AA13 -> 0 | AJ159: =IF(AI159=0,"Zero",CONCATENATE(AI155," ",AJ155," ",AK155," ",AL155," rupees only")) -> Zero
Y160: 45 | Z160: 69020 | AA160: 70850 | AB160: 72810 | AJ160: =CONCATENATE(AJ159," rupees only") -> Zero rupees only
Y161: 46 | Z161: 70850 | AA161: 72810 | AB161: 74770
Y162: 47 | Z162: 72810 | AA162: 74770 | AB162: 76730
Y163: 48 | Z163: 74770 | AA163: 76730 | AB163: 78820
Y164: 49 | Z164: 76730 | AA164: 78820 | AB164: 80910 | AI164: =IF(AI166=0," ",IF(AI166=1,"One Lakh",CONCATENATE(AI165," ",AI167))) | AJ164: =IF(AJ166=0," ",IF(AJ166=1,"One Thousand",CONCATENATE(AJ165," ",AJ167))) -> Eleven Thousands | AK164: =IF(AK166=0," ",IF(AK166=1,"One Hundred",CONCATENATE(AK165," ",AK167))) -> Seven Hundred | AL164: =IF(AL166=0," ",IF(AND(AI166=0,AJ166=0,AK166=0),AL165,CONCATENATE("and"," ",AL165))) -> and Fifty Three | AO164: 1 | AP164: 2 | AQ164: 3 | AR164: 4 | AS164: 5 | AT164: 6 | AU164: 7 | AV164: 8 | AW164: 9 | AX164: 10 | AY164: 11 | AZ164: 12 | BA164: 13 | BB164: 14 | BC164: 15 | BD164: 16 | BE164: 17 | BF164: 18 | BG164: 19 | BH164: 20 | BI164: 21 | BJ164: 22 | BK164: 23 | BL164: 24 | BM164: 25 | BN164: 26 | BO164: 27 | BP164: 28 | BQ164: 29 | BR164: 30 | BS164: 31 | BT164: 32 | BU164: 33 | BV164: 34 | BW164: 35 | BX164: 36 | BY164: 37 | BZ164: 38 | CA164: 39 | CB164: 40 | CC164: 41 | CD164: 42 | CE164: 43 | CF164: 44 | CG164: 45 | CH164: 46 | CI164: 47 | CJ164: 48 | CK164: 49 | CL164: 50 | CM164: 51 | CN164: 52 | CO164: 53 | CP164: 54 | CQ164: 55 | CR164: 56 | CS164: 57 | CT164: 58 | CU164: 59 | CV164: 60 | CW164: 61 | CX164: 62 | CY164: 63 | CZ164: 64 | DA164: 65 | DB164: 66 | DC164: 67 | DD164: 68 | DE164: 69 | DF164: 70 | DG164: 71 | DH164: 72 | DI164: 73 | DJ164: 74 | DK164: 75 | DL164: 76 | DM164: 77 | DN164: 78 | DO164: 79 | DP164: 80 | DQ164: 81 | DR164: 82 | DS164: 83 | DT164: 84 | DU164: 85 | DV164: 86 | DW164: 87 | DX164: 88 | DY164: 89 | DZ164: 90 | EA164: 91 | EB164: 92 | EC164: 93 | ED164: 94 | EE164: 95 | EF164: 96 | EG164: 97 | EH164: 98 | EI164: 99
Y165: 50 | Z165: 78820 | AA165: 80910 | AB165: 83000 | AI165: =HLOOKUP(AI166,AO164:EI165,2,TRUE) -> #N/A | AJ165: =HLOOKUP(AJ166,AO164:EI165,2,TRUE) -> Eleven | AK165: =HLOOKUP(AK166,AO164:EI165,2,TRUE) -> Seven | AL165: =HLOOKUP(AL166,AO164:EI165,2,TRUE) -> Fifty Three | AO165: One | AP165: Two | AQ165: Three | AR165: Four | AS165: Five | AT165: Six | AU165: Seven | AV165: Eight | AW165: Nine | AX165: Ten | AY165: Eleven | AZ165: Twelve | BA165: Thirteen | BB165: Fourteen | BC165: Fifteen | BD165: Sixteen | BE165: Seventeen | BF165: Eighteen | BG165: Nineteen | BH165: Twenty | BI165: Twenty One | BJ165: Twenty Two | BK165: Twenty Three | BL165: Twenty Four | BM165: Twenty Five | BN165: Twenty Six | BO165: Twenty Seven | BP165: Twenty Eight | BQ165: Twenty Nine | BR165: Thirty | BS165: Thirty One | BT165: Thirty Two | BU165: Thirty Three | BV165: Thirty Four | BW165: Thirty Five | BX165: Thirty Six | BY165: Thirty Seven | BZ165: Thirty Eight | CA165: Thirty Nine | CB165: Fourty | CC165: Fourty One | CD165: Fourty Two | CE165: Fourty Three | CF165: Fourty Four | CG165: Fourty Five | CH165: Fourty Six | CI165: Fourty Seven | CJ165: Fourty Eight | CK165: Fourty Nine | CL165: Fifty | CM165: Fifty One | CN165: Fifty Two | CO165: Fifty Three | CP165: Fifty Four | CQ165: Fifty Five | CR165: Fifty Six | CS165: Fifty Seven | CT165: Fifty Eight | CU165: Fifty Nine | CV165: Sixty | CW165: Sixty One | CX165: Sixty Two | CY165: Sixty Three | CZ165: Sixty Four | DA165: Sixty Five | DB165: Sixty Six | DC165: Sixty Seven | DD165: Sixty Eight | DE165: Sixty Nine | DF165: Seventy | DG165: Seventy One | DH165: Seventy Two | DI165: Seventy Three | DJ165: Seventy Four | DK165: Seventy Five | DL165: Seventy Six | DM165: Seventy Seven | DN165: Seventy Eight | DO165: Seventy Nine | DP165: Eighty | DQ165: Eighty One | DR165: Eighty Two | DS165: Eighty Three | DT165: Eighty Four | DU165: Eighty Five | DV165: Eighty Six | DW165: Eighty Seven | DX165: Eighty Eight | DY165: Eighty Nine | DZ165: Ninty | EA165: Ninty One | EB165: Ninty Two | EC165: Ninty Three | ED165: Ninty Four | EE165: Ninty Five | EF165: Ninty Six | EG165: Ninty Seven | EH165: Ninty Eight | EI165: Ninty Nine
Y166: 51 | Z166: 80910 | AA166: 83000 | AB166: 85240 | AI166: =INT(AI168/100000) -> 0 | AJ166: =INT(AI168/1000)-(AI166*100) -> 11 | AK166: =INT(AI168/100)-(AI166*1000)-(AJ166*10) -> 7 | AL166: =AI168-(AI166*100000)-(AJ166*1000)-(AK166*100) -> 53
Y167: 52 | Z167: 83000 | AA167: 85240 | AB167: 87480 | AI167: Lakhs | AJ167: Thousands | AK167: Hundred
Y168: 53 | Z168: 85240 | AA168: 87480 | AB168: 89720 | AI168: =Bill!Q13 -> 11753 | AJ168: =IF(AI168=0,"Zero",CONCATENATE(AI164," ",AJ164," ",AK164," ",AL164," rupees only")) -> Eleven Thousands Seven Hundred and Fifty Three rupees only
Y169: 54 | Z169: 87480 | AA169: 89720 | AB169: 92110
Y170: 55 | Z170: 89720 | AA170: 92110 | AB170: 94500 | AI170: =IF(AI172=0," ",IF(AI172=1,"One Lakh",CONCATENATE(AI171," ",AI173))) | AJ170: =IF(AJ172=0," ",IF(AJ172=1,"One Thousand",CONCATENATE(AJ171," ",AJ173))) -> Eleven Thousands | AK170: =IF(AK172=0," ",IF(AK172=1,"One Hundred",CONCATENATE(AK171," ",AK173))) -> Seven Hundred | AL170: =IF(AL172=0," ",IF(AND(AI172=0,AJ172=0,AK172=0),AL171,CONCATENATE("and"," ",AL171))) -> and Fifty Four
Y171: 56 | Z171: 92110 | AA171: 94500 | AB171: 96890 | AI171: =HLOOKUP(AI172,AO164:EI165,2,TRUE) -> #N/A | AJ171: =HLOOKUP(AJ172,AO164:EI165,2,TRUE) -> Eleven | AK171: =HLOOKUP(AK172,AO164:EI165,2,TRUE) -> Seven | AL171: =HLOOKUP(AL172,AO164:EI165,2,TRUE) -> Fifty Four
...

Sheet Proceeding
B2: =CONCATENATE("Proceedings of the ",DATA!F30,", ",DATA!F32,", ",DATA!F33," ( Mandal )") -> Proceedings of the Headmaster, ZP High School, Jonnagiri, Tuggali ( Mandal )
B3: =CONCATENATE("Present :-",DATA!AJ224,DATA!F31,", ",DATA!F34,".") -> Present :-Sri.K Ramanjaneyulu, B.Sc, B.Ed.
B4: Rc.No: | C4: =DATA!D27 -> 02/Pro/ 2023 | I4: Date: | K4: =DATA!G27 -> 45139
B6: Sub: | C6: =CONCATENATE("Secondary Education-",DATA!AI224,DATA!F8," Promoted as ",DATA!AR144," - "," Fixation of Pay in the Promotion post - Orders - Issued .") -> Secondary Education-Smt.A Venkatesh Promoted as School Assistant (Bio.Science) - Fixation of Pay in the Promotion post - Orders - Issued .
B9: Ref: | C9: 1. G.O.Ms.No .01, Finance ( HRM.V-PC) Dept.Dt. 17-01-2022
C10: 2. G.O.Ms No.40 dated 07-05-2002
C11: 3 | D11: =CONCATENATE(DATA!F25,", ",DATA!F24) -> Rc. No. 8491/A6-BIO-SCT-I-TM/2023, D.E.O, Kurnool
C12: 4. Option given by the concerned.
B14: *****************
B15: ORDER:
C17: =DATA!BO244 -> In accordance with the 4th cited above Smt. A Venkatesh Formerly Secondary Grade Teacher working in MP UP Schhol, Dharmavaram, Dhone (Mandal) has been Promoted to School Assistant (Bio.Science) and posted to ZP High School, Jonnagiri, Tuggali, ( Mandal) and repoted to his duties on the F.N of 10/06/2023.
C21: =DATA!BO249 -> Smt. A Venkatesh, Promoted as School Assistant (Bio.Science) from the cadre of Secondary Grade Teacher post and he/she is drawing the pay of Rs.67190 in the scale of pay 44570- 127480 . Accordingly her fixed at Rs. 70850 w.e.f. 10/06/2023 in the present cadre under FR22(B).
D25: =DATA!BO253 -> Fixation of pay under FR22(b) is shown as detailed below.
C27: 1 | D27: =DATA!AQ176 -> Date of Promotion as School Assistant (Bio.Science) | I27: : | J27: =DATA!AX176 -> 10/06/2023
C28: 2 | D28: =DATA!AZ231 -> Date of option exercised to fix pay Under FR22(B) in the higher cadre | I28: : | J28: =DATA!AZ235 -> 10/06/2023 Date of Promotion
C29: 3 | D29: =DATA!BA177 -> Existing Pay / Scale of Pay on promotion date | I29: : | J29: =DATA!BA178 -> 67190 / 44570- 127480
C30: 4 | D30: =DATA!BA181 -> The Pay Scale allowed to promotion post | I30: : | J30: =DATA!BA182 -> 44570- 127480
C31: 5 | D31: =DATA!BA179 -> Existing Pay as on 10/06/2023 in the Secondary Grade Teacher Post in the Scale of 44570- 127480 | I31: : | J31: =DATA!BA180 -> 67190
C32: 6 | D32: =DATA!AZ203 -> Pay fixed in the School Assistant (Bio.Science) Post under F.R. 22(B) w.e.f. 10/06/2023 in Scale of 44570- 127480 | I32: : | J32: =DATA!AZ205 -> 70850
C33: 7 | D33: =IF(DATA!F18=DATA!AH226,DATA!AZ208, DATA!AQ183) -> Monitory benefit with effect from | I33: : | J33: =DATA!AK243 -> 10/06/2023
C34: =IF(DATA!F18=DATA!AH226,8,"") | D34: =IF(DATA!F18=DATA!AH226,DATA!AQ183,"") | I34: =IF(DATA!F18=DATA!AH226,":",IF(DATA!F18=DATA!AH227,"","")) | J34: =IF(DATA!F18=DATA!AH226,DATA!AZ183,"")
D36: =DATA!AQ212 -> Date of Next Annual Grade Increment | I36: : | J36: =DATA!AX119 -> 45689
C38: =DATA!AM260 -> Certified that necessary entries were made in the Service Register of the individual. The individual is informed that if any excess amount paid due to erroneous sanction noticed during the course of audit such amount shall be recovered in lump sum from her pay bills without any prior notice.
B43: Copy to:
B44: The Individual Concern. | H44: =DATA!F30 -> Headmaster
B45: The STO Office | H45: =DATA!F32 -> ZP High School, Jonnagiri
B46: Developed by : C.Ramanjaneyulu,S.A(P.S) : www.teacherNews.in

Sheet Bill
B2: =CONCATENATE( " Promotion fixation Arrers of ",DATA!AI224," ",DATA!F8," ,",DATA!I14," ,",DATA!AR146," , ",DATA!I16,", ",DATA!I17," ( Mandal ) ") -> Promotion fixation Arrers of Smt. A Venkatesh ,School Assistant (Bio.Science) ,ZP High School , Jonnagiri, Tuggali ( Mandal )
B4: S.No. | C4: Month & Year | D4: To be drawn | H4: Already drawn | L4: Differance | P4: CPS Deduction | Q4: Net payable | R4: HRA % | S4: DA %
D5: Basic Pay | E5: D.A | F5: H.R.A | G5: Total | H5: Basic Pay | I5: D.A | J5: H.R.A | K5: Total | L5: Basic Pay | M5: D.A | N5: H.R.A | O5: Total | U5: Select '1' Hide Emty Cells
B6: 1 | C6: =IF(DATA!AH243=DATA!AH245,DATA!AO132,(CONCATENATE(DATA!AO132," ",DATA!AK121))) -> 10 - 30/06/2023 21 Days | D6: =DATA!AQ132 -> 49595 | E6: =DATA!AR132 -> 9929 | F6: =DATA!AS132 -> 4960 | G6: =SUM(D6:F6) -> 64484 | H6: =DATA!AV132 -> 47033 | I6: =DATA!AW132 -> 9416 | J6: =DATA!AX132 -> 4703 | K6: =SUM(H6:J6) -> 61152 | L6: =D6-H6 -> 2562 | M6: =E6-I6 -> 513 | N6: =F6-J6 -> 257 | O6: =SUM(L6:N6) -> 3332 | P6: =IF(C6="","",IF(DATA!AZ$127=2,Bill!Y6,0)) -> 308 | Q6: =IF(C6="","",O6-Z6) -> 3024 | R6: =IF(D6="","",DATA!AJ$128) -> 10 | S6: =DATA!BJ132 -> 20.02 | T6: 1 | X6: =(L6+M6) -> 3075 | Y6: =ROUND(X6*10%,0) -> 308 | Z6: =P6 -> 308
B7: 2 | C7: =DATA!AO133 -> 45117 | D7: =DATA!AQ133 -> 70850 | E7: =DATA!AR133 -> 14184 | F7: =DATA!AS133 -> 7085 | G7: =IF(C7="","",SUM(D7:F7)) -> 92119 | H7: =DATA!AV133 -> 67190 | I7: =DATA!AW133 -> 13451 | J7: =DATA!AX133 -> 6719 | K7: =IF(C7="","",SUM(H7:J7)) -> 87360 | L7: =DATA!BA133 -> 3660 | M7: =DATA!BB133 -> 733 | N7: =DATA!BC133 -> 366 | O7: =IF(C7="","",SUM(L7:N7)) -> 4759 | P7: =IF(C7="","",IF(DATA!AZ$127=2,Bill!Y7,0)) -> 439 | Q7: =IF(C7="","",O7-Z7) -> 4320 | R7: =IF(D7="","",DATA!AJ$128) -> 10 | S7: =DATA!BJ133 -> 20.02 | T7: =IF(Q7="",0,1) -> 1 | X7: =(L7+M7) -> 4393 | Y7: =ROUND(X7*10%,0) -> 439 | Z7: =P7 -> 439
B8: 3 | C8: =DATA!AO134 -> 45148 | D8: =DATA!AQ134 -> 70850 | E8: =DATA!AR134 -> 16118 | F8: =DATA!AS134 -> 7085 | G8: =IF(C8="","",SUM(D8:F8)) -> 94053 | H8: =DATA!AV134 -> 67190 | I8: =DATA!AW134 -> 15286 | J8: =DATA!AX134 -> 6719 | K8: =IF(C8="","",SUM(H8:J8)) -> 89195 | L8: =DATA!BA134 -> 3660 | M8: =DATA!BB134 -> 832 | N8: =DATA!BC134 -> 366 | O8: =IF(C8="","",SUM(L8:N8)) -> 4858 | P8: =IF(C8="","",IF(DATA!AZ$127=2,Bill!Y8,0)) -> 449 | Q8: =IF(C8="","",O8-Z8) -> 4409 | R8: =IF(D8="","",DATA!AJ$128) -> 10 | S8: =DATA!BJ134 -> 22.75 | T8: =IF(Q8="",0,1) -> 1 | X8: =(L8+M8) -> 4492 | Y8: =ROUND(X8*10%,0) -> 449 | Z8: =P8 -> 449
B9: 4 | C9: =DATA!AO135 | D9: =DATA!AQ135 | E9: =DATA!AR135 | F9: =DATA!AS135 | G9: =IF(C9="","",SUM(D9:F9)) | H9: =DATA!AV135 | I9: =DATA!AW135 | J9: =DATA!AX135 | K9: =IF(C9="","",SUM(H9:J9)) | L9: =DATA!BA135 | M9: =DATA!BB135 | N9: =DATA!BC135 | O9: =IF(C9="","",SUM(L9:N9)) | P9: =IF(C9="","",IF(DATA!AZ$127=2,Bill!Y9,0)) | Q9: =IF(C9="","",O9-Z9) | R9: =IF(D9="","",DATA!AJ$128) | S9: =DATA!BJ135 | T9: =IF(Q9="",0,1) -> 0 | X9: =(L9+M9) -> #VALUE! | Y9: =ROUND(X9*10%,0) -> #VALUE! | Z9: =P9
B10: 5 | C10: =DATA!AO136 | D10: =DATA!AQ136 | E10: =DATA!AR136 | F10: =DATA!AS136 | G10: =IF(C10="","",SUM(D10:F10)) | H10: =DATA!AV136 | I10: =DATA!AW136 | J10: =DATA!AX136 | K10: =IF(C10="","",SUM(H10:J10)) | L10: =DATA!BA136 | M10: =DATA!BB136 | N10: =DATA!BC136 | O10: =IF(C10="","",SUM(L10:N10)) | P10: =IF(C10="","",IF(DATA!AZ$127=2,Bill!Y10,0)) | Q10: =IF(C10="","",O10-Z10) | R10: =IF(D10="","",DATA!AJ$128) | S10: =DATA!BJ136 | T10: =IF(Q10="",0,1) -> 0 | X10: =(L10+M10) -> #VALUE! | Y10: =ROUND(X10*10%,0) -> #VALUE! | Z10: =P10
B11: 6 | C11: =DATA!AO137 | D11: =DATA!AQ137 | E11: =DATA!AR137 | F11: =DATA!AS137 | G11: =IF(C11="","",SUM(D11:F11)) | H11: =DATA!AV137 | I11: =DATA!AW137 | J11: =DATA!AX137 | K11: =IF(C11="","",SUM(H11:J11)) | L11: =DATA!BA137 | M11: =DATA!BB137 | N11: =DATA!BC137 | O11: =IF(C11="","",SUM(L11:N11)) | P11: =IF(C11="","",IF(DATA!AZ$127=2,Bill!Y11,0)) | Q11: =IF(C11="","",O11-Z11) | R11: =IF(D11="","",DATA!AJ$128) | S11: =DATA!BJ137 | T11: =IF(Q11="",0,1) -> 0 | X11: =(L11+M11) -> #VALUE! | Y11: =ROUND(X11*10%,0) -> #VALUE! | Z11: =P11
B12: 7 | C12: =DATA!AO138 | D12: =DATA!AQ138 | E12: =DATA!AR138 | F12: =DATA!AS138 | G12: =IF(C12="","",SUM(D12:F12)) | H12: =DATA!AV138 | I12: =DATA!AW138 | J12: =DATA!AX138 | K12: =IF(C12="","",SUM(H12:J12)) | L12: =DATA!BA138 | M12: =DATA!BB138 | N12: =DATA!BC138 | O12: =IF(C12="","",SUM(L12:N12)) | P12: =IF(C12="","",IF(DATA!AZ$127=2,Bill!Y12,0)) | Q12: =IF(C12="","",O12-Z12) | R12: =IF(D12="","",DATA!AJ$128) | S12: =DATA!BJ138 | T12: =IF(Q12="",0,1) -> 0 | X12: =(L12+M12) -> #VALUE! | Y12: =ROUND(X12*10%,0) -> #VALUE! | Z12: =P12
B13: TOTAL | D13: =SUM(D6:D12) -> 191295 | E13: =SUM(E6:E12) -> 40231 | F13: =SUM(F6:F12) -> 19130 | G13: =SUM(G6:G12) -> 250656 | H13: =SUM(H6:H12) -> 181413 | I13: =SUM(I6:I12) -> 38153 | J13: =SUM(J6:J12) -> 18141 | K13: =SUM(K6:K12) -> 237707 | ... O13: =SUM(O6:O12) -> 12949 | P13: =IF(DATA!AZ$127=2,Bill!Y13,0) -> 1196 | Q13: =IF(B13="","",O13-Z13) -> 11753 | T13: 1 | X13: =(L13+M13) -> 11960 | Y13: =ROUND(X13*10%,0) -> 1196 | Z13: =P13 -> 1196
E16: =CONCATENATE("Pass Per Rs.",DATA!AI168," (",DATA!AJ168," rypees only ",")") -> Pass Per Rs.11753 ( Eleven Thousands Seven Hundred and Fifty Three rupees only rypees only )
C17: Non-Drawn Certificate:
C18: The Claims made in this bill are not clamed earlier and now same has entered in concerned Pay Bill register to avoid double claim in the future
K20: Signature of the DDO
B24: Developed by : C.Ramanjaneyulu,S.A(P.S) : www.teacherNews.in

Sheet SR Entry
B2: =CONCATENATE("Pay Fixation Under FR 22 A(I) in the Cadre of ", DATA!I14) -> Pay Fixation Under FR 22 A(I) in the Cadre of School Assistant (Bio.Science)
B4: =CONCATENATE(" As per The ",DATA!F30,", ",DATA!F32,",",DATA!F33," (Mandal) Pro Rc No.",DATA!C27,", ",DATA!D27," Dt. ",U38,", the incumbent has been Promoted as ", DATA!I14," from cadre of ", DATA!F14, " and joined in the Promotion Post on ", DATA!AN119,". Accordingly, Pay fixation has been done initially under", DATA!AR147, " Proceeding!on date of joining in the Promotion post wef. ", Proceeding!J33, " vide Proceedings of the Special officer RC.NO :", DATA!D27," Dated: ", DATA!G27, " as detailed given below.") -> As per The Headmaster, ZP High School, Jonnagiri,Tuggali (Mandal) Pro Rc No.Office Proc, 02/Pro/ 2023 Dt. 01/08/2023, the incumbent has been Promoted as School Assistant (Bio.Science) from cadre of Secondary Grade Teacher and joined in the Promotion Post on 10/06/2023. Accordingly, Pay fixation has been done initially underPromotion Date fixation Proceeding!on date of joining in the Promotion post wef. 10/06/2023 vide Proceedings of the Special officer RC.NO :02/Pro/ 2023 Dated: 45139 as detailed given below.
B5: =Proceeding!D25 -> Fixation of pay under FR22(b) is shown as detailed below.
B7: 1 | C7: =Proceeding!D27 -> Date of Promotion as School Assistant (Bio.Science) | J7: =Proceeding!J27 -> 10/06/2023
B8: 2 | C8: =Proceeding!D28 -> Date of option exercised to fix pay Under FR22(B) in the higher cadre | J8: =Proceeding!J28 -> 10/06/2023 Date of Promotion
B9: 3 | C9: =Proceeding!D29 -> Existing Pay / Scale of Pay on promotion date | J9: =Proceeding!J29 -> 67190 / 44570- 127480
B10: 4 | C10: =Proceeding!D30 -> The Pay Scale allowed to promotion post | J10: =Proceeding!J30 -> 44570- 127480
B11: 5 | C11: =Proceeding!D31 -> Existing Pay as on 10/06/2023 in the Secondary Grade Teacher Post in the Scale of 44570- 127480 | J11: =Proceeding!J31 -> 67190
B12: 6 | C12: =Proceeding!D32 -> Pay fixed in the School Assistant (Bio.Science) Post under F.R. 22(B) w.e.f. 10/06/2023 in Scale of 44570- 127480 | J12: =Proceeding!J32 -> 70850
B13: 7 | C13: =Proceeding!D33 -> Monitory benefit with effect from | J13: =Proceeding!J33 -> 10/06/2023
B14: 8 | C14: =Proceeding!D34 | J14: =Proceeding!J34
D16: =Proceeding!D36 -> Date of Next Annual Grade Increment | J16: =Proceeding!J36 -> 45689
U36: =DATA!G27 -> 45139
U38: =TEXT(DATA!G27,"DD/MM/YYYY") -> 01/08/2023
